BEGIN:VCALENDAR
VERSION:2.0
PRODID:-//Eli Broad College of Business | Michigan State University - ECPv6.15.17.1//NONSGML v1.0//EN
CALSCALE:GREGORIAN
METHOD:PUBLISH
X-WR-CALNAME:Eli Broad College of Business | Michigan State University
X-ORIGINAL-URL:https://broad.msu.edu
X-WR-CALDESC:Events for Eli Broad College of Business | Michigan State University
REFRESH-INTERVAL;VALUE=DURATION:PT1H
X-Robots-Tag:noindex
X-PUBLISHED-TTL:PT1H
BEGIN:VTIMEZONE
TZID:America/Detroit
BEGIN:DAYLIGHT
TZOFFSETFROM:-0500
TZOFFSETTO:-0400
TZNAME:EDT
DTSTART:20180311T070000
END:DAYLIGHT
BEGIN:STANDARD
TZOFFSETFROM:-0400
TZOFFSETTO:-0500
TZNAME:EST
DTSTART:20181104T060000
END:STANDARD
BEGIN:DAYLIGHT
TZOFFSETFROM:-0500
TZOFFSETTO:-0400
TZNAME:EDT
DTSTART:20190310T070000
END:DAYLIGHT
BEGIN:STANDARD
TZOFFSETFROM:-0400
TZOFFSETTO:-0500
TZNAME:EST
DTSTART:20191103T060000
END:STANDARD
BEGIN:DAYLIGHT
TZOFFSETFROM:-0500
TZOFFSETTO:-0400
TZNAME:EDT
DTSTART:20200308T070000
END:DAYLIGHT
BEGIN:STANDARD
TZOFFSETFROM:-0400
TZOFFSETTO:-0500
TZNAME:EST
DTSTART:20201101T060000
END:STANDARD
END:VTIMEZONE
BEGIN:VEVENT
DTSTART;VALUE=DATE:20190730
DTEND;VALUE=DATE:20190731
DTSTAMP:20260419T155643
CREATED:20190626T012553Z
LAST-MODIFIED:20190727T115352Z
UID:10002936-1564444800-1564531199@broad.msu.edu
SUMMARY:42nd Annual Michigan Wine Competition
DESCRIPTION:Entry Form Now Available \nCompetition\nThe 42nd Annual Michigan Wine Competition is now accepting entries. The competition and judging will take place on Tuesday\, July 30 and the Gold Medal Reception celebrating winners will be held on Thursday\, August 8 at the Kellogg Hotel & Conference Center. \nThis year the wine competition and reception is a jointly planned and executed venture with Michigan Department of Agriculture & Rural Development (MDARD)\, Michigan Wine Collaborative (MWC)\, Kellogg Hotel & Conference Center; and The School of Hospitality Business at Michigan State University. \nEntry forms are now available\, $55 per wine. Two ways to submit entry form and payment: \n\nMail. If you received an entry form by mail – please complete the entry form\, scan\, and email the completed form to: gramlic3@msu.edu.\nOnline. Visit the online entry form link. A follow up email will be sent to you with a copy of your completed entry form and payment instructions.\n\nEntry forms are due by Friday\, July 5\, 2019. Late entry forms will not be accepted. All wine must be delivered to the Kellogg Center by Friday\, July 12\, 2019. \n  \nCompetition Info Booklet \nJudges Booklet \n\nGold Medal Reception\nCelebrating the Michigan Wine Competition \nA reception will be hosted on Thursday\, August 8\, 2019 at the Kellogg Hotel & Conference Center located on campus of Michigan State University in East Lansing\, Michigan. Taste award-winning Michigan wines and meet the judges and winemakers. Hospitality Business students will plan and execute the competition and reception. The class is working closely with Michigan Wine Collaborative\, Michigan Department of Agriculture & Rural Development (MDARD)\, and the Kellogg Hotel & Conference Center to ensure professional standards for the competition and reception. \n\n4:45 p.m.\, Trophy Presentation with Butlered Sparkling.\n5:00 p.m. – 8 p.m.\, Reception\n\nReception Registration \n  \nEvent Sponsors\n\nMichigan Wine Collaborative\nMichigan Department of Agriculture & Rural Development\nThe School of Hospitality Business at Michigan State University\nKellogg Hotel & Conference Center \n\nWine Competition Contact: Lucretia Mansfield\, gramlic3@msu.edu or 517-884-8129 \nMedia Contact: Ann Bertsch\, bertscha@msu.edu or 517-884-8166 \nPress Coverage: MSU TODAY and The Detroit News.
URL:https://broad.msu.edu/event/42nd-annual-wine-competition/
LOCATION:Kellogg Hotel & Conference Center\, 219 S Harrison Rd\, East Lansing\, MI\, 48824\, United States
CATEGORIES:Hospitality Business
ATTACH;FMTTYPE=image/jpeg:https://broad.msu.edu/app/uploads/2019/06/Wine-Competition-judging.jpg
END:VEVENT
END:VCALENDAR