BEGIN:VCALENDAR
VERSION:2.0
PRODID:-//Eli Broad College of Business | Michigan State University - ECPv6.15.17.1//NONSGML v1.0//EN
CALSCALE:GREGORIAN
METHOD:PUBLISH
X-ORIGINAL-URL:https://broad.msu.edu
X-WR-CALDESC:Events for Eli Broad College of Business | Michigan State University
REFRESH-INTERVAL;VALUE=DURATION:PT1H
X-Robots-Tag:noindex
X-PUBLISHED-TTL:PT1H
BEGIN:VTIMEZONE
TZID:America/Detroit
BEGIN:DAYLIGHT
TZOFFSETFROM:-0500
TZOFFSETTO:-0400
TZNAME:EDT
DTSTART:20180311T070000
END:DAYLIGHT
BEGIN:STANDARD
TZOFFSETFROM:-0400
TZOFFSETTO:-0500
TZNAME:EST
DTSTART:20181104T060000
END:STANDARD
BEGIN:DAYLIGHT
TZOFFSETFROM:-0500
TZOFFSETTO:-0400
TZNAME:EDT
DTSTART:20190310T070000
END:DAYLIGHT
BEGIN:STANDARD
TZOFFSETFROM:-0400
TZOFFSETTO:-0500
TZNAME:EST
DTSTART:20191103T060000
END:STANDARD
BEGIN:DAYLIGHT
TZOFFSETFROM:-0500
TZOFFSETTO:-0400
TZNAME:EDT
DTSTART:20200308T070000
END:DAYLIGHT
BEGIN:STANDARD
TZOFFSETFROM:-0400
TZOFFSETTO:-0500
TZNAME:EST
DTSTART:20201101T060000
END:STANDARD
END:VTIMEZONE
BEGIN:VEVENT
DTSTART;VALUE=DATE:20190916
DTEND;VALUE=DATE:20190921
DTSTAMP:20260422T230203
CREATED:20190222T133546Z
LAST-MODIFIED:20190321T200703Z
UID:10002872-1568592000-1569023999@broad.msu.edu
SUMMARY:Hospitality Business: CMAA Business Management Institute (GM/COO)
DESCRIPTION:Sessions at Kellogg Hotel & Conference Center. Please visit the Club Managers Association of America (CMAA) website for details and registration information. \nThis event is hosted by The School of Hospitality Business.
URL:https://broad.msu.edu/event/hospitality-business-business-management-institute-gm-coo-2/
LOCATION:Kellogg Hotel & Conference Center\, 219 S Harrison Rd\, East Lansing\, MI\, 48824\, United States
CATEGORIES:Hospitality Business
END:VEVENT
BEGIN:VEVENT
DTSTART;TZID=America/Detroit:20190918T113000
DTEND;TZID=America/Detroit:20190918T130000
DTSTAMP:20260422T230203
CREATED:20190909T121336Z
LAST-MODIFIED:20190909T121336Z
UID:10002902-1568806200-1568811600@broad.msu.edu
SUMMARY:Semester in Buenos Aires Information Session
DESCRIPTION:Representatives from IES Abroad will be on-campus to share information about this new\, semester-long opportunity that allows students to earn credit for two Broad College requirements while studying in beautiful Buenos Aires! Come for the pizza\, stay for the conversation. (Held in conjunction with info session for Semester in Shanghai.)
URL:https://broad.msu.edu/event/semester-in-buenos-aires-information-session/
LOCATION:MI\, United States
CATEGORIES:Education Abroad
ORGANIZER;CN="Sarah Singer":MAILTO:singersm@msu.edu
END:VEVENT
BEGIN:VEVENT
DTSTART;TZID=America/Detroit:20190918T113000
DTEND;TZID=America/Detroit:20190918T130000
DTSTAMP:20260422T230203
CREATED:20190909T121510Z
LAST-MODIFIED:20190909T121510Z
UID:10002903-1568806200-1568811600@broad.msu.edu
SUMMARY:Semester in Shanghai Information Session
DESCRIPTION:Representatives from IES Abroad will be on-campus to share information about this new\, semester-long opportunity that allows students to earn credit for two Broad College requirements while studying in vibrant Shanghai! Come for the pizza\, stay for the conversation. (Held in conjunction with info session for Semester in Buenos Aires.)
URL:https://broad.msu.edu/event/semester-in-shanghai-information-session/
LOCATION:MI\, United States
CATEGORIES:Education Abroad
ORGANIZER;CN="Sarah Singer":MAILTO:singersm@msu.edu
END:VEVENT
BEGIN:VEVENT
DTSTART;TZID=America/Detroit:20190918T160000
DTEND;TZID=America/Detroit:20190918T190000
DTSTAMP:20260422T230203
CREATED:20190511T024520Z
LAST-MODIFIED:20190511T024520Z
UID:10002926-1568822400-1568833200@broad.msu.edu
SUMMARY:International Business Student Career Fair
DESCRIPTION:A career fair for International MSU students seeking employment. This event will take place on the Arena floor of the Breslin Center.
URL:https://broad.msu.edu/event/international-business-student-career-fair/
LOCATION:Breslin Student Events Center\, 534 Birch Rd\, East Lansing\, MI\, 48824\, United States
CATEGORIES:Career Management,Recruiting Events
ORGANIZER;CN="Bronti Belanger":MAILTO:belan108@broad.msu.edu
END:VEVENT
BEGIN:VEVENT
DTSTART;TZID=America/Detroit:20190919T153000
DTEND;TZID=America/Detroit:20190919T193000
DTSTAMP:20260422T230203
CREATED:20190511T023649Z
LAST-MODIFIED:20190913T142112Z
UID:10002919-1568907000-1568921400@broad.msu.edu
SUMMARY:Fall Career Days: Careers in Business Fair
DESCRIPTION:The largest business career fair of the year! This is a great opportunity for MSU students to connect with companies looking to hire for internships\, part-time\, and full-time roles.
URL:https://broad.msu.edu/event/fall-career-days-careers-in-business-fair/
LOCATION:Breslin Student Events Center\, 534 Birch Rd\, East Lansing\, MI\, 48824\, United States
CATEGORIES:Career Management,College-wide Events,Featured Events,Recruiting Events,Undergraduate Events
ORGANIZER;CN="Bronti Belanger":MAILTO:belan108@broad.msu.edu
END:VEVENT
BEGIN:VEVENT
DTSTART;TZID=America/Detroit:20190919T170000
DTEND;TZID=America/Detroit:20190919T180000
DTSTAMP:20260422T230203
CREATED:20190822T221230Z
LAST-MODIFIED:20190822T221230Z
UID:10002956-1568912400-1568916000@broad.msu.edu
SUMMARY:Admission Information Session
DESCRIPTION:Information sessions are intended for current MSU students applying for admission to the Broad College of Business this semester. All applicants are strongly encouraged to attend. Topics addressed include: Broad College/major application process\, academic and non-academic admission factors\, resources for completing the experiential profile\, case study tips and explanation of the admission decision process.
URL:https://broad.msu.edu/event/admission-information-session/
LOCATION:Brody Hall\, 241 W Brody Rd\, East Lansing\, MI\, 48825\, United States
CATEGORIES:Admissions Events
ORGANIZER;CN="Undergraduate Academic Services (UAS)":MAILTO:undergrad@broad.msu.edu
END:VEVENT
BEGIN:VEVENT
DTSTART;TZID=America/Detroit:20190920T090000
DTEND;TZID=America/Detroit:20190920T103000
DTSTAMP:20260422T230203
CREATED:20190821T020739Z
LAST-MODIFIED:20190821T020739Z
UID:10002866-1568970000-1568975400@broad.msu.edu
SUMMARY:Patricia & Scott Eston Research Workshop Series - ITM
DESCRIPTION:Chris Forman is joining us from Cornell University in this week’s iteration of the ITM Research Workshop. You can see more information about Chris at https://dyson.cornell.edu/faculty-research/faculty/cmf257/. \nYou can find us in room N125 BCC. No RSVP required. Feel free to drop by if you are interested!
URL:https://broad.msu.edu/event/patricia-scott-eston-research-workshop-series-itm-2/
LOCATION:MI
CATEGORIES:Accounting
ORGANIZER;CN="Katie Trinklein":MAILTO:trinkle4@msu.edu
END:VEVENT
BEGIN:VEVENT
DTSTART;TZID=America/Detroit:20190920T103000
DTEND;TZID=America/Detroit:20190920T113000
DTSTAMP:20260422T230203
CREATED:20190909T121902Z
LAST-MODIFIED:20190909T121902Z
UID:10002904-1568975400-1568979000@broad.msu.edu
SUMMARY:Semester in Florence Information Session
DESCRIPTION:Have you ever ever dreamed of living the Italian life? Stop dreaming and start planning! Stroll the ancient city streets\, work on your Italian\, and live under the Tuscan sun\, all while earning business credits and participating in one of the Broad College’s newest education abroad programs. \nMark your calendar for Friday\, September 20 when two of the program directors from Italy will travel to MSU for an information session about Semester in Florence. Join us at 10:30am in 412 Eppley for coffee\, bagels\, and conversation about this exciting new program.
URL:https://broad.msu.edu/event/semester-in-florence-information-session/
LOCATION:MI\, United States
CATEGORIES:Education Abroad
END:VEVENT
BEGIN:VEVENT
DTSTART;TZID=America/Detroit:20190920T103000
DTEND;TZID=America/Detroit:20190920T120000
DTSTAMP:20260422T230203
CREATED:20190821T015742Z
LAST-MODIFIED:20190821T015742Z
UID:10002946-1568975400-1568980800@broad.msu.edu
SUMMARY:Patricia & Scott Eston Research Workshop Series
DESCRIPTION:Sean Wang is joining us from Southern Methodist University in this week’s iteration of the Accounting Research Workshop. You can see more information about Sean at https://www.smu.edu/cox/Our-People-and-Community/Faculty/Sean-Wang. \nYou can find us in room N125 BCC. No RSVP required. Feel free to drop by if you are interested!
URL:https://broad.msu.edu/event/patricia-scott-eston-research-workshop-series-2/
LOCATION:MI
CATEGORIES:Accounting
ORGANIZER;CN="Katie Trinklein":MAILTO:trinkle4@msu.edu
END:VEVENT
BEGIN:VEVENT
DTSTART;TZID=America/Detroit:20190920T173000
DTEND;TZID=America/Detroit:20190920T200000
DTSTAMP:20260422T230203
CREATED:20190826T155659Z
LAST-MODIFIED:20190826T155659Z
UID:10002967-1569000600-1569009600@broad.msu.edu
SUMMARY:Executive MBA | Program Preview | Troy
DESCRIPTION:Join Greg Janicki\, Director of the Executive MBA Program\, to learn about the program\, meet alumni and current students\, and observe a class. \nAgenda: \n\n5:30pm  |  Dinner with Current Students\, alumni\, and faculty\n6:00pm  |  Short Information Session\n7:30pm  |  Observe Executive MBA Class
URL:https://broad.msu.edu/event/executive-mba-program-preview-troy-5/
LOCATION:Management Education Center\, 811 W Square Lake Rd\, Troy\, MI\, 48098\, United States
CATEGORIES:Executive MBA
ORGANIZER;CN="Sarah Ellis%2C Admissions & Academic Services Manager":MAILTO:sellis@broad.msu.edu
END:VEVENT
BEGIN:VEVENT
DTSTART;TZID=America/Detroit:20190921T100000
DTEND;TZID=America/Detroit:20190921T140000
DTSTAMP:20260422T230203
CREATED:20190822T005548Z
LAST-MODIFIED:20190829T160442Z
UID:10002871-1569060000-1569074400@broad.msu.edu
SUMMARY:Executive MBA | Program Preview | Lansing
DESCRIPTION:The program preview provides an opportunity to observe an Executive MBA class\, attend a short information session with program staff\, and share a meal with current students and faculty. \nAgenda: \n10:00 a.m. | Short Information Session \n11:00 a.m. | Observe Executive MBA Class \n12:00 p.m. | Lunch with Current Students and Faculty
URL:https://broad.msu.edu/event/executive-mba-program-preview-lansing-3/
LOCATION:Henry Center for Executive Development\, 3535 Forest Rd\, East Lansing\, MI\, 48910\, United States
CATEGORIES:Executive MBA
ORGANIZER;CN="Executive MBA Program":MAILTO:sellis@broad.msu.edu
END:VEVENT
END:VCALENDAR