BEGIN:VCALENDAR
VERSION:2.0
PRODID:-//Eli Broad College of Business | Michigan State University - ECPv6.15.17.1//NONSGML v1.0//EN
CALSCALE:GREGORIAN
METHOD:PUBLISH
X-WR-CALNAME:Eli Broad College of Business | Michigan State University
X-ORIGINAL-URL:https://broad.msu.edu
X-WR-CALDESC:Events for Eli Broad College of Business | Michigan State University
REFRESH-INTERVAL;VALUE=DURATION:PT1H
X-Robots-Tag:noindex
X-PUBLISHED-TTL:PT1H
BEGIN:VTIMEZONE
TZID:America/Detroit
BEGIN:DAYLIGHT
TZOFFSETFROM:-0500
TZOFFSETTO:-0400
TZNAME:EDT
DTSTART:20180311T070000
END:DAYLIGHT
BEGIN:STANDARD
TZOFFSETFROM:-0400
TZOFFSETTO:-0500
TZNAME:EST
DTSTART:20181104T060000
END:STANDARD
BEGIN:DAYLIGHT
TZOFFSETFROM:-0500
TZOFFSETTO:-0400
TZNAME:EDT
DTSTART:20190310T070000
END:DAYLIGHT
BEGIN:STANDARD
TZOFFSETFROM:-0400
TZOFFSETTO:-0500
TZNAME:EST
DTSTART:20191103T060000
END:STANDARD
BEGIN:DAYLIGHT
TZOFFSETFROM:-0500
TZOFFSETTO:-0400
TZNAME:EDT
DTSTART:20200308T070000
END:DAYLIGHT
BEGIN:STANDARD
TZOFFSETFROM:-0400
TZOFFSETTO:-0500
TZNAME:EST
DTSTART:20201101T060000
END:STANDARD
END:VTIMEZONE
BEGIN:VEVENT
DTSTART;TZID=America/Detroit:20191015T180000
DTEND;TZID=America/Detroit:20191015T200000
DTSTAMP:20260419T235641
CREATED:20190826T160344Z
LAST-MODIFIED:20190829T160023Z
UID:10002968-1571162400-1571169600@broad.msu.edu
SUMMARY:Executive MBA | Information Session | Livonia
DESCRIPTION:Attend an information session to learn about the Broad Executive MBA Program\, meet alumni\, and ask questions. \nAgenda: \n\nExecutive MBA Program Overview\nQ&A
URL:https://broad.msu.edu/event/executive-mba-information-session-livonia/
LOCATION:Marriott Detroit Livonia\, 17100 Laurel Park Drive North\, Livonia\, MI\, 48152\, United States
CATEGORIES:Executive MBA
ORGANIZER;CN="Sarah Ellis%2C Admissions & Academic Services Manager":MAILTO:sellis@broad.msu.edu
END:VEVENT
BEGIN:VEVENT
DTSTART;TZID=America/Detroit:20191015T183000
DTEND;TZID=America/Detroit:20191015T193000
DTSTAMP:20260419T235641
CREATED:20190822T221448Z
LAST-MODIFIED:20190822T221448Z
UID:10002960-1571164200-1571167800@broad.msu.edu
SUMMARY:Admission Information Session
DESCRIPTION:Information sessions are intended for current MSU students applying for admission to the Broad College of Business this semester. All applicants are strongly encouraged to attend. Topics addressed include: Broad College/major application process\, academic and non-academic admission factors\, resources for completing the experiential profile\, case study tips and explanation of the admission decision process.
URL:https://broad.msu.edu/event/admission-information-session-3/
LOCATION:North Business Building\, 632 Bogue St\, East Lansing\, MI\, 48824\, United States
CATEGORIES:Admissions Events
ORGANIZER;CN="Undergraduate Academic Services (UAS)":MAILTO:undergrad@broad.msu.edu
END:VEVENT
BEGIN:VEVENT
DTSTART;TZID=America/Detroit:20191017T170000
DTEND;TZID=America/Detroit:20191017T203000
DTSTAMP:20260419T235641
CREATED:20190511T024324Z
LAST-MODIFIED:20210219T183242Z
UID:10002924-1571331600-1571344200@broad.msu.edu
SUMMARY:MBA/MS Career Networking Reception
DESCRIPTION:Career Networking Receptions for MSU MBA and MS students.
URL:https://broad.msu.edu/event/full-time-mba-ms-career-networking-reception/
LOCATION:Breslin Student Events Center\, 534 Birch Rd\, East Lansing\, MI\, 48824\, United States
CATEGORIES:Career Management,Full-Time MBA
ORGANIZER;CN="Bronti Belanger":MAILTO:belan108@broad.msu.edu
END:VEVENT
BEGIN:VEVENT
DTSTART;TZID=America/Detroit:20191018T154500
DTEND;TZID=America/Detroit:20191018T164500
DTSTAMP:20260419T235641
CREATED:20190828T041234Z
LAST-MODIFIED:20190828T041234Z
UID:10002970-1571413500-1571417100@broad.msu.edu
SUMMARY:Prospective Undergraduate Student Information Session
DESCRIPTION:The Eli Broad College of Business invites prospective students and families to visit the Business College Complex for a group information session to explore Broad majors\, College and Major admissions\, academic curriculum\, student life\, education abroad\, and services available to Broad students. \nPresentations and tours take place on select Fridays at 3:45 p.m. Prior registration is required.  Fall registration dates will begin on September 2\, 2019 and Spring registration dates will open in November 2019. \nProspective and admitted students who have not yet enrolled should plan to attend this presentation\, as individual advising appointments are reserved for enrolled students. \nRegister now!
URL:https://broad.msu.edu/event/prospective-undergraduate-student-information-session-3/
CATEGORIES:Undergraduate Prospective Student
END:VEVENT
BEGIN:VEVENT
DTSTART;TZID=America/Detroit:20191019T090000
DTEND;TZID=America/Detroit:20191019T130000
DTSTAMP:20260419T235641
CREATED:20190702T001254Z
LAST-MODIFIED:20190702T001254Z
UID:10002937-1571475600-1571490000@broad.msu.edu
SUMMARY:Full-Time MBA Fall 2019 Exploration Program
DESCRIPTION:At Michigan State University’s Full-Time MBA Exploration Program\, admissions officers and current students will provide valuable information on admissions requirements\, academics\, career outcomes\, student life and program rigors to help you determine if our Full-Time MBA program is right for you. \nWe will provide more specific information about location/agenda to those who register. \n*It is required to register for this event using the button below.
URL:https://broad.msu.edu/event/full-time-mba-fall-2019-exploration-program/
LOCATION:North Business Building\, 632 Bogue St\, East Lansing\, MI\, 48824\, United States
CATEGORIES:Full-Time MBA
ORGANIZER;CN="Beth Thomas":MAILTO:thomase@msu.edu
END:VEVENT
END:VCALENDAR