BEGIN:VCALENDAR
VERSION:2.0
PRODID:-//Eli Broad College of Business | Michigan State University - ECPv6.15.17.1//NONSGML v1.0//EN
CALSCALE:GREGORIAN
METHOD:PUBLISH
X-WR-CALNAME:Eli Broad College of Business | Michigan State University
X-ORIGINAL-URL:https://broad.msu.edu
X-WR-CALDESC:Events for Eli Broad College of Business | Michigan State University
REFRESH-INTERVAL;VALUE=DURATION:PT1H
X-Robots-Tag:noindex
X-PUBLISHED-TTL:PT1H
BEGIN:VTIMEZONE
TZID:America/Detroit
BEGIN:DAYLIGHT
TZOFFSETFROM:-0500
TZOFFSETTO:-0400
TZNAME:EDT
DTSTART:20180311T070000
END:DAYLIGHT
BEGIN:STANDARD
TZOFFSETFROM:-0400
TZOFFSETTO:-0500
TZNAME:EST
DTSTART:20181104T060000
END:STANDARD
BEGIN:DAYLIGHT
TZOFFSETFROM:-0500
TZOFFSETTO:-0400
TZNAME:EDT
DTSTART:20190310T070000
END:DAYLIGHT
BEGIN:STANDARD
TZOFFSETFROM:-0400
TZOFFSETTO:-0500
TZNAME:EST
DTSTART:20191103T060000
END:STANDARD
BEGIN:DAYLIGHT
TZOFFSETFROM:-0500
TZOFFSETTO:-0400
TZNAME:EDT
DTSTART:20200308T070000
END:DAYLIGHT
BEGIN:STANDARD
TZOFFSETFROM:-0400
TZOFFSETTO:-0500
TZNAME:EST
DTSTART:20201101T060000
END:STANDARD
END:VTIMEZONE
BEGIN:VEVENT
DTSTART;TZID=America/Detroit:20191111T150000
DTEND;TZID=America/Detroit:20191111T173000
DTSTAMP:20260422T172410
CREATED:20190821T021037Z
LAST-MODIFIED:20190915T191433Z
UID:10002868-1573484400-1573493400@broad.msu.edu
SUMMARY:"A Fine Line" Documentary Movie Screening
DESCRIPTION:Special\, Early Access Screening of Award-Winning Film: “A Fine Line” \nA Fine Line provides behind the scenes look of restaurant culture with women at the helm. The documentary explores why less than 7% of head chefs and restaurant owners are women hearing insight from world renowned chefs\, and a small-town restaurateur who says it how it is and won’t accept no for an answer. An uplifting story on perseverance\, food\, and making it in the restaurant industry against all odds\, join us for a special\, early-access screening of the award-winning film\, followed by a thought-provoking panel on leadership and diversity. Hosted by A Fine Line filmmaker Joanna James\, hear from Chicago’s leading chefs and humanitarians\, Rick Bayless\, and Carrie Nahabedian\, as well as other celebrity chefs on how to be the best boss you can be for your team\, your community\, and your bottom line. Students\, faculty\, staff\, alumni\, community\, and friends are invited to attend this special screening.\n\nhttps://afinelinemovie.com/\n\n 
URL:https://broad.msu.edu/event/a-fine-line-documentary-movie-screening/
LOCATION:Kellogg Hotel & Conference Center\, 219 S Harrison Rd\, East Lansing\, MI\, 48824\, United States
CATEGORIES:College-wide Events,Featured Events,Hospitality Business,Undergraduate Events
END:VEVENT
BEGIN:VEVENT
DTSTART;TZID=America/Detroit:20191111T153000
DTEND;TZID=America/Detroit:20191111T170000
DTSTAMP:20260422T172410
CREATED:20190930T160522Z
LAST-MODIFIED:20190930T160522Z
UID:10003013-1573486200-1573491600@broad.msu.edu
SUMMARY:AIS Faculty Recruiting - Susanna Gallani
DESCRIPTION:Susanna Gallani is one of our faculty recruits. She hails from Harvard Business School. Please stop in and listen to her presentation!
URL:https://broad.msu.edu/event/ais-faculty-recruiting-susanna-gallani/
LOCATION:North Business Building\, 632 Bogue St\, East Lansing\, MI\, 48824\, United States
ORGANIZER;CN="Katie Trinklein":MAILTO:trinkle4@msu.edu
END:VEVENT
BEGIN:VEVENT
DTSTART;TZID=America/Detroit:20191111T180000
DTEND;TZID=America/Detroit:20191111T193000
DTSTAMP:20260422T172410
CREATED:20190918T165012Z
LAST-MODIFIED:20230801T203350Z
UID:10003006-1573495200-1573500600@broad.msu.edu
SUMMARY:Innovate State: Kavita and Omari Bouknight
DESCRIPTION:Innovate State is a collaboration between the Burgess Institute for Entrepreneurship & Innovation and the MSU Innovation Center. \nHosted at the Entrepreneurship Lab\, Innovate State welcomes successful Spartan alumni back to campus for a fireside chat. Guests share their perspectives on everything from launching start-ups to experiencing success and failure to building dynamic and nurturing work cultures. \n\nKavita is an entrepreneur\, digital health maven\, patient health advocate\, investor and speaker with a mission to connect people to targeted health innovations\, enabling them to lead healthier lives. \nShe is the co-founder and CEO of Match Health\, a digital health platform that brings greater awareness and accessibility to transformative health innovations. Match Health has developed and maintains a vast video library that reviews various medical conditions and different innovations that have been developed to treat them. \nPrior to starting Match Health\, Kavita served as a Marketing Director for two medical device startups\, Biomerix Corporation and FoxHollow Technologies. In these roles\, Kavita drove the introduction of health innovations targeting tissue repair and peripheral arterial disease. \nKavita also has significant experience\, working as a consultant to both startups as well as larger organizations providing strategy and go-to-market expertise introducing novel medical device technologies to the market in the fields of cardiovascular health\, orthopedics\, general surgery\, and women’s health. \nKavita grew up in Rochester Hills\, MI and graduated from Michigan State University in 1999 with a bachelor’s degree in Supply Chain Management (Eli Broad College of Business) and earned her MBA from the University of Michigan (Ross School of Business) in 2004. Kavita lives in the Boston area with her husband Omari and their twin boys.
URL:https://broad.msu.edu/event/innovate-state-kavita-omari-bouknight/
LOCATION:Entrepreneurship Lab\, 651 N Shaw Ln\, East Lansing\, MI\, 48824\, United States
CATEGORIES:Entrepreneurship
ORGANIZER;CN="Burgess Institute for Entrepreneurship &amp%3B Innovation":MAILTO:eship@msu.edu
END:VEVENT
BEGIN:VEVENT
DTSTART;TZID=America/Detroit:20191115T103000
DTEND;TZID=America/Detroit:20191115T120000
DTSTAMP:20260422T172410
CREATED:20190821T020222Z
LAST-MODIFIED:20231026T192506Z
UID:10002860-1573813800-1573819200@broad.msu.edu
SUMMARY:Patricia & Scott Eston Research Workshop Series
DESCRIPTION:Kecia Smith is joining us from North Carolina A&T State University in this week’s iteration of the Accounting Research Workshop. \nYou can find us in room N124 BCC. No RSVP required. Feel free to drop by if you are interested!
URL:https://broad.msu.edu/event/patricia-scott-eston-research-workshop-series-4/
LOCATION:1st floor of the Business College Complex\, 632 Bogue St\, East Lansing\, MI\, 48824\, United States
CATEGORIES:Accounting
ORGANIZER;CN="Katie Trinklein":MAILTO:trinkle4@msu.edu
END:VEVENT
BEGIN:VEVENT
DTSTART;TZID=America/Detroit:20191115T154500
DTEND;TZID=America/Detroit:20191115T164500
DTSTAMP:20260422T172410
CREATED:20190828T042358Z
LAST-MODIFIED:20190828T042358Z
UID:10002974-1573832700-1573836300@broad.msu.edu
SUMMARY:Prospective Undergraduate Student Information Session
DESCRIPTION:The Eli Broad College of Business invites prospective students and families to visit the Business College Complex for a group information session to explore Broad majors\, College and Major admissions\, academic curriculum\, student life\, education abroad\, and services available to Broad students. \nPresentations and tours take place on select Fridays at 3:45 p.m. Prior registration is required.  Fall registration dates will begin on September 2\, 2019 and Spring registration dates will open in November 2019. \nProspective and admitted students who have not yet enrolled should plan to attend this presentation\, as individual advising appointments are reserved for enrolled students. \nRegister now!
URL:https://broad.msu.edu/event/prospective-undergraduate-student-information-session-7/
LOCATION:MI
CATEGORIES:Undergraduate Prospective Student
END:VEVENT
END:VCALENDAR