BEGIN:VCALENDAR
VERSION:2.0
PRODID:-//Eli Broad College of Business | Michigan State University - ECPv6.15.17.1//NONSGML v1.0//EN
CALSCALE:GREGORIAN
METHOD:PUBLISH
X-ORIGINAL-URL:https://broad.msu.edu
X-WR-CALDESC:Events for Eli Broad College of Business | Michigan State University
REFRESH-INTERVAL;VALUE=DURATION:PT1H
X-Robots-Tag:noindex
X-PUBLISHED-TTL:PT1H
BEGIN:VTIMEZONE
TZID:America/Detroit
BEGIN:DAYLIGHT
TZOFFSETFROM:-0500
TZOFFSETTO:-0400
TZNAME:EDT
DTSTART:20190310T070000
END:DAYLIGHT
BEGIN:STANDARD
TZOFFSETFROM:-0400
TZOFFSETTO:-0500
TZNAME:EST
DTSTART:20191103T060000
END:STANDARD
BEGIN:DAYLIGHT
TZOFFSETFROM:-0500
TZOFFSETTO:-0400
TZNAME:EDT
DTSTART:20200308T070000
END:DAYLIGHT
BEGIN:STANDARD
TZOFFSETFROM:-0400
TZOFFSETTO:-0500
TZNAME:EST
DTSTART:20201101T060000
END:STANDARD
BEGIN:DAYLIGHT
TZOFFSETFROM:-0500
TZOFFSETTO:-0400
TZNAME:EDT
DTSTART:20210314T070000
END:DAYLIGHT
BEGIN:STANDARD
TZOFFSETFROM:-0400
TZOFFSETTO:-0500
TZNAME:EST
DTSTART:20211107T060000
END:STANDARD
END:VTIMEZONE
BEGIN:VEVENT
DTSTART;TZID=America/Detroit:20200114T170000
DTEND;TZID=America/Detroit:20200114T200000
DTSTAMP:20260422T174828
CREATED:20190912T192955Z
LAST-MODIFIED:20190912T192955Z
UID:10002906-1579021200-1579032000@broad.msu.edu
SUMMARY:Unpacking Your International Experiences Workshop
DESCRIPTION:Wondering how to talk about your study abroad or international experience to employers? This workshop will help you explain your international experiences so that they are meaningful to employers and graduate schools. We’ll discuss all the ways you can share your international experiences on your resume\, and how talk about them in interviews. Students that have studied abroad\, international students\, or students that have spent time abroad\, may benefit from this program.
URL:https://broad.msu.edu/event/unpacking-your-international-experiences-workshop/
LOCATION:MI
END:VEVENT
BEGIN:VEVENT
DTSTART;TZID=America/Detroit:20200116T110000
DTEND;TZID=America/Detroit:20200116T150000
DTSTAMP:20260422T174828
CREATED:20191119T143130Z
LAST-MODIFIED:20191212T204917Z
UID:10002923-1579172400-1579186800@broad.msu.edu
SUMMARY:Education Abroad Summer Programs Fair
DESCRIPTION:Still considering your options for education abroad this summer? Come to this fair and learn about the Broad College’s programs!
URL:https://broad.msu.edu/event/education-abroad-summer-programs-fair/
LOCATION:MI\, United States
CATEGORIES:Education Abroad,Featured Events
ORGANIZER;CN="Sarah Singer":MAILTO:singersm@msu.edu
END:VEVENT
BEGIN:VEVENT
DTSTART;TZID=America/Detroit:20200116T183000
DTEND;TZID=America/Detroit:20200116T190000
DTSTAMP:20260422T174828
CREATED:20191105T171446Z
LAST-MODIFIED:20210219T183401Z
UID:10003031-1579199400-1579201200@broad.msu.edu
SUMMARY:Broad Executive MBA | Virtual Information Session
DESCRIPTION:Join Kara Tripi\, Assistant Director of the Broad College Executive MBA Program\, in a virtual information session. This webinar will provide details regarding the academic program\, admission criteria\, and tuition/program fees. \n\n\n\n\n\nAgenda \n\nProgram Overview\n\n\n\n\n\nQ & A
URL:https://broad.msu.edu/event/executive-mba-virtual-information-session-9/
LOCATION:Online
CATEGORIES:Executive MBA,Recruiting Events
ORGANIZER;CN="Sarah Ellis%2C Admissions & Academic Services Manager":MAILTO:sellis@broad.msu.edu
END:VEVENT
BEGIN:VEVENT
DTSTART;TZID=America/Detroit:20200117T154500
DTEND;TZID=America/Detroit:20200117T164500
DTSTAMP:20260422T174828
CREATED:20190828T133101Z
LAST-MODIFIED:20200117T181416Z
UID:10002976-1579275900-1579279500@broad.msu.edu
SUMMARY:Prospective Undergraduate Student Information Session
DESCRIPTION:The Eli Broad College of Business invites prospective students and families to visit the Business College Complex for a group information session to explore Broad majors\, College and Major admissions\, academic curriculum\, student life\, education abroad\, and services available to Broad students. \nPresentations and tours take place on select Fridays at 3:45 p.m. Prior registration is required.  Fall registration dates will begin on September 2\, 2019 and Spring registration dates will open in November 2019. \nProspective and admitted students who have not yet enrolled should plan to attend this presentation\, as individual advising appointments are reserved for enrolled students.
URL:https://broad.msu.edu/event/prospective-undergraduate-student-information-session-9/
LOCATION:North Business Building\, 632 Bogue St\, East Lansing\, MI\, 48824\, United States
CATEGORIES:Undergraduate Prospective Student
ORGANIZER;CN="Undergraduate Academic Services (UAS)":MAILTO:undergrad@broad.msu.edu
END:VEVENT
END:VCALENDAR