BEGIN:VCALENDAR
VERSION:2.0
PRODID:-//Eli Broad College of Business | Michigan State University - ECPv6.15.17.1//NONSGML v1.0//EN
CALSCALE:GREGORIAN
METHOD:PUBLISH
X-WR-CALNAME:Eli Broad College of Business | Michigan State University
X-ORIGINAL-URL:https://broad.msu.edu
X-WR-CALDESC:Events for Eli Broad College of Business | Michigan State University
REFRESH-INTERVAL;VALUE=DURATION:PT1H
X-Robots-Tag:noindex
X-PUBLISHED-TTL:PT1H
BEGIN:VTIMEZONE
TZID:America/Detroit
BEGIN:DAYLIGHT
TZOFFSETFROM:-0500
TZOFFSETTO:-0400
TZNAME:EDT
DTSTART:20190310T070000
END:DAYLIGHT
BEGIN:STANDARD
TZOFFSETFROM:-0400
TZOFFSETTO:-0500
TZNAME:EST
DTSTART:20191103T060000
END:STANDARD
BEGIN:DAYLIGHT
TZOFFSETFROM:-0500
TZOFFSETTO:-0400
TZNAME:EDT
DTSTART:20200308T070000
END:DAYLIGHT
BEGIN:STANDARD
TZOFFSETFROM:-0400
TZOFFSETTO:-0500
TZNAME:EST
DTSTART:20201101T060000
END:STANDARD
BEGIN:DAYLIGHT
TZOFFSETFROM:-0500
TZOFFSETTO:-0400
TZNAME:EDT
DTSTART:20210314T070000
END:DAYLIGHT
BEGIN:STANDARD
TZOFFSETFROM:-0400
TZOFFSETTO:-0500
TZNAME:EST
DTSTART:20211107T060000
END:STANDARD
END:VTIMEZONE
BEGIN:VEVENT
DTSTART;TZID=America/Detroit:20201020T114000
DTEND;TZID=America/Detroit:20201020T124000
DTSTAMP:20260420T230309
CREATED:20200910T111136Z
LAST-MODIFIED:20210219T184838Z
UID:10003184-1603194000-1603197600@broad.msu.edu
SUMMARY:MBAA & Palmer Center: Employer and Alumni Panel Series
DESCRIPTION:Key recruiters and Alumni have been invited to provide valuable insights during this challenging time. They will discuss navigating a difficult economy and an inside look at how organizations are dealing with the COVID crisis. \n  \nFor more information or to register please email palmer@broad.msu.edu
URL:https://broad.msu.edu/event/full-time-mba-mbaa-palmer-center-employer-and-alumni-panel-series/
CATEGORIES:Career Management,Full-Time MBA
END:VEVENT
BEGIN:VEVENT
DTSTART;TZID=America/Detroit:20201020T120000
DTEND;TZID=America/Detroit:20201020T124500
DTSTAMP:20260420T230309
CREATED:20200924T150328Z
LAST-MODIFIED:20210219T184854Z
UID:10003203-1603195200-1603197900@broad.msu.edu
SUMMARY:Truth in Analytics: Tips for Navigating Data Understanding in Business
DESCRIPTION:With a wealth of information at our fingertips\, managers are constantly challenged to make decisions\, leveraging different sources of data. What if the story that the data tells on the surface “feels” different than what your industry experience is actually telling you? Dr. Yemisi Bolumole\, Associate Professor of Supply Chain Management at the Broad College of Business\, will provide insights and tips on how to evaluate data critically to obtain insights and information to support sound decision making. \nAll attendees of this webinar will receive an application fee waiver for the Broad Full-Time MBA Fall 2021 intake.
URL:https://broad.msu.edu/event/full-time-mba-truth-in-analytics-tips-for-navigating-data-understanding-in-business/
LOCATION:Online
CATEGORIES:Admissions Events,Full-Time MBA
ORGANIZER;CN="MBA Admissions":MAILTO:mba@msu.edu
END:VEVENT
BEGIN:VEVENT
DTSTART;TZID=America/Detroit:20201020T180000
DTEND;TZID=America/Detroit:20201020T210000
DTSTAMP:20260420T230309
CREATED:20200803T165236Z
LAST-MODIFIED:20210219T184905Z
UID:10003001-1603216800-1603227600@broad.msu.edu
SUMMARY:Forte MBA Forums: East Coast US Event #3
DESCRIPTION:Join the Michigan State Broad MBA admissions team at the Forté Forums! Stop by our virtual booth to learn more about the program\, chat with alumnae and receive an app fee waiver for your fall 2021 intake application! \nForté MBA Forums are designed for all women considering an MBA — whether you’re a high achiever looking to change careers\, a college student planning for the future\, or a professional ready to take your career to the next level.
URL:https://broad.msu.edu/event/full-time-mba-forte-mba-forums-east-coast-us-event-3/
LOCATION:Online
CATEGORIES:Admissions Events,Full-Time MBA
END:VEVENT
BEGIN:VEVENT
DTSTART;TZID=America/Detroit:20201021T120000
DTEND;TZID=America/Detroit:20201021T130000
DTSTAMP:20260420T230309
CREATED:20201005T162218Z
LAST-MODIFIED:20210219T184923Z
UID:10003212-1603281600-1603285200@broad.msu.edu
SUMMARY:JD/MBA Student Panel and Info Session
DESCRIPTION:The password for this webinar is: 934064 \nJoin a panel of three current Michigan State Broad JD/MBAs to learn more about the JD/MBA dual degree program at Michigan State University. The JD/MBA current student panel will be followed by a brief info session and Q+A with the Broad Full-Time MBA Director of Admissions\, Scott Smith. \nAll attendees of this webinar will receive an application fee waiver for the Fall 2021 intake of the Broad Full-Time MBA.
URL:https://broad.msu.edu/event/full-time-mba-jd-student-panel-and-info-session/
LOCATION:Online
CATEGORIES:Admissions Events,Full-Time MBA
ORGANIZER;CN="MBA Admissions":MAILTO:mba@msu.edu
END:VEVENT
BEGIN:VEVENT
DTSTART;TZID=America/Detroit:20201021T180000
DTEND;TZID=America/Detroit:20201021T191500
DTSTAMP:20260420T230309
CREATED:20200917T162611Z
LAST-MODIFIED:20200917T170648Z
UID:10003191-1603303200-1603307700@broad.msu.edu
SUMMARY:Innovate State\, with Melissa Mackey
DESCRIPTION:Innovate State is a collaboration between the Burgess Institute for Entrepreneurship & Innovation and the MSU Innovation Center. \nHosted in the Gaynor Entrepreneurship Lab\, Innovate State welcomes successful Spartan alumni back to campus for a fireside chat. Guests share their perspectives on everything from launching start-ups to experiencing success and failure to building dynamic and nurturing work cultures. \n \n  \nAbout The Speaker\nMelissa Mackey\, or\, “Mack”\, has been driving strategic growth\, innovation\, and positive brand perception for leading startups\, corporations\, nonprofits\, and agencies for over 15 years. She is an entrepreneur. She also happens to have been a passionate intrapreneur within several Fortune 500 companies. She’s a venture capitalist\, a coach to entrepreneurs\, a digital marketing executive\, and a tech-enthusiast. \nToday\, Mack is the founder & CEO of LU Management\, a firm specializing in helping professional athletes and their families accelerate their success in pursuing their entrepreneurial endeavors and securing venture capital investment. \nMack is a graduate of Michigan State University and has a Digital Marketing & Social Media Strategies diploma from Harvard University’s Division of Continuing Education. She serves on the Michigan State University Foundation’s Advisory Board. \n  \nAbout Innovate State\nEvery year\, Innovate State invites Spartan entrepreneurs\, innovators\, and disruptors to join our community for a fireside chat. In these 60-minute interviews\, guests share their perspectives on everything from business to family life; the hard knocks of the hustle to maintaining work/life balance. These are stories of success\, stories of failure\, and stories of uncommon will. \nInnovate State is proudly brought to you by the Burgess Institute for Entrepreneurship & Innovation in collaboration with the MSU Alumni Office\, MSU Innovation Center\, & MSU Foundation. Innovate State kicks-off at 6 p.m. (ET) and are free to the community. Events will be held via Zoom. Early registration is highly encouraged. \n  \nPlease join us\, virtually\, for Innovate State\, with Melissa Mackey\, on Wed.\, Oct. 21st\, at 6 p.m. (Eastern Daylight Time).
URL:https://broad.msu.edu/event/innovate-state-with-melissa-mackey/
LOCATION:Online
CATEGORIES:Entrepreneurship,Featured Events
ORGANIZER;CN="Burgess Institute for Entrepreneurship &amp%3B Innovation":MAILTO:eship@msu.edu
END:VEVENT
BEGIN:VEVENT
DTSTART;TZID=America/Detroit:20201022T150000
DTEND;TZID=America/Detroit:20201022T160000
DTSTAMP:20260420T230309
CREATED:20201001T174423Z
LAST-MODIFIED:20201005T152844Z
UID:10003209-1603378800-1603382400@broad.msu.edu
SUMMARY:How to Manage Stress and Anxiety During COVID-19
DESCRIPTION:MSU’s Counseling & Psychiatric Services (CAPS) will present resources for coping with stress and anxiety. Staff will also provide information on managing stress safely during the COVID-19 pandemic. \nZoom Passcode: UAS
URL:https://broad.msu.edu/event/how-to-manage-stress-and-anxiety-during-covid-19/
LOCATION:United States
CATEGORIES:Major Exploration Sessions
ORGANIZER;CN="Undergraduate Academic Services (UAS)":MAILTO:undergrad@broad.msu.edu
END:VEVENT
BEGIN:VEVENT
DTSTART;TZID=America/Detroit:20201022T180000
DTEND;TZID=America/Detroit:20201022T183000
DTSTAMP:20260420T230310
CREATED:20201005T165443Z
LAST-MODIFIED:20210108T202244Z
UID:10003016-1603389600-1603391400@broad.msu.edu
SUMMARY:Prospective Undergraduate Student Information Session
DESCRIPTION:The Eli Broad College of Business invites prospective freshman\, transfer\, and families to communicate via email or Zoom. Comprehensive Zoom sessions take place on select Thursdays at 6:00 p.m.\, and prior registration is required. These sessions provide more information about Broad majors\, college and major admissions\, academic curriculum\, student life\, education abroad and services available to Broad students. \nPrior registration is required.
URL:https://broad.msu.edu/event/prospective-undergraduate-student-information-session-25/2020-10-22/
LOCATION:United States
CATEGORIES:Undergraduate Prospective Student
ORGANIZER;CN="Undergraduate Academic Services (UAS)":MAILTO:undergrad@broad.msu.edu
END:VEVENT
BEGIN:VEVENT
DTSTART;TZID=America/Detroit:20201022T183000
DTEND;TZID=America/Detroit:20201022T203000
DTSTAMP:20260420T230310
CREATED:20200925T152946Z
LAST-MODIFIED:20210219T184941Z
UID:10003207-1603391400-1603398600@broad.msu.edu
SUMMARY:Advancing Women in Business Virtual Event
DESCRIPTION:Make time for an event that’s all about you –\nAs professional women\, we seldom carve out time to focus on our own needs and priorities. Given this year’s challenges\, it’s even more important for us to come together to encourage\, empathize with\, and inspire each other. \nWhether you’re a high-powered executive or early in your career\, this Virtual Broad College Advancing Women in Business event will help you recharge and focus on you. \nJoin Broad alumni\, students\, and friends of the college to hear from three amazing women\, followed by an interactive\, virtual networking event. You’ll leave with fresh insights\, an expanded network\, and a re-energized focus – all without leaving home. \n\n6:30pm – 7:30pm | Intro Remarks\, Dialogue with Featured Women of Broad\n7:30pm – 8:30pm | Virtual Networking\n\nJoin us for a moderated conversation with Cheri DeClercq\, Assistant Dean\, MBA/Graduate Programs and our Featured Women of Broad.
URL:https://broad.msu.edu/event/advancing-women-in-business-virtual-event/
LOCATION:Online
CATEGORIES:Alumni Events,College-wide Events,Featured Events
ORGANIZER;CN="Tami Muethel%2C CMP":MAILTO:events@broad.msu.edu
END:VEVENT
BEGIN:VEVENT
DTSTART;TZID=America/Detroit:20201023T100000
DTEND;TZID=America/Detroit:20201023T103000
DTSTAMP:20260420T230310
CREATED:20201014T135112Z
LAST-MODIFIED:20210219T184746Z
UID:10003024-1603447200-1603449000@broad.msu.edu
SUMMARY:Broad MBA Weekly Virtual Office Hours
DESCRIPTION:Drop in and join the Broad Full-Time MBA admissions team graduate assistants to ask any questions you may have about the program/admissions process and learn about the Broad MBA from a current student’s perspective. Please feel free to connect for any amount of time during the 30-minute weekly Friday sessions between 10:00am-10:30am ET during the Fall 2020 semester. \nJust click here to join\, the password is BROAD.
URL:https://broad.msu.edu/event/full-time-mba-broad-mba-weekly-virtual-office-hours/2020-10-23/
LOCATION:Online
CATEGORIES:Admissions Events,Full-Time MBA
ORGANIZER;CN="MBA Admissions":MAILTO:mba@msu.edu
END:VEVENT
BEGIN:VEVENT
DTSTART;TZID=America/Detroit:20201023T120000
DTEND;TZID=America/Detroit:20201023T130000
DTSTAMP:20260420T230310
CREATED:20200730T220441Z
LAST-MODIFIED:20210202T180055Z
UID:10002983-1603454400-1603458000@broad.msu.edu
SUMMARY:Exploring Supply Chain Management | Major and Careers
DESCRIPTION:
URL:https://broad.msu.edu/event/exploring-supply-chain-mngt-major-and-careers/
CATEGORIES:Career Management
ORGANIZER;CN="Career Management":MAILTO:palmer@broad.msu.edu
END:VEVENT
END:VCALENDAR