BEGIN:VCALENDAR
VERSION:2.0
PRODID:-//Eli Broad College of Business | Michigan State University - ECPv6.15.17.1//NONSGML v1.0//EN
CALSCALE:GREGORIAN
METHOD:PUBLISH
X-ORIGINAL-URL:https://broad.msu.edu
X-WR-CALDESC:Events for Eli Broad College of Business | Michigan State University
REFRESH-INTERVAL;VALUE=DURATION:PT1H
X-Robots-Tag:noindex
X-PUBLISHED-TTL:PT1H
BEGIN:VTIMEZONE
TZID:America/Detroit
BEGIN:DAYLIGHT
TZOFFSETFROM:-0500
TZOFFSETTO:-0400
TZNAME:EDT
DTSTART:20190310T070000
END:DAYLIGHT
BEGIN:STANDARD
TZOFFSETFROM:-0400
TZOFFSETTO:-0500
TZNAME:EST
DTSTART:20191103T060000
END:STANDARD
BEGIN:DAYLIGHT
TZOFFSETFROM:-0500
TZOFFSETTO:-0400
TZNAME:EDT
DTSTART:20200308T070000
END:DAYLIGHT
BEGIN:STANDARD
TZOFFSETFROM:-0400
TZOFFSETTO:-0500
TZNAME:EST
DTSTART:20201101T060000
END:STANDARD
BEGIN:DAYLIGHT
TZOFFSETFROM:-0500
TZOFFSETTO:-0400
TZNAME:EDT
DTSTART:20210314T070000
END:DAYLIGHT
BEGIN:STANDARD
TZOFFSETFROM:-0400
TZOFFSETTO:-0500
TZNAME:EST
DTSTART:20211107T060000
END:STANDARD
END:VTIMEZONE
BEGIN:VEVENT
DTSTART;TZID=America/Detroit:20201123T180000
DTEND;TZID=America/Detroit:20201123T193000
DTSTAMP:20260425T110054
CREATED:20201113T220233Z
LAST-MODIFIED:20210219T185251Z
UID:10003218-1606154400-1606159800@broad.msu.edu
SUMMARY:Center for Venture Capital\, Private Equity & Entrepreneurial Finance Speaker Series
DESCRIPTION:{Open to MSU Community} \nPlease join us virtually for our second installment of the CVCPEEF Speaker Series. The panelists for this event will discuss the Financial Services Industry and how it is operating during the COVID-19 pandemic. Specific topics to include; Sourcing\, Risk Management\, Entrepreneurship\, and Innovation. \nPanelists: \nMerritt Lutz (MSU BA\, MA ’67) – CEO\, FINRISK Technologies \nGaurav Saini (MSU MBA ’98) – Chief Procurement Officer\, Manulife/John Hancock
URL:https://broad.msu.edu/event/full-time-mba-center-for-venture-capital-private-equity-entrepreneurial-finance-speaker-series-2/
LOCATION:Online
CATEGORIES:College-wide Events,Entrepreneurship,Finance,Full-Time MBA
END:VEVENT
BEGIN:VEVENT
DTSTART;TZID=America/Detroit:20201124T120000
DTEND;TZID=America/Detroit:20201124T130000
DTSTAMP:20260425T110054
CREATED:20200817T151809Z
LAST-MODIFIED:20210219T185259Z
UID:10003171-1606219200-1606222800@broad.msu.edu
SUMMARY:Broad Executive MBA | Virtual Office Hour
DESCRIPTION:Join us for a casual conversation via Zoom with a member of our admissions team. Drop-in any time during the hour and we will address your questions regarding the Executive MBA program.
URL:https://broad.msu.edu/event/executive-mba-virtual-office-hour-2/
LOCATION:Online
CATEGORIES:Executive MBA,Recruiting Events
ORGANIZER;CN="Sarah Ellis%2C Admissions & Academic Services Manager":MAILTO:sellis@broad.msu.edu
END:VEVENT
BEGIN:VEVENT
DTSTART;TZID=America/Detroit:20201124T190000
DTEND;TZID=America/Detroit:20201124T200000
DTSTAMP:20260425T110054
CREATED:20201112T211450Z
LAST-MODIFIED:20210219T185313Z
UID:10003038-1606244400-1606248000@broad.msu.edu
SUMMARY:Broad MBA Student Zoom Chat
DESCRIPTION:Connect with our current Broad MBAs over Zoom and chat with them about the Michigan State Broad Full-Time MBA program. They will answer any questions you may have about their experiences within the program and give you an insider’s perspective on what it’s like to be a Broad MBA. \nThis is meant to be a candid talk with our current students\, not a presentation\, so feel free to get to know our current students and ask as many questions as you’d like!
URL:https://broad.msu.edu/event/full-time-mba-broad-mba-student-zoom-chat/
LOCATION:Online
CATEGORIES:Admissions Events,Full-Time MBA
ORGANIZER;CN="MBA Admissions":MAILTO:mba@msu.edu
END:VEVENT
END:VCALENDAR