BEGIN:VCALENDAR
VERSION:2.0
PRODID:-//Eli Broad College of Business | Michigan State University - ECPv6.15.17.1//NONSGML v1.0//EN
CALSCALE:GREGORIAN
METHOD:PUBLISH
X-WR-CALNAME:Eli Broad College of Business | Michigan State University
X-ORIGINAL-URL:https://broad.msu.edu
X-WR-CALDESC:Events for Eli Broad College of Business | Michigan State University
REFRESH-INTERVAL;VALUE=DURATION:PT1H
X-Robots-Tag:noindex
X-PUBLISHED-TTL:PT1H
BEGIN:VTIMEZONE
TZID:America/Detroit
BEGIN:DAYLIGHT
TZOFFSETFROM:-0500
TZOFFSETTO:-0400
TZNAME:EDT
DTSTART:20190310T070000
END:DAYLIGHT
BEGIN:STANDARD
TZOFFSETFROM:-0400
TZOFFSETTO:-0500
TZNAME:EST
DTSTART:20191103T060000
END:STANDARD
BEGIN:DAYLIGHT
TZOFFSETFROM:-0500
TZOFFSETTO:-0400
TZNAME:EDT
DTSTART:20200308T070000
END:DAYLIGHT
BEGIN:STANDARD
TZOFFSETFROM:-0400
TZOFFSETTO:-0500
TZNAME:EST
DTSTART:20201101T060000
END:STANDARD
BEGIN:DAYLIGHT
TZOFFSETFROM:-0500
TZOFFSETTO:-0400
TZNAME:EDT
DTSTART:20210314T070000
END:DAYLIGHT
BEGIN:STANDARD
TZOFFSETFROM:-0400
TZOFFSETTO:-0500
TZNAME:EST
DTSTART:20211107T060000
END:STANDARD
END:VTIMEZONE
BEGIN:VEVENT
DTSTART;TZID=America/Detroit:20201201T180000
DTEND;TZID=America/Detroit:20201201T190000
DTSTAMP:20260420T230644
CREATED:20200817T144817Z
LAST-MODIFIED:20210219T185320Z
UID:10003167-1606845600-1606849200@broad.msu.edu
SUMMARY:Broad Executive MBA | Virtual Program Preview
DESCRIPTION:Join Kara Tripi\, Assistant Director of the Broad College Executive MBA Program\, in a virtual program preview. This webinar will provide details regarding the academic program\, admission criteria\, and tuition/program fees.\nAgenda\n\nInformation Session\nQ & A\nConnecting with program alumni
URL:https://broad.msu.edu/event/executive-mba-virtual-program-preview-4/
LOCATION:Online
CATEGORIES:Executive MBA,Recruiting Events
ORGANIZER;CN="Sarah Ellis%2C Admissions & Academic Services Manager":MAILTO:sellis@broad.msu.edu
END:VEVENT
BEGIN:VEVENT
DTSTART;TZID=America/Detroit:20201201T190000
DTEND;TZID=America/Detroit:20201201T200000
DTSTAMP:20260420T230644
CREATED:20201112T211628Z
LAST-MODIFIED:20210219T185332Z
UID:10003040-1606849200-1606852800@broad.msu.edu
SUMMARY:Broad MBA Student Zoom Chat
DESCRIPTION:Connect with our current Broad MBAs over Zoom and chat with them about the Michigan State Broad Full-Time MBA program. They will answer any questions you may have about their experiences within the program and give you an insider’s perspective on what it’s like to be a Broad MBA. \nThis is meant to be a candid talk with our current students\, not a presentation\, so feel free to get to know our current students and ask as many questions as you’d like!
URL:https://broad.msu.edu/event/full-time-mba-broad-mba-student-zoom-chat-2/
LOCATION:Online
CATEGORIES:Admissions Events,Full-Time MBA
ORGANIZER;CN="MBA Admissions":MAILTO:mba@msu.edu
END:VEVENT
BEGIN:VEVENT
DTSTART;TZID=America/Detroit:20201204T100000
DTEND;TZID=America/Detroit:20201204T103000
DTSTAMP:20260420T230644
CREATED:20201014T135112Z
LAST-MODIFIED:20210219T184746Z
UID:10003029-1607076000-1607077800@broad.msu.edu
SUMMARY:Broad MBA Weekly Virtual Office Hours
DESCRIPTION:Drop in and join the Broad Full-Time MBA admissions team graduate assistants to ask any questions you may have about the program/admissions process and learn about the Broad MBA from a current student’s perspective. Please feel free to connect for any amount of time during the 30-minute weekly Friday sessions between 10:00am-10:30am ET during the Fall 2020 semester. \nJust click here to join\, the password is BROAD.
URL:https://broad.msu.edu/event/full-time-mba-broad-mba-weekly-virtual-office-hours/2020-12-04/
LOCATION:Online
CATEGORIES:Admissions Events,Full-Time MBA
ORGANIZER;CN="MBA Admissions":MAILTO:mba@msu.edu
END:VEVENT
END:VCALENDAR