BEGIN:VCALENDAR
VERSION:2.0
PRODID:-//Eli Broad College of Business | Michigan State University - ECPv6.15.17.1//NONSGML v1.0//EN
CALSCALE:GREGORIAN
METHOD:PUBLISH
X-ORIGINAL-URL:https://broad.msu.edu
X-WR-CALDESC:Events for Eli Broad College of Business | Michigan State University
REFRESH-INTERVAL;VALUE=DURATION:PT1H
X-Robots-Tag:noindex
X-PUBLISHED-TTL:PT1H
BEGIN:VTIMEZONE
TZID:America/Detroit
BEGIN:DAYLIGHT
TZOFFSETFROM:-0500
TZOFFSETTO:-0400
TZNAME:EDT
DTSTART:20200308T070000
END:DAYLIGHT
BEGIN:STANDARD
TZOFFSETFROM:-0400
TZOFFSETTO:-0500
TZNAME:EST
DTSTART:20201101T060000
END:STANDARD
BEGIN:DAYLIGHT
TZOFFSETFROM:-0500
TZOFFSETTO:-0400
TZNAME:EDT
DTSTART:20210314T070000
END:DAYLIGHT
BEGIN:STANDARD
TZOFFSETFROM:-0400
TZOFFSETTO:-0500
TZNAME:EST
DTSTART:20211107T060000
END:STANDARD
BEGIN:DAYLIGHT
TZOFFSETFROM:-0500
TZOFFSETTO:-0400
TZNAME:EDT
DTSTART:20220313T070000
END:DAYLIGHT
BEGIN:STANDARD
TZOFFSETFROM:-0400
TZOFFSETTO:-0500
TZNAME:EST
DTSTART:20221106T060000
END:STANDARD
END:VTIMEZONE
BEGIN:VEVENT
DTSTART;TZID=America/Detroit:20210210T180000
DTEND;TZID=America/Detroit:20210210T191500
DTSTAMP:20260423T041940
CREATED:20200917T164742Z
LAST-MODIFIED:20210212T194713Z
UID:10003194-1612980000-1612984500@broad.msu.edu
SUMMARY:Innovate State\, with Robin Kinnie
DESCRIPTION:Innovate State is a collaboration between the Burgess Institute for Entrepreneurship & Innovation and the MSU Innovation Center. \nHosted in the Gaynor Entrepreneurship Lab\, Innovate State welcomes successful Spartan alumni back to campus for a fireside chat. Guests share their perspectives on everything from launching start-ups to experiencing success and failure to building dynamic and nurturing work cultures. \n \n  \nAbout The Speaker\nRobin Kinnie is a wife\, mom of 3\, an experienced podcast producer\, author\, entrepreneur and #womanowned advocate. Driven by community\, she takes pride in creating access for underrepresented groups within the podcast industry. As the President of Motor City Woman and Audio Engineers of Detroit\, her goal is to amplify the voices of women. She concentrates on increasing the number of women in broadcasting\, podcasting and audio engineering. An expert in the industry\, she recently contributed regularly to Podcast Business Journal. In addition to her primary interests\, Robin has been recognized by numerous entities including the Association of Women in Communications for her extraordinary commitment to changing the way women are represented in the media. \n  \nAbout Innovate State\nEvery year\, Innovate State features Spartan entrepreneurs\, innovators\, and disruptors to join our community for a fireside chat. In these 60-minute interviews\, guests share their perspectives on everything from business to family life; the hard knocks of the hustle to maintaining work/life balance. These are stories of success\, stories of failure\, and stories of uncommon will. \nInnovate State is proudly brought to you by the Burgess Institute for Entrepreneurship & Innovation in collaboration with the MSU Innovation Center and MSU Alumni Office. Innovate State kicks-off at 6 p.m. and are free to the community. Events will be held via Zoom. Early registration is highly encouraged. \nPlease join us\, virtually\, for Innovate State\, with Robin Kinnie\, on Wed.\, February 10th at 6 p.m. (Eastern Time).
URL:https://broad.msu.edu/event/innovate-state-with-robin-kinnie/
LOCATION:Online
CATEGORIES:Entrepreneurship,Featured Events
ORGANIZER;CN="Burgess Institute for Entrepreneurship &amp%3B Innovation":MAILTO:eship@msu.edu
END:VEVENT
BEGIN:VEVENT
DTSTART;TZID=America/Detroit:20210211T163000
DTEND;TZID=America/Detroit:20210211T170000
DTSTAMP:20260423T041940
CREATED:20201124T132628Z
LAST-MODIFIED:20210423T192605Z
UID:10003254-1613061000-1613062800@broad.msu.edu
SUMMARY:Prospective Undergraduate Student Information Session
DESCRIPTION:The Eli Broad College of Business invites prospective freshman\, transfer\, and families to communicate via email or Zoom. Comprehensive Zoom sessions take place on select Mondays and Thursdays\, and prior registration is required. These sessions provide more information about Broad majors\, college and major admissions\, academic curriculum\, student life\, education abroad and services available to Broad students. \nPrior registration is required.
URL:https://broad.msu.edu/event/prospective-undergraduate-student-information-session-26/2021-02-11/
LOCATION:MI\, United States
CATEGORIES:Undergraduate Prospective Student
ORGANIZER;CN="Undergraduate Academic Services (UAS)":MAILTO:undergrad@broad.msu.edu
END:VEVENT
BEGIN:VEVENT
DTSTART;TZID=America/Detroit:20210212T100000
DTEND;TZID=America/Detroit:20210212T103000
DTSTAMP:20260423T041940
CREATED:20210118T200016Z
LAST-MODIFIED:20210218T180024Z
UID:10003297-1613124000-1613125800@broad.msu.edu
SUMMARY:Broad MBA Weekly Virtual Office Hours
DESCRIPTION:Drop in and join the Broad Full-Time MBA admissions team graduate assistants to ask any questions you may have about the program/admissions process and learn about the Broad MBA from a current student’s perspective. Please feel free to connect for any amount of time during the 30-minute weekly Friday sessions between 10:00am-10:30am ET during the Spring 2021 semester. \nJust click here to join\, the password is BROAD. \nPlease note that there will not be office hours on Friday\, March 12th due to spring break.
URL:https://broad.msu.edu/event/full-time-mba-broad-mba-weekly-virtual-office-hours-2/2021-02-12/
LOCATION:Online
CATEGORIES:Admissions Events,Full-Time MBA
ORGANIZER;CN="MBA Admissions":MAILTO:mba@msu.edu
END:VEVENT
BEGIN:VEVENT
DTSTART;TZID=America/Detroit:20210212T120000
DTEND;TZID=America/Detroit:20210212T130000
DTSTAMP:20260423T041940
CREATED:20210113T190607Z
LAST-MODIFIED:20231026T191651Z
UID:10003285-1613131200-1613134800@broad.msu.edu
SUMMARY:Major and Career Exploration: Human Resources/Management Related Majors at MSU
DESCRIPTION:
URL:https://broad.msu.edu/event/major-and-career-exploration-human-resources-management-related-majors-at-msu/
LOCATION:Online
CATEGORIES:Major Exploration Sessions
ORGANIZER;CN="Undergraduate Academic Services (UAS)":MAILTO:undergrad@broad.msu.edu
END:VEVENT
END:VCALENDAR