BEGIN:VCALENDAR
VERSION:2.0
PRODID:-//Eli Broad College of Business | Michigan State University - ECPv6.15.17.1//NONSGML v1.0//EN
CALSCALE:GREGORIAN
METHOD:PUBLISH
X-ORIGINAL-URL:https://broad.msu.edu
X-WR-CALDESC:Events for Eli Broad College of Business | Michigan State University
REFRESH-INTERVAL;VALUE=DURATION:PT1H
X-Robots-Tag:noindex
X-PUBLISHED-TTL:PT1H
BEGIN:VTIMEZONE
TZID:America/Detroit
BEGIN:DAYLIGHT
TZOFFSETFROM:-0500
TZOFFSETTO:-0400
TZNAME:EDT
DTSTART:20200308T070000
END:DAYLIGHT
BEGIN:STANDARD
TZOFFSETFROM:-0400
TZOFFSETTO:-0500
TZNAME:EST
DTSTART:20201101T060000
END:STANDARD
BEGIN:DAYLIGHT
TZOFFSETFROM:-0500
TZOFFSETTO:-0400
TZNAME:EDT
DTSTART:20210314T070000
END:DAYLIGHT
BEGIN:STANDARD
TZOFFSETFROM:-0400
TZOFFSETTO:-0500
TZNAME:EST
DTSTART:20211107T060000
END:STANDARD
BEGIN:DAYLIGHT
TZOFFSETFROM:-0500
TZOFFSETTO:-0400
TZNAME:EDT
DTSTART:20220313T070000
END:DAYLIGHT
BEGIN:STANDARD
TZOFFSETFROM:-0400
TZOFFSETTO:-0500
TZNAME:EST
DTSTART:20221106T060000
END:STANDARD
END:VTIMEZONE
BEGIN:VEVENT
DTSTART;TZID=America/Detroit:20210323T120000
DTEND;TZID=America/Detroit:20210323T130000
DTSTAMP:20260424T012419
CREATED:20201210T212645Z
LAST-MODIFIED:20210218T181406Z
UID:10003270-1616500800-1616504400@broad.msu.edu
SUMMARY:Broad Executive MBA | Virtual Program Preview
DESCRIPTION:Join Kara Tripi\, Assistant Director of the Broad College Executive MBA Program\, in a virtual program preview. This webinar will provide details regarding the academic program\, admission criteria\, and tuition/program fees.\nAgenda\n\nInformation Session\nQ & A\nConnecting with program alumni
URL:https://broad.msu.edu/event/executive-mba-virtual-program-preview-7/
LOCATION:Online
CATEGORIES:Executive MBA,Recruiting Events
ORGANIZER;CN="Kara Tripi":MAILTO:ktripi@broad.msu.edu
END:VEVENT
BEGIN:VEVENT
DTSTART;TZID=America/Detroit:20210323T130000
DTEND;TZID=America/Detroit:20210323T190000
DTSTAMP:20260424T012419
CREATED:20210226T161101Z
LAST-MODIFIED:20210309T190911Z
UID:10003074-1616504400-1616526000@broad.msu.edu
SUMMARY:Hospitality Business: Career Expo Spring Edition
DESCRIPTION:The School of Hospitality Business invites you to join us for a Virtual Career Expo-Spring Edition on Tuesday\, March 23\, 2021 on Handshake! We are excited to connect you  because many hospitality employers are reengaging with us after suffering a difficult time during COVID-19. \nDescription/Time: Company Information Sessions will be held from 1:00 pm to 3:30 pm.  After a 30 minute break\, companies will host one on one session with students from 4:00 pm to 7:00 pm. \nDirections: After registering for CAREER EXPO-SPRING EDITION on Handshake\, you will be given the opportunity to sign up for 30-minute informational group sessions with specific companies AND 10-minute individual sessions with a company recruiter. You can sign up for both before CAREER EXPO or after EXPO starts\, up until one minute prior to the open time slot. The 30-minute group sessions will allow you to research and learn more about a specific company and their culture to see if you are a good fit. They will also answer any general questions about the company and the position they have to offer. The 10-minute sessions give you the opportunity to engage with recruiters in a more personal setting. These sessions are designed as networking opportunities for students\, short interviews   or as a prescreen for a more formal interview that the employer will conduct with you after the career fair is over. Individual employers will list on Handshake their hiring needs. If they are hiring\, please make sure you meet the requirements of the company before you sign up for a 10 minute one on one session. If they are not hiring\, then any student can select a one on one meeting. One on one time slots are limited\, and we want to make sure those who are eligible have an opportunity first\, however if no one signs up\, then feel free to sign up for the open time slot. \nEmployers will see you on the video platform on Handshake so professional dress is REQUIRED. No sweats\, uncombed hair\, or pajamas! This is a fantastic opportunity to meet one-on-one with recruiters. \nSIRC Student Help Zoom Room Link (Available all day on 3/23/21 from 9:00 AM – 7:30 PM)
URL:https://broad.msu.edu/event/hospitality-business-career-expo-spring-edition/
LOCATION:Online
CATEGORIES:Hospitality Business
ORGANIZER;CN="Authella Collins Hawks":MAILTO:shbsirc@msu.edu
END:VEVENT
BEGIN:VEVENT
DTSTART;TZID=America/Detroit:20210324T183000
DTEND;TZID=America/Detroit:20210324T193000
DTSTAMP:20260424T012419
CREATED:20210309T160134Z
LAST-MODIFIED:20210323T172737Z
UID:10003078-1616610600-1616614200@broad.msu.edu
SUMMARY:Broad Full-Time MBA Roundtable Discussion with DEI Organizations
DESCRIPTION:Please join the Broad Admissions Team and MBA Program Office for a panel discussion with the DEI-focused student resource groups at Broad. Representatives will be present from the MBA Association\, Admissions team\, Black MBAA\, Broad Women MBAA\, MBA Veterans\, Spartan Pride\, and Multicultural MBAA. This will be an opportunity for current students to share their experiences while at Broad with prospective future Spartans and reflect on the impact of organizational membership on student life and advancement. \nZoom Password: BROADINC
URL:https://broad.msu.edu/event/full-time-mba-roundtable-discussion-with-dei-organizations/
LOCATION:Online
CATEGORIES:Admissions Events,Diversity, Equity & Inclusion,Featured Events,Full-Time MBA
ORGANIZER;CN="MBA Admissions":MAILTO:mba@msu.edu
END:VEVENT
BEGIN:VEVENT
DTSTART;TZID=America/Detroit:20210325T163000
DTEND;TZID=America/Detroit:20210325T170000
DTSTAMP:20260424T012419
CREATED:20201124T132628Z
LAST-MODIFIED:20210423T192605Z
UID:10003259-1616689800-1616691600@broad.msu.edu
SUMMARY:Prospective Undergraduate Student Information Session
DESCRIPTION:The Eli Broad College of Business invites prospective freshman\, transfer\, and families to communicate via email or Zoom. Comprehensive Zoom sessions take place on select Mondays and Thursdays\, and prior registration is required. These sessions provide more information about Broad majors\, college and major admissions\, academic curriculum\, student life\, education abroad and services available to Broad students. \nPrior registration is required.
URL:https://broad.msu.edu/event/prospective-undergraduate-student-information-session-26/2021-03-25/
LOCATION:MI\, United States
CATEGORIES:Undergraduate Prospective Student
ORGANIZER;CN="Undergraduate Academic Services (UAS)":MAILTO:undergrad@broad.msu.edu
END:VEVENT
BEGIN:VEVENT
DTSTART;TZID=America/Detroit:20210326T100000
DTEND;TZID=America/Detroit:20210326T103000
DTSTAMP:20260424T012419
CREATED:20210118T200016Z
LAST-MODIFIED:20210218T180024Z
UID:10003302-1616752800-1616754600@broad.msu.edu
SUMMARY:Broad MBA Weekly Virtual Office Hours
DESCRIPTION:Drop in and join the Broad Full-Time MBA admissions team graduate assistants to ask any questions you may have about the program/admissions process and learn about the Broad MBA from a current student’s perspective. Please feel free to connect for any amount of time during the 30-minute weekly Friday sessions between 10:00am-10:30am ET during the Spring 2021 semester. \nJust click here to join\, the password is BROAD. \nPlease note that there will not be office hours on Friday\, March 12th due to spring break.
URL:https://broad.msu.edu/event/full-time-mba-broad-mba-weekly-virtual-office-hours-2/2021-03-26/
LOCATION:Online
CATEGORIES:Admissions Events,Full-Time MBA
ORGANIZER;CN="MBA Admissions":MAILTO:mba@msu.edu
END:VEVENT
END:VCALENDAR