BEGIN:VCALENDAR
VERSION:2.0
PRODID:-//Eli Broad College of Business | Michigan State University - ECPv6.15.17.1//NONSGML v1.0//EN
CALSCALE:GREGORIAN
METHOD:PUBLISH
X-ORIGINAL-URL:https://broad.msu.edu
X-WR-CALDESC:Events for Eli Broad College of Business | Michigan State University
REFRESH-INTERVAL;VALUE=DURATION:PT1H
X-Robots-Tag:noindex
X-PUBLISHED-TTL:PT1H
BEGIN:VTIMEZONE
TZID:America/Detroit
BEGIN:DAYLIGHT
TZOFFSETFROM:-0500
TZOFFSETTO:-0400
TZNAME:EDT
DTSTART:20200308T070000
END:DAYLIGHT
BEGIN:STANDARD
TZOFFSETFROM:-0400
TZOFFSETTO:-0500
TZNAME:EST
DTSTART:20201101T060000
END:STANDARD
BEGIN:DAYLIGHT
TZOFFSETFROM:-0500
TZOFFSETTO:-0400
TZNAME:EDT
DTSTART:20210314T070000
END:DAYLIGHT
BEGIN:STANDARD
TZOFFSETFROM:-0400
TZOFFSETTO:-0500
TZNAME:EST
DTSTART:20211107T060000
END:STANDARD
BEGIN:DAYLIGHT
TZOFFSETFROM:-0500
TZOFFSETTO:-0400
TZNAME:EDT
DTSTART:20220313T070000
END:DAYLIGHT
BEGIN:STANDARD
TZOFFSETFROM:-0400
TZOFFSETTO:-0500
TZNAME:EST
DTSTART:20221106T060000
END:STANDARD
END:VTIMEZONE
BEGIN:VEVENT
DTSTART;TZID=America/Detroit:20210712T114000
DTEND;TZID=America/Detroit:20210712T124000
DTSTAMP:20260424T011649
CREATED:20210712T193604Z
LAST-MODIFIED:20210712T193604Z
UID:10003414-1626090000-1626093600@broad.msu.edu
SUMMARY:Broad MBA International Student Panel
DESCRIPTION:This webinar will feature a panel of current International Broad MBA students with varying backgrounds and post-MBA goals who will answer questions and describe their journey to the Michigan State Broad MBA and their experiences within the program. \n  \n 
URL:https://broad.msu.edu/event/broad-mba-international-student-panel/
LOCATION:Online
CATEGORIES:Admissions Events,Full-Time MBA
ORGANIZER;CN="MBA Admissions":MAILTO:mba@msu.edu
END:VEVENT
BEGIN:VEVENT
DTSTART;TZID=America/Detroit:20210714T190000
DTEND;TZID=America/Detroit:20210714T200000
DTSTAMP:20260424T011649
CREATED:20210608T201428Z
LAST-MODIFIED:20210629T192612Z
UID:10003358-1626289200-1626292800@broad.msu.edu
SUMMARY:Zoom Chat with Broad MBA Students and Alumni
DESCRIPTION:Password: BROAD \nConnect with our current Broad MBAs and recent grads over Zoom and chat with them about the Michigan State Broad Full-Time MBA program. They will answer any questions you may have about their experiences within the program and give you an insider’s perspective on what it’s like to be a Broad MBA. \nThis is meant to be a candid talk with our current students\, not a presentation\, so feel free to get to know our current students and ask as many questions as you’d like! \nThis virtual chat will be hosted by 2nd-year MBA and MBA Association President\, Andy Whitaker and 2021 grad\, Abby Swanson.
URL:https://broad.msu.edu/event/full-time-mba-zoom-chat-with-broad-mba-students-and-alumni/
LOCATION:Online
CATEGORIES:Admissions Events,Featured Events,Full-Time MBA
ORGANIZER;CN="MBA Admissions":MAILTO:mba@msu.edu
END:VEVENT
END:VCALENDAR