BEGIN:VCALENDAR
VERSION:2.0
PRODID:-//Eli Broad College of Business | Michigan State University - ECPv6.15.17.1//NONSGML v1.0//EN
CALSCALE:GREGORIAN
METHOD:PUBLISH
X-ORIGINAL-URL:https://broad.msu.edu
X-WR-CALDESC:Events for Eli Broad College of Business | Michigan State University
REFRESH-INTERVAL;VALUE=DURATION:PT1H
X-Robots-Tag:noindex
X-PUBLISHED-TTL:PT1H
BEGIN:VTIMEZONE
TZID:America/Detroit
BEGIN:DAYLIGHT
TZOFFSETFROM:-0500
TZOFFSETTO:-0400
TZNAME:EDT
DTSTART:20200308T070000
END:DAYLIGHT
BEGIN:STANDARD
TZOFFSETFROM:-0400
TZOFFSETTO:-0500
TZNAME:EST
DTSTART:20201101T060000
END:STANDARD
BEGIN:DAYLIGHT
TZOFFSETFROM:-0500
TZOFFSETTO:-0400
TZNAME:EDT
DTSTART:20210314T070000
END:DAYLIGHT
BEGIN:STANDARD
TZOFFSETFROM:-0400
TZOFFSETTO:-0500
TZNAME:EST
DTSTART:20211107T060000
END:STANDARD
BEGIN:DAYLIGHT
TZOFFSETFROM:-0500
TZOFFSETTO:-0400
TZNAME:EDT
DTSTART:20220313T070000
END:DAYLIGHT
BEGIN:STANDARD
TZOFFSETFROM:-0400
TZOFFSETTO:-0500
TZNAME:EST
DTSTART:20221106T060000
END:STANDARD
END:VTIMEZONE
BEGIN:VTIMEZONE
TZID:America/Belem
BEGIN:STANDARD
TZOFFSETFROM:-0300
TZOFFSETTO:-0300
TZNAME:-03
DTSTART:20200101T000000
END:STANDARD
END:VTIMEZONE
BEGIN:VEVENT
DTSTART;TZID=America/Detroit:20210817T120000
DTEND;TZID=America/Detroit:20210817T130000
DTSTAMP:20260423T155645
CREATED:20210811T142427Z
LAST-MODIFIED:20210811T170337Z
UID:10003447-1629201600-1629205200@broad.msu.edu
SUMMARY:How To Build Your Career In Tech: Top Tips From MSU Broad MBA
DESCRIPTION:In this webinar\, BusinessBecause will be speaking to MSU Broad staff and alumni to explore the top skills that tech employers are looking for\, how studying for an MBA can help make you competitive in the technology sector\, and what makes an MBA from MSU Broad unique. \nIn addition\, you’ll be able to get your questions answered by our panel in our interactive\nQ&A session. \n  \nWhat will you take away from this webinar? \n\nDiscover the 12 core\, multi-discipline skills that you need to be competitive in the\ntechnology sector.\nHear from\, and put your questions to\, MSU Broad’s full-time MBA director Wayne Hutchison and two MSU Broad alumni who have landed jobs with leading technology firms.\nFind out more about the benefits of studying an MSU Broad MBA\, including 100% employment placement (class of 2021) and the quickest MBA payback time of all ranked universities (Forbes\, 2019).\n\n  \nPanel:  \nWayne Hutchison\, managing director\, full-time MBA program\, MSU Broad \nMike Maglio\, people consultant\, Google and MSU Broad MBA graduate 2014 \nAndrea McHale\, director of admissions and enrollment\, MSU Broad \nJason McClean\, chief of staff\, Splunk and MSU Broad MBA graduate 2014 \nThomas Nugent\, deputy editor\, BusinessBecause
URL:https://broad.msu.edu/event/how-to-build-your-career-in-tech-top-tips-from-msu-broad-mba/
LOCATION:Online
CATEGORIES:Full-Time MBA
ORGANIZER;CN="MBA Admissions":MAILTO:mba@msu.edu
END:VEVENT
BEGIN:VEVENT
DTSTART;TZID=America/Belem:20210817T180000
DTEND;TZID=America/Belem:20210817T220000
DTSTAMP:20260423T155645
CREATED:20210722T133323Z
LAST-MODIFIED:20210723T181946Z
UID:10003418-1629223200-1629237600@broad.msu.edu
SUMMARY:MBA Tour Brazil
DESCRIPTION:Meet the Broad Full-Time MBA at the MBA Tour Brazil on Tuesday\, August 17th. Stop by our virtual booth to learn more about the Broad MBA\, discuss your MBA goals and hear about the admissions process. Leave us your information using the registration button below to express your interest in meeting us at the event and to receive updates about the Broad MBA program and admissions events!
URL:https://broad.msu.edu/event/full-time-mba-tour-brazil/
LOCATION:Online
CATEGORIES:Admissions Events,Featured Events,Full-Time MBA
ORGANIZER;CN="MBA Admissions":MAILTO:mba@msu.edu
END:VEVENT
BEGIN:VEVENT
DTSTART;TZID=America/Detroit:20210819T170000
DTEND;TZID=America/Detroit:20210819T220000
DTSTAMP:20260423T155645
CREATED:20210722T140357Z
LAST-MODIFIED:20210723T191108Z
UID:10003419-1629392400-1629410400@broad.msu.edu
SUMMARY:Forté Virtual Women's MBA Forum
DESCRIPTION:Meet the Broad Full-Time MBA team at the Forté Virtual MBA Forum on Thursday\, August 19th. Stop by our virtual booth to learn more about the Broad MBA\, what we offer for our women MBAs\, discuss your MBA goals and hear about the admissions process. Leave us your information using the registration button below to express your interest in meeting us at the event and to receive updates about the Broad MBA program and admissions events!
URL:https://broad.msu.edu/event/full-time-mba-forte-virtual-womens-mba-forum/
LOCATION:Online
CATEGORIES:Admissions Events,Full-Time MBA
ORGANIZER;CN="MBA Admissions":MAILTO:mba@msu.edu
END:VEVENT
END:VCALENDAR