BEGIN:VCALENDAR
VERSION:2.0
PRODID:-//Eli Broad College of Business | Michigan State University - ECPv6.15.17.1//NONSGML v1.0//EN
CALSCALE:GREGORIAN
METHOD:PUBLISH
X-WR-CALNAME:Eli Broad College of Business | Michigan State University
X-ORIGINAL-URL:https://broad.msu.edu
X-WR-CALDESC:Events for Eli Broad College of Business | Michigan State University
REFRESH-INTERVAL;VALUE=DURATION:PT1H
X-Robots-Tag:noindex
X-PUBLISHED-TTL:PT1H
BEGIN:VTIMEZONE
TZID:Asia/Kolkata
BEGIN:STANDARD
TZOFFSETFROM:+0530
TZOFFSETTO:+0530
TZNAME:IST
DTSTART:20200101T000000
END:STANDARD
END:VTIMEZONE
BEGIN:VTIMEZONE
TZID:America/Detroit
BEGIN:DAYLIGHT
TZOFFSETFROM:-0500
TZOFFSETTO:-0400
TZNAME:EDT
DTSTART:20200308T070000
END:DAYLIGHT
BEGIN:STANDARD
TZOFFSETFROM:-0400
TZOFFSETTO:-0500
TZNAME:EST
DTSTART:20201101T060000
END:STANDARD
BEGIN:DAYLIGHT
TZOFFSETFROM:-0500
TZOFFSETTO:-0400
TZNAME:EDT
DTSTART:20210314T070000
END:DAYLIGHT
BEGIN:STANDARD
TZOFFSETFROM:-0400
TZOFFSETTO:-0500
TZNAME:EST
DTSTART:20211107T060000
END:STANDARD
BEGIN:DAYLIGHT
TZOFFSETFROM:-0500
TZOFFSETTO:-0400
TZNAME:EDT
DTSTART:20220313T070000
END:DAYLIGHT
BEGIN:STANDARD
TZOFFSETFROM:-0400
TZOFFSETTO:-0500
TZNAME:EST
DTSTART:20221106T060000
END:STANDARD
END:VTIMEZONE
BEGIN:VEVENT
DTSTART;TZID=Asia/Kolkata:20210907T180000
DTEND;TZID=Asia/Kolkata:20210907T220000
DTSTAMP:20260424T020838
CREATED:20210722T162654Z
LAST-MODIFIED:20210722T162654Z
UID:10003422-1631037600-1631052000@broad.msu.edu
SUMMARY:MBA Tour Bangalore
DESCRIPTION:Meet the Broad Full-Time MBA team at the MBA Tour Bangalore on Tuesday\, September 7th. Stop by our virtual booth to learn more about the Broad MBA\, discuss your MBA goals and hear about the admissions process. Leave us your information using the registration button below to express your interest in meeting us at the event and to receive updates about the Broad MBA program and admissions events! \nYou can register for the MBA Tour Bangalore here: https://thembatour.com/bangalore/
URL:https://broad.msu.edu/event/full-time-mba-tour-bangalore/
LOCATION:Online
CATEGORIES:Admissions Events,Full-Time MBA
ORGANIZER;CN="MBA Admissions":MAILTO:mba@msu.edu
END:VEVENT
BEGIN:VEVENT
DTSTART;TZID=America/Detroit:20210907T190000
DTEND;TZID=America/Detroit:20210907T203000
DTSTAMP:20260424T020838
CREATED:20210901T204906Z
LAST-MODIFIED:20210901T204906Z
UID:10003135-1631041200-1631046600@broad.msu.edu
SUMMARY:Using Cultural Distance in International Business Research: Tips and Trends - Research Spotlight by MSU & Texas A&M CIBERS
DESCRIPTION:For this webinar\, we invited three international business/marketing scholars who have recently published important work on the measurement of cultural distance. Specifically\, our panelists will discuss their research addressing contemporary conceptual and methodological best practices for using cultural distance in international marketing/business research. This webinar will include short presentations followed by a discussion moderated by the co-hosts: Dr. Ahmet Kirca\, MSU\, and Dr. David Griffith\, Texas A&M university.
URL:https://broad.msu.edu/event/using-cultural-distance-in-international-business-research-tips-and-trends-research-spotlight-by-msu-texas-am-cibers/
LOCATION:Online
CATEGORIES:Featured Events,International Business Center,Marketing
ORGANIZER;CN="International Business Center":MAILTO:ibc@msu.edu
END:VEVENT
BEGIN:VEVENT
DTSTART;TZID=America/Detroit:20210908T113000
DTEND;TZID=America/Detroit:20210908T130000
DTSTAMP:20260424T020838
CREATED:20210901T205950Z
LAST-MODIFIED:20210903T134009Z
UID:10003136-1631100600-1631106000@broad.msu.edu
SUMMARY:MBN Speaker Series - Mobility Panel Discussion
DESCRIPTION:MBN Speaker Series continues virtually on Wednesday\, September 8th with THREE speakers joining Chris Holman for a panel discussion! \nAbout the Panelists\nCarla Bailo\, is the President and CEO of the Center for Automotive Research (CAR)\, and is a leader in engineering and vehicle program management with 35 years of experience in the automotive industry. \nGlenn Stevens Jr.\, is the executive director of MICHauto and serves as the Detroit Regional Chamber’s vice president of automotive and mobility initiatives. In this role\, Stevens provides strategic direction and leadership to the MICHauto program in its efforts to promote\, grow and retain Michigan’s automotive and next-generation mobility industries. \nThey will be joined by Trevor Pawl\, Chief Mobility Officer\, Office of Future Mobility and Electrification\, his office works across state government\, academia\, and private industry to enhance Michigan’s mobility ecosystem\, including developing dynamic mobility\, and electrification policies and supporting the startup and scale up of emerging technologies and businesses.
URL:https://broad.msu.edu/event/mbn-speaker-series-mobility-panel-discussion/
LOCATION:Online
CATEGORIES:International Business Center
ORGANIZER;CN="International Business Center":MAILTO:ibc@msu.edu
END:VEVENT
BEGIN:VEVENT
DTSTART;TZID=America/Detroit:20210909T110000
DTEND;TZID=America/Detroit:20210909T120000
DTSTAMP:20260424T020838
CREATED:20210903T131850Z
LAST-MODIFIED:20210903T133547Z
UID:10003137-1631185200-1631188800@broad.msu.edu
SUMMARY:MSI Consortium - IB Webinar Series: Designing and Sustaining MBA Programs that Reflect Business Relevance and a Disruptive World
DESCRIPTION:Webinar Jointly Organized by AIB Teaching & Education SIG and GSU CIBER! \nMBA programs are an essential part of executive development globally. Ability to provide managers with frameworks and insights that would help developing their businesses further ensures the success of an MBA program. However\, how can universities and academic faculty teaching in them ensure that MBA education reflects fast-pacing realities of disruptive business environment? How can MBAs incorporate state-of-art knowledge from the world of practice without compromising demands for the academic rigorousness? What materials\, teaching methods\, and teaching approaches should dominate MBA programs to train managers operating in constant uncertainty and change? \nJoin us to discuss these and many other essential questions with two outstanding educators and program managers who brought MBA education in their schools to new heights. \nFeaturing:\nDr. Liesl Riddle\, George Washington University School of Business\, US \nDr. Andreas Schotter\, Ivey Business School\, Canada \nThis webinar is free to attend\, but you must register.
URL:https://broad.msu.edu/event/msi-consortium-ib-webinar-series-designing-and-sustaining-mba-programs-that-reflect-business-relevance-and-a-disruptive-world/
LOCATION:Online
CATEGORIES:International Business Center
ORGANIZER;CN="International Business Center":MAILTO:ibc@msu.edu
END:VEVENT
BEGIN:VEVENT
DTSTART;TZID=America/Detroit:20210909T180000
DTEND;TZID=America/Detroit:20210909T190000
DTSTAMP:20260424T020838
CREATED:20210521T170929Z
LAST-MODIFIED:20210617T175701Z
UID:10003355-1631210400-1631214000@broad.msu.edu
SUMMARY:The Hatching 2021
DESCRIPTION:The Hatching\, hosted by LEAP (Lansing Economic Area Partnership)\, is a Pitch Competition open to entrepreneurs who reside in Clinton\, Eaton\, Ingham and Shiawassee counties. The Hatching is part of a community-wide effort to support local entrepreneurs and make the Lansing region a great place to start a business. This event helps move new business ideas from concept to reality\, and provides winners with funding\, legal support\, market research and more. \nLEAP invites all startups working on a product or service with a potential for positive local or global impact on physical\, economic and social challenges to apply. Each winner will receive $2\,000 and will get the opportunity to connect to a network of local resource providers and individuals dedicated to helping aspiring entrepreneurs succeed. \nThe event will be livestreamed on LEAP’s Facebook page.
URL:https://broad.msu.edu/event/the-hatching-2021/2021-09-09/
LOCATION:Online
CATEGORIES:Entrepreneurship,Featured Events
ORGANIZER;CN="Burgess Institute for Entrepreneurship &amp%3B Innovation":MAILTO:eship@msu.edu
END:VEVENT
BEGIN:VEVENT
DTSTART;TZID=America/Detroit:20210909T180000
DTEND;TZID=America/Detroit:20210909T193000
DTSTAMP:20260424T020838
CREATED:20210825T194835Z
LAST-MODIFIED:20210903T133756Z
UID:10003457-1631210400-1631215800@broad.msu.edu
SUMMARY:Broad on the Road - Royal Oak
DESCRIPTION:You’re invited to join the MSU MBA admissions team for drinks and appetizers at Oak City Grille in Royal Oak. At this event\, you’ll have the opportunity to learn more about our program\, our admissions requirements and network with MSU Full-Time MBA students and alumni. \n  \nAll attendees will receive an application fee waiver for the Fall 2022 intake of the Broad Full-Time MBA.
URL:https://broad.msu.edu/event/full-time-mba-broad-on-the-road-royal-oak/
LOCATION:Oak City Grille\, 212 W. 6th Street\, Royal Oak\, MI\, 48067\, United States
CATEGORIES:Admissions Events,Full-Time MBA
ORGANIZER;CN="MBA Admissions":MAILTO:mba@msu.edu
END:VEVENT
BEGIN:VEVENT
DTSTART;TZID=America/Detroit:20210909T180000
DTEND;TZID=America/Detroit:20210909T220000
DTSTAMP:20260424T020838
CREATED:20210722T165045Z
LAST-MODIFIED:20210722T165045Z
UID:10003423-1631210400-1631224800@broad.msu.edu
SUMMARY:MBA Tour Hyderabad
DESCRIPTION:Meet the Broad Full-Time MBA team at the MBA Tour Hyderabad on Thursday\, September 9th. Stop by our virtual booth to learn more about the Broad MBA\, discuss your MBA goals and hear about the admissions process. Leave us your information using the registration button below to express your interest in meeting us at the event and to receive updates about the Broad MBA program and admissions events! \nYou can register for the MBA Tour Hyderabad here: https://thembatour.com/hyderabad/
URL:https://broad.msu.edu/event/full-time-mba-tour-hyderabad/
LOCATION:Online
CATEGORIES:Admissions Events,Full-Time MBA
ORGANIZER;CN="MBA Admissions":MAILTO:mba@msu.edu
END:VEVENT
END:VCALENDAR