BEGIN:VCALENDAR
VERSION:2.0
PRODID:-//Eli Broad College of Business | Michigan State University - ECPv6.15.17.1//NONSGML v1.0//EN
CALSCALE:GREGORIAN
METHOD:PUBLISH
X-ORIGINAL-URL:https://broad.msu.edu
X-WR-CALDESC:Events for Eli Broad College of Business | Michigan State University
REFRESH-INTERVAL;VALUE=DURATION:PT1H
X-Robots-Tag:noindex
X-PUBLISHED-TTL:PT1H
BEGIN:VTIMEZONE
TZID:Africa/Lagos
BEGIN:STANDARD
TZOFFSETFROM:+0100
TZOFFSETTO:+0100
TZNAME:WAT
DTSTART:20200101T000000
END:STANDARD
END:VTIMEZONE
BEGIN:VTIMEZONE
TZID:America/Detroit
BEGIN:DAYLIGHT
TZOFFSETFROM:-0500
TZOFFSETTO:-0400
TZNAME:EDT
DTSTART:20200308T070000
END:DAYLIGHT
BEGIN:STANDARD
TZOFFSETFROM:-0400
TZOFFSETTO:-0500
TZNAME:EST
DTSTART:20201101T060000
END:STANDARD
BEGIN:DAYLIGHT
TZOFFSETFROM:-0500
TZOFFSETTO:-0400
TZNAME:EDT
DTSTART:20210314T070000
END:DAYLIGHT
BEGIN:STANDARD
TZOFFSETFROM:-0400
TZOFFSETTO:-0500
TZNAME:EST
DTSTART:20211107T060000
END:STANDARD
BEGIN:DAYLIGHT
TZOFFSETFROM:-0500
TZOFFSETTO:-0400
TZNAME:EDT
DTSTART:20220313T070000
END:DAYLIGHT
BEGIN:STANDARD
TZOFFSETFROM:-0400
TZOFFSETTO:-0500
TZNAME:EST
DTSTART:20221106T060000
END:STANDARD
END:VTIMEZONE
BEGIN:VEVENT
DTSTART;TZID=Africa/Lagos:20211026T180000
DTEND;TZID=Africa/Lagos:20211026T220000
DTSTAMP:20260425T132947
CREATED:20210723T171315Z
LAST-MODIFIED:20210723T171315Z
UID:10003436-1635271200-1635285600@broad.msu.edu
SUMMARY:MBA Tour Nigeria
DESCRIPTION:Meet the Broad Full-Time MBA team at the MBA Tour Nigeria on Tuesday\, October 26th. Stop by our virtual booth to learn more about the Broad MBA\, discuss your MBA goals and hear about the admissions process. Leave us your information using the registration button below to express your interest in meeting us at the event and to receive updates about the Broad MBA program and admissions events! \nYou can register for the MBA Tour Nigeria here: https://thembatour.com/nigeria/
URL:https://broad.msu.edu/event/full-time-mba-tour-nigeria/
LOCATION:Online
CATEGORIES:Admissions Events,Full-Time MBA
ORGANIZER;CN="MBA Admissions":MAILTO:mba@msu.edu
END:VEVENT
BEGIN:VEVENT
DTSTART;TZID=America/Detroit:20211026T190000
DTEND;TZID=America/Detroit:20211026T200000
DTSTAMP:20260425T132947
CREATED:20211026T145804Z
LAST-MODIFIED:20211026T145804Z
UID:10003489-1635274800-1635278400@broad.msu.edu
SUMMARY:Multifarious Speaker Series by Multicultural Business Programs
DESCRIPTION:This series is created to empower students\, staff\, faculty\, and the community in a way that encourages motivation\, and inspires transformation. Through the messages and the guest speakers\, this series will cause attendees to reflect and take action in their lives. Topics and speakers were chosen around the strategic themes of a Global Mindset\, Diversity\, and Ethics and Leadership. \n  \nWeek 1: It’s Bigger Than You \n  \n\nTuesday October 26: The Importance of Decision Making – Lourawls “Tum Tum” Nairn (First 30 students will get a copy of his book ‘Purpose Driven’)\nThursday October 28: The Importance of Getting Uncomfortable – Ed Tillett\n\n  \nWeek 2: Keeping Your Cool \n\nTuesday November 2: The Principle of Gratitude – Nosa Eguae\nThursday November 4: Having Healthy Expectations or What is Hope? – Joshua Langford\n\nWeek 3: Look Past the Surface \n\nTuesday November 9: What is love? –  Joshua Langford\nThursday November 11: Why being different is an advantage. –  Lauren Aitch-Guerrant\n\n  \nWeek 4: Getting Rid of Limitations \n\nTuesday November 16: Dominating your environment – Joshua Langford\nThursday November 18: The Principle of Exposure – Bennie Fowler (First 30 students will get a copy of his book ‘Silver Spoon: The Imperfect Guide to Success)\n\nWeek 5: It Isn’t Enough to Get an Education \n\nTuesday November 23: Mental and Emotional Health – Jazmine Price\nNothing on Thursday November 25\, due to Thanksgiving\n\nWeek 6: We Need Everybody \n\nTuesday November 30: The power of community – Mark and Jackie Baldwin\nThursday December 2: Breaking the view of Culture – Broad College of Business Dean Sanjay Gupta\n\nWeek 7: You Can Lead! \n\nTuesday December 7: You Can Lead – Rodger Price\nThursday December 9: The Power of Leadership – Mateen Cleaves
URL:https://broad.msu.edu/event/multifarious-speaker-series-by-multicultural-business-programs/2021-10-26/
LOCATION:North Business Building\, 632 Bogue St\, East Lansing\, MI\, 48824\, United States
END:VEVENT
BEGIN:VEVENT
DTSTART;TZID=America/Detroit:20211026T190000
DTEND;TZID=America/Detroit:20211026T210000
DTSTAMP:20260425T132947
CREATED:20210723T170006Z
LAST-MODIFIED:20210910T141639Z
UID:10003432-1635274800-1635282000@broad.msu.edu
SUMMARY:QS MBA Event - USA Midwest and South
DESCRIPTION:Connect with a Broad Full-Time MBA admissions officer at the QS MBA USA Midwest and South event on Tuesday\, October 26th. Visit our virtual booth to learn more about the Broad MBA\, discuss your MBA goals and hear about the admissions process. Leave us your information using the registration button below to express your interest in meeting us at the event and to receive updates about the Broad MBA program and admissions events! \nRegister for the QS MBA event here: https://qs.topmba.com/
URL:https://broad.msu.edu/event/full-time-mba-qs-mba-event-chicago/
LOCATION:Online
CATEGORIES:Admissions Events,Full-Time MBA
ORGANIZER;CN="MBA Admissions":MAILTO:mba@msu.edu
END:VEVENT
BEGIN:VEVENT
DTSTART;TZID=America/Detroit:20211027T114500
DTEND;TZID=America/Detroit:20211027T123000
DTSTAMP:20260425T132947
CREATED:20200914T151326Z
LAST-MODIFIED:20211026T204638Z
UID:10003186-1635335100-1635337800@broad.msu.edu
SUMMARY:Broad MBA International Student Panel
DESCRIPTION:This webinar will feature a panel of current International Broad MBA students with varying backgrounds and post-MBA goals who will answer questions and describe their journey to the Michigan State Broad MBA and their experiences within the program.
URL:https://broad.msu.edu/event/full-time-mba-international-student-panel-10-27-21/
LOCATION:Online
CATEGORIES:Admissions Events,Full-Time MBA
ORGANIZER;CN="MBA Admissions":MAILTO:mba@msu.edu
END:VEVENT
BEGIN:VEVENT
DTSTART;TZID=America/Detroit:20211028T190000
DTEND;TZID=America/Detroit:20211028T200000
DTSTAMP:20260425T132947
CREATED:20211026T145804Z
LAST-MODIFIED:20211026T145804Z
UID:10003490-1635447600-1635451200@broad.msu.edu
SUMMARY:Multifarious Speaker Series by Multicultural Business Programs
DESCRIPTION:This series is created to empower students\, staff\, faculty\, and the community in a way that encourages motivation\, and inspires transformation. Through the messages and the guest speakers\, this series will cause attendees to reflect and take action in their lives. Topics and speakers were chosen around the strategic themes of a Global Mindset\, Diversity\, and Ethics and Leadership. \n  \nWeek 1: It’s Bigger Than You \n  \n\nTuesday October 26: The Importance of Decision Making – Lourawls “Tum Tum” Nairn (First 30 students will get a copy of his book ‘Purpose Driven’)\nThursday October 28: The Importance of Getting Uncomfortable – Ed Tillett\n\n  \nWeek 2: Keeping Your Cool \n\nTuesday November 2: The Principle of Gratitude – Nosa Eguae\nThursday November 4: Having Healthy Expectations or What is Hope? – Joshua Langford\n\nWeek 3: Look Past the Surface \n\nTuesday November 9: What is love? –  Joshua Langford\nThursday November 11: Why being different is an advantage. –  Lauren Aitch-Guerrant\n\n  \nWeek 4: Getting Rid of Limitations \n\nTuesday November 16: Dominating your environment – Joshua Langford\nThursday November 18: The Principle of Exposure – Bennie Fowler (First 30 students will get a copy of his book ‘Silver Spoon: The Imperfect Guide to Success)\n\nWeek 5: It Isn’t Enough to Get an Education \n\nTuesday November 23: Mental and Emotional Health – Jazmine Price\nNothing on Thursday November 25\, due to Thanksgiving\n\nWeek 6: We Need Everybody \n\nTuesday November 30: The power of community – Mark and Jackie Baldwin\nThursday December 2: Breaking the view of Culture – Broad College of Business Dean Sanjay Gupta\n\nWeek 7: You Can Lead! \n\nTuesday December 7: You Can Lead – Rodger Price\nThursday December 9: The Power of Leadership – Mateen Cleaves
URL:https://broad.msu.edu/event/multifarious-speaker-series-by-multicultural-business-programs/2021-10-28/
LOCATION:North Business Building\, 632 Bogue St\, East Lansing\, MI\, 48824\, United States
END:VEVENT
BEGIN:VEVENT
DTSTART;TZID=America/Detroit:20211029T090000
DTEND;TZID=America/Detroit:20211029T180000
DTSTAMP:20260425T132947
CREATED:20210927T185224Z
LAST-MODIFIED:20210927T185224Z
UID:10003484-1635498000-1635530400@broad.msu.edu
SUMMARY:2021 Broad College International Business Case Competition
DESCRIPTION:IBC/MSU-CIBER is organizing an international business case competition in the Broad College. The student teams will have 3 days to work on the business case and present their solutions to a panel of industry judges. Each presentation will last for 20 min\, followed by 10 min Q&A session. \nYou are invited! \n\n$4\,000 competition award fund: $2\,000 for the 1st place\, $1\,200 for the 2nd place\, $800 for the 3rd place\nGain valuable experience and make yourself more marketable (unique line on a resume\, topic of conversation in interviews\, etc.)\nEach participant will receive “Case in Point: Case Competition” book\, a great toolkit for case preparation\nPotential to represent Broad College at the national case competitions\n\nEligibility\n\nThe competition is open to Broad College undergraduate students\nEach team must consist of 4 students. Participants can either:\n\nform a team of 4 students (preferred option) or\nexpress interest in the competition and be assigned to a team by organizers\n\n\nEntrants will be accepted on a first come first serve basis until the limit of 12 teams is reached\n\nCompetition sign-up deadline: Oct 15\, 2021 \nFor more information\, please contact Carlotta Gmachl at gmachlca@msu.edu.
URL:https://broad.msu.edu/event/2021-broad-college-international-business-case-competition/
LOCATION:Minskoff Pavilion\, 651 N Shaw Ln\, East Lansing\, MI\, 48824\, United States
CATEGORIES:Featured Events,International Business Center
ORGANIZER;CN="International Business Center":MAILTO:ibc@msu.edu
END:VEVENT
BEGIN:VEVENT
DTSTART;TZID=America/Detroit:20211030T100000
DTEND;TZID=America/Detroit:20211030T210000
DTSTAMP:20260425T132947
CREATED:20210910T142251Z
LAST-MODIFIED:20210927T184149Z
UID:10003465-1635588000-1635627600@broad.msu.edu
SUMMARY:QS MBA Event - New York
DESCRIPTION:Connect with a Broad Full-Time MBA admissions officer at the QS MBA Event – New York on Saturday\, October 30th. Set up a one-on-one chat with us to learn more about the Broad MBA\, discuss your MBA goals and hear about the admissions process. Leave us your information using the registration button below to express your interest in meeting us at the event and to receive updates about the Broad MBA program and admissions events!
URL:https://broad.msu.edu/event/qs-mba-event-new-york/
LOCATION:Online
CATEGORIES:Admissions Events,Full-Time MBA
ORGANIZER;CN="MBA Admissions":MAILTO:mba@msu.edu
END:VEVENT
END:VCALENDAR