BEGIN:VCALENDAR
VERSION:2.0
PRODID:-//Eli Broad College of Business | Michigan State University - ECPv6.15.17.1//NONSGML v1.0//EN
CALSCALE:GREGORIAN
METHOD:PUBLISH
X-ORIGINAL-URL:https://broad.msu.edu
X-WR-CALDESC:Events for Eli Broad College of Business | Michigan State University
REFRESH-INTERVAL;VALUE=DURATION:PT1H
X-Robots-Tag:noindex
X-PUBLISHED-TTL:PT1H
BEGIN:VTIMEZONE
TZID:America/Detroit
BEGIN:DAYLIGHT
TZOFFSETFROM:-0500
TZOFFSETTO:-0400
TZNAME:EDT
DTSTART:20210314T070000
END:DAYLIGHT
BEGIN:STANDARD
TZOFFSETFROM:-0400
TZOFFSETTO:-0500
TZNAME:EST
DTSTART:20211107T060000
END:STANDARD
BEGIN:DAYLIGHT
TZOFFSETFROM:-0500
TZOFFSETTO:-0400
TZNAME:EDT
DTSTART:20220313T070000
END:DAYLIGHT
BEGIN:STANDARD
TZOFFSETFROM:-0400
TZOFFSETTO:-0500
TZNAME:EST
DTSTART:20221106T060000
END:STANDARD
BEGIN:DAYLIGHT
TZOFFSETFROM:-0500
TZOFFSETTO:-0400
TZNAME:EDT
DTSTART:20230312T070000
END:DAYLIGHT
BEGIN:STANDARD
TZOFFSETFROM:-0400
TZOFFSETTO:-0500
TZNAME:EST
DTSTART:20231105T060000
END:STANDARD
END:VTIMEZONE
BEGIN:VEVENT
DTSTART;TZID=America/Detroit:20220119T080000
DTEND;TZID=America/Detroit:20220119T093000
DTSTAMP:20260424T011657
CREATED:20220112T152322Z
LAST-MODIFIED:20220114T161050Z
UID:10003522-1642579200-1642584600@broad.msu.edu
SUMMARY:Business and Bagels | Applying Strategy to Board Design
DESCRIPTION:Description\nWhether a firm simply survives or actively thrives often hinges on the managers’ understanding—and ideally mastering—organizational design. Organizational design seeks to create alignment between the organization and its operational strategy through a mix of formal and informal structures\, processes\, and rewards. While the principles of organizational design apply to all parts of the firm\, one key area will be the focus of the January 19 Business and Bagels webinar: the board room. Shelby Gai\, Ph.D.\, will examine how leaders can structure their advisory boards to successfully execute on strategy. What factors should decisionmakers consider when searching for board candidates? What structure helps even the newest board member to fully and enthusiastically contribute to the decision-making process? Gai presents a framework that empowers managers to shape an advisory council as a buffer from current challenges while steering towards long-term success. \n  \nPresenter\nShelby Gai\, Ph.D. is an Assistant Professor of Management at Michigan State University. Her research focuses on board design – a subfield of organizational design that emphasizes how to design a company’s board of directors to align with the organization’s strategic goals. Her work has received awards including the 2018 Andreas Al-Laham Best Paper Award from the Multi-Level Network Research Standing Working Group at the European Group for Organizational Studies and was nominated for the 2019 Best Paper Proceedings from the Strategy Division of the Academy of Management. \nShelby graduated with an M.A. and Ph.D. in Management and Organizations from Northwestern University’s Kellogg School of Management. She also has an M.S. in Statistics from Northwestern as well as a M.A. from the Wharton School\, where she researched changes in Hong Kong’s board independence regulations using an institutional lens. Shelby graduated magna cum laude from Princeton University with an A.B. in Sociology and a certificate in East Asian Studies. Before entering academia\, Shelby worked in the Financial Services and Board Services Practices at the executive search firm Spencer Stuart in both their New York and Shanghai offices. \nShelby Gai\, assistant professor of management \n  \n 
URL:https://broad.msu.edu/event/business-and-bagels-applying-strategy-to-board-design/
LOCATION:Virtual
CATEGORIES:Executive Development Programs,Featured Events,Management
ORGANIZER;CN="Executive Development Programs":MAILTO:edp@broad.msu.edu
END:VEVENT
BEGIN:VEVENT
DTSTART;TZID=America/Detroit:20220119T190000
DTEND;TZID=America/Detroit:20220119T200000
DTSTAMP:20260424T011658
CREATED:20210714T145731Z
LAST-MODIFIED:20210714T145731Z
UID:10003107-1642618800-1642622400@broad.msu.edu
SUMMARY:The MSU Broad MBA Student Experience: Webinar
DESCRIPTION:This webinar will feature a panel of current Broad MBA students with varying backgrounds and post-MBA goals who will answer questions and describe their experiences as students in the Michigan State Broad Full-Time MBA program.
URL:https://broad.msu.edu/event/the-msu-broad-mba-student-experience-webinar/
LOCATION:Online
CATEGORIES:Admissions Events,Full-Time MBA
ORGANIZER;CN="MBA Admissions":MAILTO:mba@msu.edu
END:VEVENT
BEGIN:VEVENT
DTSTART;TZID=America/Detroit:20220122T100000
DTEND;TZID=America/Detroit:20220122T130000
DTSTAMP:20260424T011658
CREATED:20211214T134614Z
LAST-MODIFIED:20220120T163824Z
UID:10003519-1642845600-1642856400@broad.msu.edu
SUMMARY:Executive MBA | Program Preview | Troy **virtual event
DESCRIPTION:Join Greg Janicki\, Director of the Executive MBA Program\, in a virtual program preview. This webinar will provide details regarding the academic program\, admission criteria\, and tuition/program fees. Agenda Information Session Q & A Connecting with program alumni \n  \nNote\, as of 1.20.22 this event has been changed to a virtual event. \nAgenda: \n10:00 a.m. | Short Information Session
URL:https://broad.msu.edu/event/executive-mba-program-preview-troy-jan2022/
LOCATION:Virtual
CATEGORIES:Admissions Events,Executive MBA,Featured Events
ORGANIZER;CN="Sarah Ellis%2C Admissions & Academic Services Manager":MAILTO:sellis@broad.msu.edu
END:VEVENT
END:VCALENDAR