BEGIN:VCALENDAR
VERSION:2.0
PRODID:-//Eli Broad College of Business | Michigan State University - ECPv6.15.17.1//NONSGML v1.0//EN
CALSCALE:GREGORIAN
METHOD:PUBLISH
X-WR-CALNAME:Eli Broad College of Business | Michigan State University
X-ORIGINAL-URL:https://broad.msu.edu
X-WR-CALDESC:Events for Eli Broad College of Business | Michigan State University
REFRESH-INTERVAL;VALUE=DURATION:PT1H
X-Robots-Tag:noindex
X-PUBLISHED-TTL:PT1H
BEGIN:VTIMEZONE
TZID:America/Detroit
BEGIN:DAYLIGHT
TZOFFSETFROM:-0500
TZOFFSETTO:-0400
TZNAME:EDT
DTSTART:20220313T070000
END:DAYLIGHT
BEGIN:STANDARD
TZOFFSETFROM:-0400
TZOFFSETTO:-0500
TZNAME:EST
DTSTART:20221106T060000
END:STANDARD
BEGIN:DAYLIGHT
TZOFFSETFROM:-0500
TZOFFSETTO:-0400
TZNAME:EDT
DTSTART:20230312T070000
END:DAYLIGHT
BEGIN:STANDARD
TZOFFSETFROM:-0400
TZOFFSETTO:-0500
TZNAME:EST
DTSTART:20231105T060000
END:STANDARD
BEGIN:DAYLIGHT
TZOFFSETFROM:-0500
TZOFFSETTO:-0400
TZNAME:EDT
DTSTART:20240310T070000
END:DAYLIGHT
BEGIN:STANDARD
TZOFFSETFROM:-0400
TZOFFSETTO:-0500
TZNAME:EST
DTSTART:20241103T060000
END:STANDARD
END:VTIMEZONE
BEGIN:VEVENT
DTSTART;TZID=America/Detroit:20230410T100000
DTEND;TZID=America/Detroit:20230410T120000
DTSTAMP:20260422T121834
CREATED:20230331T151602Z
LAST-MODIFIED:20230331T154246Z
UID:10003710-1681120800-1681128000@broad.msu.edu
SUMMARY:ESIP at the Rock
DESCRIPTION:Join us for ESIP at The Rock  from 10:00 a.m. – 12:00 p.m. ET for free Groovy Donuts & Blue Owl Coffee to kick-off the 2023 Entrepreneurship & Innovation Week at Michigan State University
URL:https://broad.msu.edu/event/esip-at-the-rock/
LOCATION:The Rock\, 514 Farm Ln\, East Lansing\, MI\, 48825
CATEGORIES:Entrepreneurship
ORGANIZER;CN="Burgess Institute for Entrepreneurship &amp%3B Innovation":MAILTO:eship@msu.edu
END:VEVENT
BEGIN:VEVENT
DTSTART;TZID=America/Detroit:20230410T120000
DTEND;TZID=America/Detroit:20230410T130000
DTSTAMP:20260422T121834
CREATED:20230329T204552Z
LAST-MODIFIED:20230329T204552Z
UID:10003708-1681128000-1681131600@broad.msu.edu
SUMMARY:MS Accounting & Data Analytics Information Session
DESCRIPTION:Join us to learn more about MSU’s Master of Science in Accounting & Data Analytics program!
URL:https://broad.msu.edu/event/ms-accounting-data-analytics-information-session-02/
LOCATION:Online
CATEGORIES:M.S. in Accounting and Data Analytics
END:VEVENT
BEGIN:VEVENT
DTSTART;TZID=America/Detroit:20230410T160000
DTEND;TZID=America/Detroit:20230410T180000
DTSTAMP:20260422T121834
CREATED:20230331T154012Z
LAST-MODIFIED:20230331T154012Z
UID:10003711-1681142400-1681149600@broad.msu.edu
SUMMARY:Innovation Celebration
DESCRIPTION:Each year\, the MSU Innovation Celebration honors Michigan State University researchers who reported an invention\, licensed a technology or were awarded patents during the academic year. The awards recognize outstanding achievements in technology transfer and commercialization\, corporate engagement\, and sponsored research.
URL:https://broad.msu.edu/event/innovation-celebration/
LOCATION:Kellogg Hotel & Conference Center\, 219 S Harrison Rd\, East Lansing\, MI\, 48824\, United States
CATEGORIES:Entrepreneurship
ORGANIZER;CN="Burgess Institute for Entrepreneurship &amp%3B Innovation":MAILTO:eship@msu.edu
END:VEVENT
BEGIN:VEVENT
DTSTART;TZID=America/Detroit:20230411T120000
DTEND;TZID=America/Detroit:20230411T140000
DTSTAMP:20260422T121834
CREATED:20230223T152025Z
LAST-MODIFIED:20230223T152201Z
UID:10003702-1681214400-1681221600@broad.msu.edu
SUMMARY:Hospitality Business: SHBAA Executive & Appointed Boards of Directors Meeting
DESCRIPTION:Save the date! This meeting will be held via Zoom with access instructions sent via email. Agenda and other meeting documents to follow as well. Thank you!
URL:https://broad.msu.edu/event/hospitality-business-shbaa-executive-appointed-meeting/
LOCATION:Online
CATEGORIES:Hospitality Business
ORGANIZER;CN="Lena Loeffler":MAILTO:loeffler@broad.msu.edu
END:VEVENT
BEGIN:VEVENT
DTSTART;TZID=America/Detroit:20230411T180000
DTEND;TZID=America/Detroit:20230411T193000
DTSTAMP:20260422T121834
CREATED:20230331T155312Z
LAST-MODIFIED:20230331T155312Z
UID:10003712-1681236000-1681241400@broad.msu.edu
SUMMARY:The Founders Chat
DESCRIPTION:The Founders Chat: Joe Germanotta & Dan Romanelli will take place on Tues.\, April 11\, 2023\, at 6:00 p.m. ET via Zoom\, as part of the fifth annual Entrepreneurship & Innovation Week at Michigan State University\, co-hosted by Women in Entrepreneurship\, Entrepreneurship Association & the MBA Entrepreneurship Association. Early registration is highly encouraged. \nAbout our Speakers\nJoe Germanotta\, Entrepreneur & Restaurateur \nJoseph Germanotta is a graduate of The School of Hospitality Business in the Eli Broad College of Business at Michigan State University. He worked to build his career as a successful entrepreneur and businessman. His background is varied\, from working for major corporations\, owning and operating several businesses\, to authoring a cookbook. \nDan Romanelli\, Founder & Former President\, Warner Bros Consumer Products \nDan Romanelli founded Warner Bros Consumer Products\, the Warner Bros Studio Stores and spearheaded some of the most heralded licensing campaigns ever\, including Looney Tunes\, Space Jam\, Batman\, Superman\, Scooby-Doo and Harry Potter.
URL:https://broad.msu.edu/event/the-founders-chat/
LOCATION:Virtual
CATEGORIES:Entrepreneurship
ORGANIZER;CN="Burgess Institute for Entrepreneurship &amp%3B Innovation":MAILTO:eship@msu.edu
END:VEVENT
BEGIN:VEVENT
DTSTART;TZID=America/Detroit:20230412T170000
DTEND;TZID=America/Detroit:20230412T193000
DTSTAMP:20260422T121834
CREATED:20230308T193004Z
LAST-MODIFIED:20230313T164406Z
UID:10003385-1681318800-1681327800@broad.msu.edu
SUMMARY:MSU Detroit Executive Forum: The Business of Supply Chain  
DESCRIPTION:  \nSupply chain management has been elevated to the forefront of all business conversations\, as the global pandemic has exposed hidden vulnerabilities and leaders have had to navigate countless disruptions. \nWhat are the lessons learned that we must take forward? What does the future of supply chain look like? Faculty from the Broad College of Business and global industry leaders and alumni are coming together to answer these questions and provide valuable insights at the MSU Detroit Executive Forum: The Business of Supply Chain on April 12. \nJoin us at MotorCity Casino to learn from business experts discussing today’s most pressing issues across the supply chain. The evening will kick-off with a presentation from Jason Miller\, interim chairperson of the Department of Supply Chain Management\, followed by a panel discussion co-moderated by Interim Dean Judith Whipple and Kevin Speicher\, senior partner\, Detroit\, McKinsey & Company. \nOur featured panel will include: \n\nBrian Beattie\, B.A. Marketing ’81 – President of Western US Operations\, Lineage Logistics\nDavid Leich\, B.A. Materials and Logistics Management ’88 – Executive Director of Global Supply Chain\, General Motors\nChristine Krathwohl\, B.A. Materials and Logistics Management ’93\, EMBA ’02 – Vice President of Global Business Development\, FreightVerify\, Inc.\n\nAgenda\n5:30p | Networking Reception \n6:00p | Presentation from Jason Miller \n6:10p | Featured Panel \nAdmission\nGeneral admission into the MSU Detroit Executive Forum is $30 per person.
URL:https://broad.msu.edu/event/detroit-executive-forum-the-business-of-supply-chain/
LOCATION:Motor City Casino | Soundboard Theatre\, 2901 Grand River Ave\, Detroit\, MI\, 48201
CATEGORIES:Alumni Events,College-wide Events,Faculty Events,Featured Events,Supply Chain Management
ORGANIZER;CN="Lisa Graham":MAILTO:graha339@msu.edu
END:VEVENT
BEGIN:VEVENT
DTSTART;TZID=America/Detroit:20230412T180000
DTEND;TZID=America/Detroit:20230412T190000
DTSTAMP:20260422T121834
CREATED:20230331T160027Z
LAST-MODIFIED:20230421T133418Z
UID:10003393-1681322400-1681326000@broad.msu.edu
SUMMARY:Innovation State: Doing Epic Sh*t\, ft Ankur Warikoo
DESCRIPTION:About our Speaker\nAnkur Warikoo\, Serial Entrepreneur\, Content Creator\, Bestselling Author \nAnkur Warikoo is an Internet Entrepreneur based out of India and is one of India’s top content creators. He is also a bestselling author and conducts courses online as an educator. In his spare time\, Warikoo loves to mentor entrepreneurs and act as an angel-investor. \nPresently\, Warikoo splits his time as a: \n\nContent creator (where he engages a community of 7M+ followers across YouTube\, LinkedIn\, Instagram\, Twitter and Facebook)\,\nAn online educator (where he conducts courses on entrepreneurship\, career management and personal growth. Over 230\,000+ students have attended his courses so far.)\nAnd as a mentor/investor to startups (where he loves spending time with first-time entrepreneurs hoping he can help them not make the same mistakes he made when he started up)
URL:https://broad.msu.edu/event/innovation-state-doing-epic-sht-ft-ankur-warikoo/
LOCATION:Entrepreneurship Lab\, 651 N Shaw Ln\, East Lansing\, MI\, 48824\, United States
CATEGORIES:Entrepreneurship
ORGANIZER;CN="Burgess Institute for Entrepreneurship &amp%3B Innovation":MAILTO:eship@msu.edu
END:VEVENT
BEGIN:VEVENT
DTSTART;TZID=America/Detroit:20230412T190000
DTEND;TZID=America/Detroit:20230412T200000
DTSTAMP:20260422T121834
CREATED:20230120T145508Z
LAST-MODIFIED:20230120T145508Z
UID:10003372-1681326000-1681329600@broad.msu.edu
SUMMARY:The MSU Broad MBA Student Experience
DESCRIPTION:This webinar will feature a panel of current Broad MBA students with varying backgrounds and post-MBA goals who will answer questions and describe their experiences as students in the Michigan State Broad Full-Time MBA program.
URL:https://broad.msu.edu/event/the-msu-broad-mba-student-experience-4-12-23/
LOCATION:Online
CATEGORIES:Admissions Events,Full-Time MBA
ORGANIZER;CN="MBA Admissions":MAILTO:mba@msu.edu
END:VEVENT
BEGIN:VEVENT
DTSTART;TZID=America/Detroit:20230413T140000
DTEND;TZID=America/Detroit:20230413T150000
DTSTAMP:20260422T121834
CREATED:20230208T220550Z
LAST-MODIFIED:20230421T132041Z
UID:10003695-1681394400-1681398000@broad.msu.edu
SUMMARY:MS-CXM Information Session
DESCRIPTION:Join us to learn more about the MSU MS-CXM program!
URL:https://broad.msu.edu/event/ms-cxm-info-session-2/
LOCATION:Online
CATEGORIES:M.S. in Customer Experience Management
END:VEVENT
BEGIN:VEVENT
DTSTART;TZID=America/Detroit:20230413T160000
DTEND;TZID=America/Detroit:20230413T200000
DTSTAMP:20260422T121834
CREATED:20230331T161009Z
LAST-MODIFIED:20230421T133512Z
UID:10003394-1681401600-1681416000@broad.msu.edu
SUMMARY:2023 Burgess New Venture Challenge
DESCRIPTION:Join us in-person for the fifth annual Burgess New Venture Challenge on Thursday\, April 13\, 2023\, from 4:00 PM – 8:00 PM at the Graduate East Lansing! \nThe Burgess New Venture Challenge\, hosted by the Burgess Institute for Entrepreneurship & Innovation at Michigan State University\, is the premier pitch competition for student venturers. For nearly two centuries\, Spartans have ventured to feed a hungry world\, fight cancer\, invent new technologies\, and kindle the imaginations of learners around the globe. We empowered our Spartan venturers to harness the power of the entrepreneurial mindset\, work together\, and leverage their team’s strengths to create a winning startup. \n 
URL:https://broad.msu.edu/event/2023-burgess-new-venture-challenge/
LOCATION:Graduate Hotel\, 133 Evergreen Avenue\, East Lansing\, MI\, 48823\, United States
CATEGORIES:Entrepreneurship
ORGANIZER;CN="Burgess Institute for Entrepreneurship &amp%3B Innovation":MAILTO:eship@msu.edu
END:VEVENT
BEGIN:VEVENT
DTSTART;TZID=America/Detroit:20230413T180000
DTEND;TZID=America/Detroit:20230413T190000
DTSTAMP:20260422T121834
CREATED:20221130T175445Z
LAST-MODIFIED:20230421T132027Z
UID:10003656-1681408800-1681412400@broad.msu.edu
SUMMARY:Broad Executive MBA | Virtual Program Preview
DESCRIPTION:Join Kara Tripi\, Associate Director of the Broad College Executive MBA Program\, in a virtual program preview. This webinar will provide details regarding the academic program\, admission criteria\, and tuition/program fees. \nAgenda \n\nInformation Session\nQ & A\nConnecting with program alumni
URL:https://broad.msu.edu/event/broad-executive-mba-virtual-program-preview-april2023/
LOCATION:Online
CATEGORIES:Executive MBA,Recruiting Events
ORGANIZER;CN="Kara Tripi":MAILTO:ktripi@broad.msu.edu
END:VEVENT
BEGIN:VEVENT
DTSTART;TZID=America/Detroit:20230414T120000
DTEND;TZID=America/Detroit:20230414T133000
DTSTAMP:20260422T121834
CREATED:20230410T142742Z
LAST-MODIFIED:20230421T132029Z
UID:10003727-1681473600-1681479000@broad.msu.edu
SUMMARY:Research Spotlight: Global Marketing in a Digitally Connected World
DESCRIPTION:For this webinar\, we invited three international business/marketing scholars who have recently published important work related to global marketing in a digitally connected world. Our panelists will discuss their perspectives on the opportunities available for high-impact global marketing research in the digital context\, as well as address contemporary conceptual and methodological best practices necessary for publishing work in the area. This webinar will include short presentations followed by a discussion moderated by the co-hosts. \nView File
URL:https://broad.msu.edu/event/research-spotlight-global-marketing-in-a-digitally-connected-world/
LOCATION:Online
CATEGORIES:International Business Center
ORGANIZER;CN="International Business Center":MAILTO:ibc@msu.edu
END:VEVENT
BEGIN:VEVENT
DTSTART;TZID=America/Detroit:20230414T143000
DTEND;TZID=America/Detroit:20230414T153000
DTSTAMP:20260422T121834
CREATED:20230329T204718Z
LAST-MODIFIED:20230421T132012Z
UID:10003709-1681482600-1681486200@broad.msu.edu
SUMMARY:MS Accounting & Data Analytics Information Session
DESCRIPTION:Join us to learn more about MSU’s Master of Science in Accounting & Data Analytics program!
URL:https://broad.msu.edu/event/ms-accounting-data-analytics-information-session-03/
LOCATION:Online
CATEGORIES:M.S. in Accounting and Data Analytics
END:VEVENT
END:VCALENDAR