BEGIN:VCALENDAR
VERSION:2.0
PRODID:-//Eli Broad College of Business | Michigan State University - ECPv6.15.17.1//NONSGML v1.0//EN
CALSCALE:GREGORIAN
METHOD:PUBLISH
X-WR-CALNAME:Eli Broad College of Business | Michigan State University
X-ORIGINAL-URL:https://broad.msu.edu
X-WR-CALDESC:Events for Eli Broad College of Business | Michigan State University
REFRESH-INTERVAL;VALUE=DURATION:PT1H
X-Robots-Tag:noindex
X-PUBLISHED-TTL:PT1H
BEGIN:VTIMEZONE
TZID:America/Detroit
BEGIN:DAYLIGHT
TZOFFSETFROM:-0500
TZOFFSETTO:-0400
TZNAME:EDT
DTSTART:20220313T070000
END:DAYLIGHT
BEGIN:STANDARD
TZOFFSETFROM:-0400
TZOFFSETTO:-0500
TZNAME:EST
DTSTART:20221106T060000
END:STANDARD
BEGIN:DAYLIGHT
TZOFFSETFROM:-0500
TZOFFSETTO:-0400
TZNAME:EDT
DTSTART:20230312T070000
END:DAYLIGHT
BEGIN:STANDARD
TZOFFSETFROM:-0400
TZOFFSETTO:-0500
TZNAME:EST
DTSTART:20231105T060000
END:STANDARD
BEGIN:DAYLIGHT
TZOFFSETFROM:-0500
TZOFFSETTO:-0400
TZNAME:EDT
DTSTART:20240310T070000
END:DAYLIGHT
BEGIN:STANDARD
TZOFFSETFROM:-0400
TZOFFSETTO:-0500
TZNAME:EST
DTSTART:20241103T060000
END:STANDARD
END:VTIMEZONE
BEGIN:VTIMEZONE
TZID:America/Mexico_City
BEGIN:DAYLIGHT
TZOFFSETFROM:-0600
TZOFFSETTO:-0500
TZNAME:CDT
DTSTART:20220403T080000
END:DAYLIGHT
BEGIN:STANDARD
TZOFFSETFROM:-0500
TZOFFSETTO:-0600
TZNAME:CST
DTSTART:20221030T070000
END:STANDARD
END:VTIMEZONE
BEGIN:VEVENT
DTSTART;TZID=America/Detroit:20230802T120000
DTEND;TZID=America/Detroit:20230802T130000
DTSTAMP:20260422T030403
CREATED:20230620T194931Z
LAST-MODIFIED:20230718T142314Z
UID:10003753-1690977600-1690981200@broad.msu.edu
SUMMARY:The Broad MBA Advantage
DESCRIPTION:Join the Michigan State Broad MBA Admissions team to learn about the application process\, curriculum and benefits of the Broad Full-Time MBA program. You’ll also be able to ask any questions you have about the program and/or application process.
URL:https://broad.msu.edu/event/the-broad-mba-advantage-8-2-23/
LOCATION:Online
CATEGORIES:Admissions Events,Full-Time MBA
ORGANIZER;CN="MBA Admissions":MAILTO:mba@msu.edu
END:VEVENT
BEGIN:VEVENT
DTSTART;TZID=America/Detroit:20230802T150000
DTEND;TZID=America/Detroit:20230802T153000
DTSTAMP:20260422T030403
CREATED:20230619T191729Z
LAST-MODIFIED:20230620T140152Z
UID:10003749-1690988400-1690990200@broad.msu.edu
SUMMARY:MSMR Virtual Information Session
DESCRIPTION:Join us to learn more about the Master of Science in Marketing Research program at MSU!
URL:https://broad.msu.edu/event/msmr-virtual-info-session-2/
LOCATION:Online
CATEGORIES:M.S. in Marketing Research
END:VEVENT
BEGIN:VEVENT
DTSTART;TZID=America/Detroit:20230803T110000
DTEND;TZID=America/Detroit:20230803T120000
DTSTAMP:20260422T030403
CREATED:20230619T192141Z
LAST-MODIFIED:20230620T140238Z
UID:10003752-1691060400-1691064000@broad.msu.edu
SUMMARY:MS-CXM Virtual Information Session
DESCRIPTION:Join us to learn more about the Master of Science in Customer Experience Management program at MSU!
URL:https://broad.msu.edu/event/ms-cxm-virtual-info-session-2/
LOCATION:Online
CATEGORIES:M.S. in Customer Experience Management
END:VEVENT
BEGIN:VEVENT
DTSTART;TZID=America/Mexico_City:20230804T084500
DTEND;TZID=America/Mexico_City:20230804T093000
DTSTAMP:20260422T030403
CREATED:20230802T142205Z
LAST-MODIFIED:20230802T142205Z
UID:10003775-1691138700-1691141400@broad.msu.edu
SUMMARY:MSU MBA Mexico City Coffee Chat
DESCRIPTION:Meet the Michigan State Broad MBA Assistant Director of Admissions in the Hyatt Regency lobby for an opportunity to ask questions about the Broad MBA program in a more informal setting.\nPlease note that this event is IN PERSON IN MEXICO CITY.
URL:https://broad.msu.edu/event/msu-mba-mexico-city-coffee-chat/
LOCATION:Hyatt Regency Mexico City\, Campos Eliseos. 204 Polanco Chapultepec\, Ciudad De México\, CDMX\, 11560\, Mexico
CATEGORIES:Admissions Events,Full-Time MBA
ORGANIZER;CN="MBA Admissions":MAILTO:mba@msu.edu
END:VEVENT
BEGIN:VEVENT
DTSTART;TZID=America/Detroit:20230805T120000
DTEND;TZID=America/Detroit:20230805T160000
DTSTAMP:20260422T030403
CREATED:20230620T205323Z
LAST-MODIFIED:20230620T213331Z
UID:10003755-1691236800-1691251200@broad.msu.edu
SUMMARY:The MBA Tour Mexico City
DESCRIPTION:Meet the Broad Full-Time MBA team at the MBA Tour in Mexico City on Saturday\, August 5th. Meet with us at the event to learn more about the Broad MBA\, discuss your MBA goals and hear about the admissions process. \nLeave us your information below to receive updates about the Broad MBA program and admissions events and express your interest in meeting with us! \nIf you would like to meet with us at the MBA Tour in Mexico City please register for it here: https://www.mba.com/events/the-mba-tour-mexico-city-1046376
URL:https://broad.msu.edu/event/the-mba-tour-mexico-city/
LOCATION:MI\, United States
CATEGORIES:Admissions Events,Full-Time MBA
ORGANIZER;CN="MBA Admissions":MAILTO:mba@msu.edu
END:VEVENT
END:VCALENDAR