BEGIN:VCALENDAR
VERSION:2.0
PRODID:-//Eli Broad College of Business | Michigan State University - ECPv6.15.17.1//NONSGML v1.0//EN
CALSCALE:GREGORIAN
METHOD:PUBLISH
X-WR-CALNAME:Eli Broad College of Business | Michigan State University
X-ORIGINAL-URL:https://broad.msu.edu
X-WR-CALDESC:Events for Eli Broad College of Business | Michigan State University
REFRESH-INTERVAL;VALUE=DURATION:PT1H
X-Robots-Tag:noindex
X-PUBLISHED-TTL:PT1H
BEGIN:VTIMEZONE
TZID:Asia/Kolkata
BEGIN:STANDARD
TZOFFSETFROM:+0530
TZOFFSETTO:+0530
TZNAME:IST
DTSTART:20220101T000000
END:STANDARD
END:VTIMEZONE
BEGIN:VEVENT
DTSTART;TZID=Asia/Kolkata:20230822T180000
DTEND;TZID=Asia/Kolkata:20230822T213000
DTSTAMP:20260421T060840
CREATED:20230719T185034Z
LAST-MODIFIED:20230719T185034Z
UID:10003761-1692727200-1692739800@broad.msu.edu
SUMMARY:QS Discover USA Fair - New Delhi\, India
DESCRIPTION:Meet the Broad Full-Time MBA team at the QS Discover USA Fair in New Delhi\, India on Tuesday\, August 22nd. Meet with us at the event to learn more about the Broad MBA\, discuss your MBA goals and hear about the admissions process. \nLeave us your information below to receive updates about the Broad MBA program and admissions events and express your interest in meeting with us! \nIf you would like to meet with us at the QS Discover USA Fair – New Delhi\, India\, please register for it here: https://qs.topuniversities.com/events/studyinusa/masters/newdelhi
URL:https://broad.msu.edu/event/qs-discover-usa-fair-new-delhi-india/
LOCATION:MI\, United States
CATEGORIES:Admissions Events,Full-Time MBA
ORGANIZER;CN="MBA Admissions":MAILTO:mba@msu.edu
END:VEVENT
BEGIN:VEVENT
DTSTART;TZID=Asia/Kolkata:20230824T180000
DTEND;TZID=Asia/Kolkata:20230824T213000
DTSTAMP:20260421T060840
CREATED:20230719T185214Z
LAST-MODIFIED:20230719T185240Z
UID:10003762-1692900000-1692912600@broad.msu.edu
SUMMARY:QS Discover USA Fair - Hyderabad\, India
DESCRIPTION:Meet the Broad Full-Time MBA team at the QS Discover USA Fair in Hyderabad\, India on Thursday\, August 24th. Meet with us at the event to learn more about the Broad MBA\, discuss your MBA goals and hear about the admissions process. \nLeave us your information below to receive updates about the Broad MBA program and admissions events and express your interest in meeting with us! \nIf you would like to meet with us at the QS Discover USA Fair – Hyderabad\, India\, please register for it https://qs.topuniversities.com/events/studyinusa/masters/hyderabad
URL:https://broad.msu.edu/event/qs-discover-usa-fair-hyderabad-india/
LOCATION:MI\, United States
CATEGORIES:Admissions Events,Full-Time MBA
ORGANIZER;CN="MBA Admissions":MAILTO:mba@msu.edu
END:VEVENT
BEGIN:VEVENT
DTSTART;TZID=Asia/Kolkata:20230826T140000
DTEND;TZID=Asia/Kolkata:20230826T173000
DTSTAMP:20260421T060840
CREATED:20230719T185433Z
LAST-MODIFIED:20230719T185433Z
UID:10003763-1693058400-1693071000@broad.msu.edu
SUMMARY:QS Discover USA Fair - Bangalore\, India
DESCRIPTION:Meet the Broad Full-Time MBA team at the QS Discover USA Fair in Bangalore\, India on Saturday\, August 26th. Meet with us at the event to learn more about the Broad MBA\, discuss your MBA goals and hear about the admissions process. \nLeave us your information below to receive updates about the Broad MBA program and admissions events and express your interest in meeting with us! \nIf you would like to meet with us at the QS Discover USA Fair – Bangalore\, India\, please register for it here: https://qs.topuniversities.com/events/studyinusa/masters/bangalore
URL:https://broad.msu.edu/event/qs-discover-usa-fair-bangalore-india/
LOCATION:MI\, United States
CATEGORIES:Admissions Events,Full-Time MBA
ORGANIZER;CN="MBA Admissions":MAILTO:mba@msu.edu
END:VEVENT
END:VCALENDAR