BEGIN:VCALENDAR
VERSION:2.0
PRODID:-//Eli Broad College of Business | Michigan State University - ECPv6.15.17.1//NONSGML v1.0//EN
CALSCALE:GREGORIAN
METHOD:PUBLISH
X-WR-CALNAME:Eli Broad College of Business | Michigan State University
X-ORIGINAL-URL:https://broad.msu.edu
X-WR-CALDESC:Events for Eli Broad College of Business | Michigan State University
REFRESH-INTERVAL;VALUE=DURATION:PT1H
X-Robots-Tag:noindex
X-PUBLISHED-TTL:PT1H
BEGIN:VTIMEZONE
TZID:America/Detroit
BEGIN:DAYLIGHT
TZOFFSETFROM:-0500
TZOFFSETTO:-0400
TZNAME:EDT
DTSTART:20220313T070000
END:DAYLIGHT
BEGIN:STANDARD
TZOFFSETFROM:-0400
TZOFFSETTO:-0500
TZNAME:EST
DTSTART:20221106T060000
END:STANDARD
BEGIN:DAYLIGHT
TZOFFSETFROM:-0500
TZOFFSETTO:-0400
TZNAME:EDT
DTSTART:20230312T070000
END:DAYLIGHT
BEGIN:STANDARD
TZOFFSETFROM:-0400
TZOFFSETTO:-0500
TZNAME:EST
DTSTART:20231105T060000
END:STANDARD
BEGIN:DAYLIGHT
TZOFFSETFROM:-0500
TZOFFSETTO:-0400
TZNAME:EDT
DTSTART:20240310T070000
END:DAYLIGHT
BEGIN:STANDARD
TZOFFSETFROM:-0400
TZOFFSETTO:-0500
TZNAME:EST
DTSTART:20241103T060000
END:STANDARD
END:VTIMEZONE
BEGIN:VEVENT
DTSTART;TZID=America/Detroit:20230905T080000
DTEND;TZID=America/Detroit:20231006T170000
DTSTAMP:20260420T201236
CREATED:20230406T124832Z
LAST-MODIFIED:20230421T130836Z
UID:10003718-1693900800-1696611600@broad.msu.edu
SUMMARY:Global Hybrid Networking Series
DESCRIPTION:Global networking series are designed to help our students connect with you. This is an excellent and cost-effective recruiting tool to attract top talent and brand your organization on campus – be part of the experience!
URL:https://broad.msu.edu/event/global-hybrid-networking-series/
LOCATION:Online
CATEGORIES:Career Management,Recruiting Events
END:VEVENT
BEGIN:VEVENT
DTSTART;TZID=America/Detroit:20231003T120000
DTEND;TZID=America/Detroit:20231003T123000
DTSTAMP:20260420T201236
CREATED:20230829T164603Z
LAST-MODIFIED:20230829T164603Z
UID:10003828-1696334400-1696336200@broad.msu.edu
SUMMARY:MS Accounting & Data Analytics Information Session
DESCRIPTION:Join us to learn more about MSU’s Master of Science in Accounting & Data Analytics program!
URL:https://broad.msu.edu/event/ms-accounting-data-analytics-information-session-14/
LOCATION:Online
CATEGORIES:M.S. in Accounting and Data Analytics
END:VEVENT
BEGIN:VEVENT
DTSTART;TZID=America/Detroit:20231003T163000
DTEND;TZID=America/Detroit:20231003T204500
DTSTAMP:20260420T201236
CREATED:20230815T153707Z
LAST-MODIFIED:20230815T153707Z
UID:10003800-1696350600-1696365900@broad.msu.edu
SUMMARY:Access MBA New York City
DESCRIPTION:Meet with the Michigan State Broad Full-Time MBA admissions team at the Access MBA New York City event on Tuesday\, October 3rd. Meet with us at the event to learn more about the Broad MBA\, discuss your MBA goals and hear about the admissions process. \nLeave us your information below to receive updates about the Broad MBA program and admissions events and express your interest in meeting with us! \nIf you would like to meet with us at the Access MBA event in NYC\, please register for it here.
URL:https://broad.msu.edu/event/access-mba-new-york-city-2/
LOCATION:MI\, United States
CATEGORIES:Admissions Events,Full-Time MBA
ORGANIZER;CN="MBA Admissions":MAILTO:mba@msu.edu
END:VEVENT
BEGIN:VEVENT
DTSTART;TZID=America/Detroit:20231003T180000
DTEND;TZID=America/Detroit:20231003T190000
DTSTAMP:20260420T201236
CREATED:20230821T134756Z
LAST-MODIFIED:20231026T194702Z
UID:10003782-1696356000-1696359600@broad.msu.edu
SUMMARY:Dashney Women's Leadership Accelerator Info Session
DESCRIPTION:Interested in fast-forwarding your career? Come learn about the Broad College’s new Dashney Women’s Leadership Accelerator. Applications will open in November 2023 for the first cohort of students. Join Director Helen Dashney for one of four information sessions to get a jump start on applying.
URL:https://broad.msu.edu/event/dashney-womens-leadership-accelerator-info-session/2023-10-03/
LOCATION:Eppley Center\, 667 N Shaw Ln\, East Lansing\, MI\, 48824\, United States
CATEGORIES:Dashney Women's Leadership Accelerator,Featured Events,Undergraduate Events
ORGANIZER;CN="Helen Dashney":MAILTO:dashney@msu.edu
END:VEVENT
BEGIN:VEVENT
DTSTART;TZID=America/Detroit:20231004T160000
DTEND;TZID=America/Detroit:20231004T190000
DTSTAMP:20260420T201236
CREATED:20230404T182942Z
LAST-MODIFIED:20230421T130725Z
UID:10003403-1696435200-1696446000@broad.msu.edu
SUMMARY:MSU Virtual MBA/MSBDSA Career Fair
DESCRIPTION:We invite you to join the Broad College of Business Russell Palmer Career Management Center for the MSU Virtual MBA/MSBDSA Career Fair. This complimentary event will take place on Handshake Wednesday\, October 4 from 4:00pm-7:00pm and is open to MBA/MSBDSA students seeking internship and full-time opportunities. \nRegistration deadline is September 20\, 2023 or when all booths have been filled.
URL:https://broad.msu.edu/event/msu-virtual-mba-msbdsa-career-fair/
LOCATION:Online
CATEGORIES:Career Management,Recruiting Events
ORGANIZER;CN="Taylor Bates":MAILTO:taybates@msu.edu
END:VEVENT
BEGIN:VEVENT
DTSTART;TZID=America/Detroit:20231004T170000
DTEND;TZID=America/Detroit:20231004T180000
DTSTAMP:20260420T201236
CREATED:20230811T190919Z
LAST-MODIFIED:20230811T193407Z
UID:10003790-1696438800-1696442400@broad.msu.edu
SUMMARY:What Does It Take To Be A Whistleblower: Lunch and Learn
DESCRIPTION:Join us to learn what it took for Tyler Shultz to stand up to his boss and his family and become a Whistleblower against Theranos. We will be learning about his experience\, and engaging around what skills one needs to stand up and do the right thing.  Join us on Wednesday\, October 4th for an great conversation and a FREE DINNER from 5pm-6pm. Register today
URL:https://broad.msu.edu/event/what-does-it-take-to-be-a-whistleblower-lunch-and-learn/
LOCATION:Eppley Center\, 667 N Shaw Ln\, East Lansing\, MI\, 48824\, United States
CATEGORIES:Ethics & Social Responsibility
ORGANIZER;CN="Beth Hammond":MAILTO:hammon25@msu.edu
END:VEVENT
BEGIN:VEVENT
DTSTART;TZID=America/Detroit:20231006T080000
DTEND;TZID=America/Detroit:20231006T190000
DTSTAMP:20260420T201236
CREATED:20230820T192655Z
LAST-MODIFIED:20230824T194919Z
UID:10003802-1696579200-1696618800@broad.msu.edu
SUMMARY:Broad MBA Diversity Preview Day 2023
DESCRIPTION:Attendance at this event is by special request or invitation only and is a great opportunity to learn more about our MBA program\, see MSU’s campus\, and interact with our deans\, MBA staff\, and the career management team.  Most importantly\, there will be several opportunities to connect with current students representing diverse backgrounds willing to share their experiences in the MSU MBA program. \nIf you are interested in attending\, please register and we will follow up with you with more information.\nAttendees traveling 50 miles or more to the event will receive a travel scholarship of up to $250 and lodging paid by the Broad MBA Program at the Marriott Hotel in East Lansing on October 5th and 6th. \nTentative agenda: Friday\, October 6th – 10:00 AM – 7:00 PM \n8:00 am- 10:00 am – (Optional) Breakfast at the Marriott\, East Lansing \n8:00 am-10:00 am – (Optional) Evaluative Interviews at the Marriott\, East Lansing \n10:00 am-10:15 am – Bus from Marriott to Minskoff Pavilion \n10:15 am-10:30 am – Admissions Team’s Welcome \n10:30 am-11:30 am – Mock Career Management Class \n11:45 am-12:00 pm – Break \n12:00 pm-12:30 pm – MBA Programming Welcome \n12:30 pm-1:30 pm – Lunch with Current Students \n1:30 pm-2:30 pm – Current Student Panel \n2:30 pm-2:45 pm – Break \n2:45 pm-3:15 pm – Tour the College of Business with the Admissions Graduate Assistants \n3:15 pm-3:45 pm – Broad College of Business DEI Overview \n3:45 pm-4:00 pm – Deans Welcome \n4:00 pm-4:45 pm – Bus Michigan State University Campus Tour and drop off at Marriott \n4:45 pm-5:00 pm – Break \n5:00 pm-7:00 pm – Social with Current Students (Beggar’s Banquet\, East Lansing)
URL:https://broad.msu.edu/event/broad-mba-diversity-preview-day-2023/
LOCATION:Minskoff Pavilion\, 651 N Shaw Ln\, East Lansing\, MI\, 48824\, United States
CATEGORIES:Admissions Events,Full-Time MBA
ORGANIZER;CN="MBA Admissions":MAILTO:mba@msu.edu
END:VEVENT
END:VCALENDAR