BEGIN:VCALENDAR
VERSION:2.0
PRODID:-//Eli Broad College of Business | Michigan State University - ECPv6.15.17.1//NONSGML v1.0//EN
CALSCALE:GREGORIAN
METHOD:PUBLISH
X-WR-CALNAME:Eli Broad College of Business | Michigan State University
X-ORIGINAL-URL:https://broad.msu.edu
X-WR-CALDESC:Events for Eli Broad College of Business | Michigan State University
REFRESH-INTERVAL;VALUE=DURATION:PT1H
X-Robots-Tag:noindex
X-PUBLISHED-TTL:PT1H
BEGIN:VTIMEZONE
TZID:America/Detroit
BEGIN:DAYLIGHT
TZOFFSETFROM:-0500
TZOFFSETTO:-0400
TZNAME:EDT
DTSTART:20220313T070000
END:DAYLIGHT
BEGIN:STANDARD
TZOFFSETFROM:-0400
TZOFFSETTO:-0500
TZNAME:EST
DTSTART:20221106T060000
END:STANDARD
BEGIN:DAYLIGHT
TZOFFSETFROM:-0500
TZOFFSETTO:-0400
TZNAME:EDT
DTSTART:20230312T070000
END:DAYLIGHT
BEGIN:STANDARD
TZOFFSETFROM:-0400
TZOFFSETTO:-0500
TZNAME:EST
DTSTART:20231105T060000
END:STANDARD
BEGIN:DAYLIGHT
TZOFFSETFROM:-0500
TZOFFSETTO:-0400
TZNAME:EDT
DTSTART:20240310T070000
END:DAYLIGHT
BEGIN:STANDARD
TZOFFSETFROM:-0400
TZOFFSETTO:-0500
TZNAME:EST
DTSTART:20241103T060000
END:STANDARD
END:VTIMEZONE
BEGIN:VEVENT
DTSTART;TZID=America/Detroit:20231010T113000
DTEND;TZID=America/Detroit:20231010T130000
DTSTAMP:20260423T040413
CREATED:20230829T163513Z
LAST-MODIFIED:20230829T180325Z
UID:10003823-1696937400-1696942800@broad.msu.edu
SUMMARY:Unpacking the Values of My Education Abroad Experience
DESCRIPTION:Whether you are an education abroad returnee or someone who is thinking about studying abroad\, come to this session to share your experience and interest\, talk to your peers and staff from Broad Education Abroad. Late arrivals after class are encouraged to attend.
URL:https://broad.msu.edu/event/unpacking-the-values-of-my-education-abroad-experience/
LOCATION:Eppley Center\, 667 N Shaw Ln\, East Lansing\, MI\, 48824\, United States
CATEGORIES:Education Abroad
END:VEVENT
BEGIN:VEVENT
DTSTART;TZID=America/Detroit:20231010T150000
DTEND;TZID=America/Detroit:20231010T160000
DTSTAMP:20260423T040413
CREATED:20230404T183131Z
LAST-MODIFIED:20230421T133042Z
UID:10003405-1696950000-1696953600@broad.msu.edu
SUMMARY:MSU MBA/MSBDSA Pre-Supply Chain Fair In-Person Networking Mixer
DESCRIPTION:Meet with talented MSU MBA/MSBDSA students! This complimentary\, exclusive networking mixer will take place prior to the MSU Careers in Business: Supply Chain Management In-Person Career Fair at the Breslin Center on Tuesday\, October 10 from 3:00pm-4:00pm and is open to all MSU MBA and MSBDSA students seeing internship and full-time opportunities. Registration for the supply chain management fair is encouraged\, but not required.
URL:https://broad.msu.edu/event/msu-mba-msbdsa-pre-supply-chain-fair-in-person-networking-mixer/
LOCATION:Breslin Student Events Center\, 534 Birch Rd\, East Lansing\, MI\, 48824\, United States
CATEGORIES:Career Management,Recruiting Events
ORGANIZER;CN="Taylor Bates":MAILTO:taybates@msu.edu
END:VEVENT
BEGIN:VEVENT
DTSTART;TZID=America/Detroit:20231010T160000
DTEND;TZID=America/Detroit:20231010T190000
DTSTAMP:20260423T040413
CREATED:20230404T183318Z
LAST-MODIFIED:20230803T161620Z
UID:10003407-1696953600-1696964400@broad.msu.edu
SUMMARY:MSU Careers in Business: Supply Chain Management In-Person Fair
DESCRIPTION:We invite you to join the Broad College of Business Russell Palmer Career Management Center for the MSU Careers in Business: Supply Chain Management In-Person Fair. This event will take place at the Breslin Center on Tuesday\, October 10 from 4:00pm-7:00pm and is open to all MSU undergraduate\, graduate\, and MBA students seeking internship and full-time opportunities in the supply chain management field. 
URL:https://broad.msu.edu/event/msu-careers-in-business-supply-chain-management-in-person-fair/
LOCATION:Breslin Student Events Center\, 534 Birch Rd\, East Lansing\, MI\, 48824\, United States
CATEGORIES:Career Management,Featured Events,Recruiting Events
ORGANIZER;CN="Taylor Bates":MAILTO:taybates@msu.edu
END:VEVENT
BEGIN:VEVENT
DTSTART;TZID=America/Detroit:20231010T170000
DTEND;TZID=America/Detroit:20231010T180000
DTSTAMP:20260423T040413
CREATED:20231002T164152Z
LAST-MODIFIED:20231002T164153Z
UID:10003862-1696957200-1696960800@broad.msu.edu
SUMMARY:INFO MEETING - International College of Management Sydney (ICMS)
DESCRIPTION:Take academic courses at Australia’s leading business school while gaining local knowledge of Sydney and exploring Australia. \nProgram offered for spring 2024.
URL:https://broad.msu.edu/event/info-meeting-international-college-of-management-sydney-icms/
LOCATION:Online
CATEGORIES:Education Abroad
END:VEVENT
BEGIN:VEVENT
DTSTART;TZID=America/Detroit:20231011T120000
DTEND;TZID=America/Detroit:20231011T130000
DTSTAMP:20260423T040413
CREATED:20230820T191558Z
LAST-MODIFIED:20230821T123254Z
UID:10003801-1697025600-1697029200@broad.msu.edu
SUMMARY:Virtual Chat with the Broad MBA Director of Admissions
DESCRIPTION:Connect with the Director of Admissions and learn more about Michigan State University’s Broad College of Business Full-Time MBA program. Feel free to ask any questions you may have about the program and/or admissions process as well.
URL:https://broad.msu.edu/event/virtual-chat-with-the-broad-mba-director-of-admissions/
LOCATION:Online
CATEGORIES:Admissions Events,Full-Time MBA
ORGANIZER;CN="MBA Admissions":MAILTO:mba@msu.edu
END:VEVENT
BEGIN:VEVENT
DTSTART;TZID=America/Detroit:20231011T140000
DTEND;TZID=America/Detroit:20231011T143000
DTSTAMP:20260423T040413
CREATED:20230829T175244Z
LAST-MODIFIED:20231026T192309Z
UID:10003836-1697032800-1697034600@broad.msu.edu
SUMMARY:MSMRA Virtual Information Session
DESCRIPTION:Join us to learn about the #1 MSMRA program!
URL:https://broad.msu.edu/event/msmr-virtual-information-session-5/
LOCATION:Online
CATEGORIES:M.S. in Marketing Research
END:VEVENT
BEGIN:VEVENT
DTSTART;TZID=America/Detroit:20231011T163000
DTEND;TZID=America/Detroit:20231011T173000
DTSTAMP:20260423T040413
CREATED:20231009T170856Z
LAST-MODIFIED:20231009T170856Z
UID:10003866-1697041800-1697045400@broad.msu.edu
SUMMARY:India Spring Break 2024 Study Abroad Info Session
DESCRIPTION:Come learn about a great education abroad opportunity in Spring Break 2024!  This program is 3 credits\, open to freshmen through seniors\, and covers the International Experience requirement for the Broad College of Business. This session will discuss the program’s corporate and cultural site visits\, costs\, and other important details.
URL:https://broad.msu.edu/event/india-spring-break-2024-study-abroad-info-session/
LOCATION:Minskoff Pavilion\, 651 N Shaw Ln\, East Lansing\, MI\, 48824\, United States
CATEGORIES:Education Abroad,Featured Events
ORGANIZER;CN="Joe Courtade Moon":MAILTO:jcmoon@msu.edu
END:VEVENT
BEGIN:VEVENT
DTSTART;TZID=America/Detroit:20231011T173000
DTEND;TZID=America/Detroit:20231011T183000
DTSTAMP:20260423T040413
CREATED:20230821T134756Z
LAST-MODIFIED:20231026T194702Z
UID:10003783-1697045400-1697049000@broad.msu.edu
SUMMARY:Dashney Women's Leadership Accelerator Info Session
DESCRIPTION:Interested in fast-forwarding your career? Come learn about the Broad College’s new Dashney Women’s Leadership Accelerator. Applications will open in November 2023 for the first cohort of students. Join Director Helen Dashney for one of four information sessions to get a jump start on applying.
URL:https://broad.msu.edu/event/dashney-womens-leadership-accelerator-info-session/2023-10-11/
LOCATION:Eppley Center\, 667 N Shaw Ln\, East Lansing\, MI\, 48824\, United States
CATEGORIES:Dashney Women's Leadership Accelerator,Featured Events,Undergraduate Events
ORGANIZER;CN="Helen Dashney":MAILTO:dashney@msu.edu
END:VEVENT
BEGIN:VEVENT
DTSTART;TZID=America/Detroit:20231012T120000
DTEND;TZID=America/Detroit:20231012T140000
DTSTAMP:20260423T040413
CREATED:20230921T173918Z
LAST-MODIFIED:20230921T173920Z
UID:10003856-1697112000-1697119200@broad.msu.edu
SUMMARY:INFO MEETING - Hospitality Business education abroad programs
DESCRIPTION:Explore education abroad programs sponsored by the School of Hospitality Business!  \n\nBI Norwegian Business School \nCETT-University of Barcelona \nKiwi Hospitality\, Wine and Food \nNHL Stenden University of Applied Sciences \nHong Kong Polytechnic University \nUniversity of Angers \n\nThe meeting will take an open house format from noon to 2:00 pm to allow for Q&A and walk-ins. 
URL:https://broad.msu.edu/event/info-meeting-hospitality-business-education-abroad-programs/
LOCATION:Eppley Center\, 667 N Shaw Ln\, East Lansing\, MI\, 48824\, United States
CATEGORIES:Education Abroad
END:VEVENT
BEGIN:VEVENT
DTSTART;TZID=America/Detroit:20231012T120000
DTEND;TZID=America/Detroit:20231012T143000
DTSTAMP:20260423T040413
CREATED:20230820T200948Z
LAST-MODIFIED:20230820T201044Z
UID:10003803-1697112000-1697121000@broad.msu.edu
SUMMARY:Virtual MBA Tour: Europe
DESCRIPTION:Meet with the Michigan State Full-Time MBA admissions team at the virtual MBA Tour Europe event on October 12th! \nLeave us your information below to receive updates about the Broad MBA program and admissions events and express your interest in meeting with us! \nIf you would like to meet with us at the MBA Tour Europe event\, please register for it here.
URL:https://broad.msu.edu/event/virtual-mba-tour-europe/
LOCATION:Online
CATEGORIES:Admissions Events,Full-Time MBA
ORGANIZER;CN="MBA Admissions":MAILTO:mba@msu.edu
END:VEVENT
BEGIN:VEVENT
DTSTART;TZID=America/Detroit:20231012T140000
DTEND;TZID=America/Detroit:20231012T150000
DTSTAMP:20260423T040413
CREATED:20230829T175450Z
LAST-MODIFIED:20230829T175450Z
UID:10003837-1697119200-1697122800@broad.msu.edu
SUMMARY:MS-CXM Virtual Information Session
DESCRIPTION:Join us to learn more about the Customer Experience Management master’s program at MSU!
URL:https://broad.msu.edu/event/ms-cxm-virtual-information-session-4/
LOCATION:MI\, United States
CATEGORIES:M.S. in Customer Experience Management
END:VEVENT
BEGIN:VEVENT
DTSTART;TZID=America/Detroit:20231012T160000
DTEND;TZID=America/Detroit:20231012T170000
DTSTAMP:20260423T040413
CREATED:20231008T145202Z
LAST-MODIFIED:20231008T145202Z
UID:10003864-1697126400-1697130000@broad.msu.edu
SUMMARY:Info Session: International Business Studies at Europe
DESCRIPTION:The program will be almost two weeks in Europe\, with some course material delivered online during summer semester. In addition to specific course content in Marketing Management and International Business\, the learning objectives for the program include gaining an understanding of the history and culture of the Czech Republic and Hungary and gaining an understanding of business-to-business and consumer marketing in Europe. \nIf you are interested in this program\, please make every effort to attend.  It is likely that the program will be full before the Dec. 15 deadline.  I will accept students on a rolling basis as they apply. \nQuestions? Contact Professor Richard Spreng (sprengri@broad.msu.edu)
URL:https://broad.msu.edu/event/info-session-international-business-studies-at-europe-2/
LOCATION:Minskoff Pavilion\, 651 N Shaw Ln\, East Lansing\, MI\, 48824\, United States
CATEGORIES:Education Abroad
END:VEVENT
BEGIN:VEVENT
DTSTART;TZID=America/Detroit:20231012T180000
DTEND;TZID=America/Detroit:20231012T190000
DTSTAMP:20260423T040413
CREATED:20230921T180532Z
LAST-MODIFIED:20230921T181534Z
UID:10003857-1697133600-1697137200@broad.msu.edu
SUMMARY:INFO MEETING - Startup Nation: Innovation and Entrepreneurship in Israel
DESCRIPTION:Experience the cultural and business framework of Israel – a global leader in innovation and entrepreneurship. \nProgram offered for spring break 2024. \nInformation Meeting Scheduled for: \nDate:     October 12\, 2023 \nTime:     6:00 pm \nRoom:   Online (Zoom) \nhttps://msu.zoom.us/j/95379962314 \nMore information: \n\nStartup Nation: Innovation and Entrepreneurship in Israel 
URL:https://broad.msu.edu/event/info-meeting-startup-nation-innovation-and-entrepreneurship-in-israel/
LOCATION:Online
CATEGORIES:Education Abroad
END:VEVENT
BEGIN:VEVENT
DTSTART;TZID=America/Detroit:20231012T180000
DTEND;TZID=America/Detroit:20231012T193000
DTSTAMP:20260423T040413
CREATED:20230908T212923Z
LAST-MODIFIED:20230918T160050Z
UID:10003780-1697133600-1697139000@broad.msu.edu
SUMMARY:2023 Warrington Lecture with Linda Hubbard
DESCRIPTION:At the annual Sylvan T. Warrington Visiting Lectureship in Ethics and Leadership\, we welcome esteemed Broad College alumni back to speak to our community about the convergence of corporate citizenship\, strategy\, and ethical leadership. \nLinda Hubbard (B.A. Accounting ’82)\, President and Chief Operating Officer of Carhartt Inc.\, will be the featured executive speaker at the 2023 Warrington Lecture. Hubbard will join Interim Dean Judith Whipple in a “fireside chat” and Q&A.
URL:https://broad.msu.edu/event/2023-warrington-lecture-with-linda-hubbard/
LOCATION:Eli Broad College of Business\, 632 Bogue St n520\, East Lansing\, MI\, 48824\, United States
CATEGORIES:Alumni Events,College-wide Events,Featured Events
ORGANIZER;CN="Mahin Sandoval-Chavez":MAILTO:events@broad.msu.edu
END:VEVENT
END:VCALENDAR