BEGIN:VCALENDAR
VERSION:2.0
PRODID:-//Eli Broad College of Business | Michigan State University - ECPv6.15.17.1//NONSGML v1.0//EN
CALSCALE:GREGORIAN
METHOD:PUBLISH
X-WR-CALNAME:Eli Broad College of Business | Michigan State University
X-ORIGINAL-URL:https://broad.msu.edu
X-WR-CALDESC:Events for Eli Broad College of Business | Michigan State University
REFRESH-INTERVAL;VALUE=DURATION:PT1H
X-Robots-Tag:noindex
X-PUBLISHED-TTL:PT1H
BEGIN:VTIMEZONE
TZID:America/Detroit
BEGIN:DAYLIGHT
TZOFFSETFROM:-0500
TZOFFSETTO:-0400
TZNAME:EDT
DTSTART:20230312T070000
END:DAYLIGHT
BEGIN:STANDARD
TZOFFSETFROM:-0400
TZOFFSETTO:-0500
TZNAME:EST
DTSTART:20231105T060000
END:STANDARD
BEGIN:DAYLIGHT
TZOFFSETFROM:-0500
TZOFFSETTO:-0400
TZNAME:EDT
DTSTART:20240310T070000
END:DAYLIGHT
BEGIN:STANDARD
TZOFFSETFROM:-0400
TZOFFSETTO:-0500
TZNAME:EST
DTSTART:20241103T060000
END:STANDARD
BEGIN:DAYLIGHT
TZOFFSETFROM:-0500
TZOFFSETTO:-0400
TZNAME:EDT
DTSTART:20250309T070000
END:DAYLIGHT
BEGIN:STANDARD
TZOFFSETFROM:-0400
TZOFFSETTO:-0500
TZNAME:EST
DTSTART:20251102T060000
END:STANDARD
END:VTIMEZONE
BEGIN:VEVENT
DTSTART;VALUE=DATE:20240408
DTEND;VALUE=DATE:20240413
DTSTAMP:20260420T095410
CREATED:20220615T144550Z
LAST-MODIFIED:20240403T163222Z
UID:10003226-1712534400-1712966399@broad.msu.edu
SUMMARY:Hospitality Business: Club Management Association of America BMI GM/COO
DESCRIPTION:To attend this five day educational conference\, please contact Club Management Association of America directly. Registration is required.
URL:https://broad.msu.edu/event/hospitality-business-club-management-association-of-america-bmi-gm-coo/
LOCATION:Kellogg Hotel & Conference Center\, 219 S Harrison Rd\, East Lansing\, MI\, 48824\, United States
CATEGORIES:Hospitality Business
END:VEVENT
BEGIN:VEVENT
DTSTART;TZID=America/Detroit:20240411T173000
DTEND;TZID=America/Detroit:20240411T200000
DTSTAMP:20260420T095410
CREATED:20240226T134112Z
LAST-MODIFIED:20240226T134142Z
UID:10003997-1712856600-1712865600@broad.msu.edu
SUMMARY:Spring '24 Advancing Women in Business
DESCRIPTION:Join us at MSU’s Management Education Center to hear from dynamic and successful women whose real-life career journeys are diverse\, compelling\, and inspiring. Whether you’re a high-level executive or early in your career\, this event is a great way to make connections and recharge. You’ll leave with fresh insights\, an expanded network\, and a re-energized focus on your own needs
URL:https://broad.msu.edu/event/spring-24-advancing-women-in-business/
LOCATION:Michigan State University Management Education Cente\, 811 W. Square Lake Rd\, Troy\, MI\, 48098
CATEGORIES:Featured Events
ORGANIZER;CN="Mahin Sandoval-Chavez":MAILTO:events@broad.msu.edu
END:VEVENT
BEGIN:VEVENT
DTSTART;TZID=America/Detroit:20240413T180000
DTEND;TZID=America/Detroit:20240413T210000
DTSTAMP:20260420T095410
CREATED:20230105T134818Z
LAST-MODIFIED:20240403T163331Z
UID:10003675-1713031200-1713042000@broad.msu.edu
SUMMARY:Hospitality Business: Les Gourmets Dinner
DESCRIPTION:Plan to join us! The premier annual dinner event in The School of Hospitality Business is Les Gourmets. Founded as a student organization in 1951\, students in Les Gourmets produced their first dinner in 1955. Starting as a simple buffet and dinner dance\, the event has since evolved into a formal world-class reception and dinner showcasing the talents of student volunteers and all they have learned from their professors and work experiences. With the guidance of faculty and guest chefs\, the students work in all areas – management\, sales\, marketing\, purchasing\, finance\, culinary management\, bartending\, and serving – creating a night to remember each spring for hundreds of proud parents\, alumni\, faculty/staff\, and friends! Consider attending. \nDoors open at 6 p.m. | Dinner served at 7 p.m. \n 
URL:https://broad.msu.edu/event/hospitality-business-les-gourmets-reception-and-dinner/
LOCATION:Kellogg Hotel & Conference Center\, 219 S Harrison Rd\, East Lansing\, MI\, 48824\, United States
CATEGORIES:Alumni Events,Featured Events,Hospitality Business
ORGANIZER;CN="Les Gourmets":MAILTO:lesgourmetshr@gmail.com
END:VEVENT
END:VCALENDAR