BEGIN:VCALENDAR
VERSION:2.0
PRODID:-//Eli Broad College of Business | Michigan State University - ECPv6.15.17.1//NONSGML v1.0//EN
CALSCALE:GREGORIAN
METHOD:PUBLISH
X-WR-CALNAME:Eli Broad College of Business | Michigan State University
X-ORIGINAL-URL:https://broad.msu.edu
X-WR-CALDESC:Events for Eli Broad College of Business | Michigan State University
REFRESH-INTERVAL;VALUE=DURATION:PT1H
X-Robots-Tag:noindex
X-PUBLISHED-TTL:PT1H
BEGIN:VTIMEZONE
TZID:Europe/Bucharest
BEGIN:DAYLIGHT
TZOFFSETFROM:+0200
TZOFFSETTO:+0300
TZNAME:EEST
DTSTART:20230326T010000
END:DAYLIGHT
BEGIN:STANDARD
TZOFFSETFROM:+0300
TZOFFSETTO:+0200
TZNAME:EET
DTSTART:20231029T010000
END:STANDARD
BEGIN:DAYLIGHT
TZOFFSETFROM:+0200
TZOFFSETTO:+0300
TZNAME:EEST
DTSTART:20240331T010000
END:DAYLIGHT
BEGIN:STANDARD
TZOFFSETFROM:+0300
TZOFFSETTO:+0200
TZNAME:EET
DTSTART:20241027T010000
END:STANDARD
BEGIN:DAYLIGHT
TZOFFSETFROM:+0200
TZOFFSETTO:+0300
TZNAME:EEST
DTSTART:20250330T010000
END:DAYLIGHT
BEGIN:STANDARD
TZOFFSETFROM:+0300
TZOFFSETTO:+0200
TZNAME:EET
DTSTART:20251026T010000
END:STANDARD
END:VTIMEZONE
BEGIN:VTIMEZONE
TZID:America/Detroit
BEGIN:DAYLIGHT
TZOFFSETFROM:-0500
TZOFFSETTO:-0400
TZNAME:EDT
DTSTART:20230312T070000
END:DAYLIGHT
BEGIN:STANDARD
TZOFFSETFROM:-0400
TZOFFSETTO:-0500
TZNAME:EST
DTSTART:20231105T060000
END:STANDARD
BEGIN:DAYLIGHT
TZOFFSETFROM:-0500
TZOFFSETTO:-0400
TZNAME:EDT
DTSTART:20240310T070000
END:DAYLIGHT
BEGIN:STANDARD
TZOFFSETFROM:-0400
TZOFFSETTO:-0500
TZNAME:EST
DTSTART:20241103T060000
END:STANDARD
BEGIN:DAYLIGHT
TZOFFSETFROM:-0500
TZOFFSETTO:-0400
TZNAME:EDT
DTSTART:20250309T070000
END:DAYLIGHT
BEGIN:STANDARD
TZOFFSETFROM:-0400
TZOFFSETTO:-0500
TZNAME:EST
DTSTART:20251102T060000
END:STANDARD
END:VTIMEZONE
BEGIN:VTIMEZONE
TZID:Asia/Tashkent
BEGIN:STANDARD
TZOFFSETFROM:+0500
TZOFFSETTO:+0500
TZNAME:+05
DTSTART:20230101T000000
END:STANDARD
END:VTIMEZONE
BEGIN:VEVENT
DTSTART;TZID=Europe/Bucharest:20240422T093000
DTEND;TZID=Europe/Bucharest:20240422T101500
DTSTAMP:20260425T102659
CREATED:20240419T165432Z
LAST-MODIFIED:20240419T165432Z
UID:10004018-1713778200-1713780900@broad.msu.edu
SUMMARY:Bucharest\, Romania Coffee Chat
DESCRIPTION:Meet the Associate Director of Admissions of the Michigan State Broad MBA in the lobby of the Athenee hotel in Bucharest\, Romania to chat about the Michigan State MBA program ahead of the Access MBA event on the 23rd.\nLook for the MSU table top sign. \nAddress: \nInterContinental Athénée Palace Bucharest\, an IHG Hotel\nStrada Episcopiei\nBucurest 010292\nRomania
URL:https://broad.msu.edu/event/bucharest-romania-coffee-chat/
LOCATION:MI
CATEGORIES:Admissions Events,Full-Time MBA
ORGANIZER;CN="MBA Admissions":MAILTO:mba@msu.edu
END:VEVENT
BEGIN:VEVENT
DTSTART;TZID=Europe/Bucharest:20240423T170000
DTEND;TZID=Europe/Bucharest:20240423T211500
DTSTAMP:20260425T102659
CREATED:20240110T205651Z
LAST-MODIFIED:20240110T205651Z
UID:10003958-1713891600-1713906900@broad.msu.edu
SUMMARY:Access MBA - Bucharest\, Romania
DESCRIPTION:Meet with the Michigan State Broad Full-Time MBA admissions team at the Access MBA Bucharest\, Romania event on Tuesday\, April 23rd. Meet with us at the event to learn more about the Broad MBA\, discuss your MBA goals and hear about the admissions process. \nLeave us your information below to receive updates about the Broad MBA program and admissions events and express your interest in meeting with us! \nIf you would like to meet with us at the Access MBA event in Bucharest\, please register for it here.
URL:https://broad.msu.edu/event/access-mba-bucharest-romania/
LOCATION:MI
CATEGORIES:Admissions Events,Full-Time MBA
ORGANIZER;CN="MBA Admissions":MAILTO:mba@msu.edu
END:VEVENT
BEGIN:VEVENT
DTSTART;TZID=America/Detroit:20240424T100000
DTEND;TZID=America/Detroit:20240424T150000
DTSTAMP:20260425T102659
CREATED:20240319T195838Z
LAST-MODIFIED:20240319T195838Z
UID:10004011-1713952800-1713970800@broad.msu.edu
SUMMARY:Global Business Club: Spotlight on West Africa
DESCRIPTION:For the next event in the GBC Market Spotlight Series\, the MSU International Business Center is partnering with the MSU Marketing Department and African Studies Center to highlight the West African Market. This event will feature keynotes from Bolaji Balogun\, CEO of Chapel Hill Denham in Nigeria\, and Godwin Tamakloe\, an expert in fintech at Mobile Money\, Ltd. in Ghana. Additionally there will be a Michigan Exporters Business Panel\, lunch\, networking\, and the opportunity for 1-on-1 meetings with trade service providers.
URL:https://broad.msu.edu/event/global-business-club-spotlight-on-west-africa/
LOCATION:Multi-Purpose Room\, 632 Bogue Street\, East Lansing\, MI\, 48824\, United States
CATEGORIES:Global Business Club
ORGANIZER;CN="Hannah Pszenica":MAILTO:pszenica@msu.edu
END:VEVENT
BEGIN:VEVENT
DTSTART;TZID=Asia/Tashkent:20240425T180000
DTEND;TZID=Asia/Tashkent:20240425T200000
DTSTAMP:20260425T102700
CREATED:20240130T154821Z
LAST-MODIFIED:20240205T174508Z
UID:10003987-1714068000-1714075200@broad.msu.edu
SUMMARY:Michigan State MBA info session in Tashkent\, Uzbekistan
DESCRIPTION:Join the Michigan State Broad MBA Associate Director of Admissions\, Kate Irwin\, and 2022 Broad MBA alumna\, Madina Dadajonova\, at Shake & Pear in Tashkent\, Uzbekistan to learn more about the Michigan State Full-Time MBA program! They will cover topics such as the application process\, scholarships\, career outcomes\, curriculum and the student experience. \nFood and beverages will be provided. All attendees will recieve an application fee waiver.
URL:https://broad.msu.edu/event/michigan-state-mba-info-session-in-tashkent-uzbekistan/
LOCATION:Shake & Pear – Tashkent\, 11 Navoiy shoh ko'chasi\, Tashkent\, Tashkent\, 100011\, Uzbekistan
CATEGORIES:Admissions Events,Full-Time MBA
ORGANIZER;CN="MBA Admissions":MAILTO:mba@msu.edu
END:VEVENT
BEGIN:VEVENT
DTSTART;TZID=America/Detroit:20240425T183000
DTEND;TZID=America/Detroit:20240425T203000
DTSTAMP:20260425T102700
CREATED:20240314T134939Z
LAST-MODIFIED:20240403T162645Z
UID:10004002-1714069800-1714077000@broad.msu.edu
SUMMARY:Broad Executive MBA | Networking Reception | Kalamazoo
DESCRIPTION:The Executive MBA staff and alumni are hosting a business reception at the Hub Tavern + Grill in Kalamazoo for prospective students.  Join us to meet others in our community who are considering the Broad Executive MBA program. During the reception\, we will discuss the value\, experience\, academics\, and structure of the program. \nEvent Agenda:\n\nNetworking with program staff and alumni\nGain insight into our program\, academic culture\, and admissions process\n\nThis event is free to attend\, but space is limited so registration is required. Business casual attire recommended. 
URL:https://broad.msu.edu/event/broad-executive-mba-networking-reception-kalamazoo/
LOCATION:The Hub Tavern + Grill\, 359 S Kalamazoo Mall\, Kalamazoo\, MI\, 49007\, United States
CATEGORIES:Executive MBA,Recruiting Events
END:VEVENT
END:VCALENDAR