BEGIN:VCALENDAR
VERSION:2.0
PRODID:-//Eli Broad College of Business | Michigan State University - ECPv6.15.17.1//NONSGML v1.0//EN
CALSCALE:GREGORIAN
METHOD:PUBLISH
X-WR-CALNAME:Eli Broad College of Business | Michigan State University
X-ORIGINAL-URL:https://broad.msu.edu
X-WR-CALDESC:Events for Eli Broad College of Business | Michigan State University
REFRESH-INTERVAL;VALUE=DURATION:PT1H
X-Robots-Tag:noindex
X-PUBLISHED-TTL:PT1H
BEGIN:VTIMEZONE
TZID:America/Detroit
BEGIN:DAYLIGHT
TZOFFSETFROM:-0500
TZOFFSETTO:-0400
TZNAME:EDT
DTSTART:20230312T070000
END:DAYLIGHT
BEGIN:STANDARD
TZOFFSETFROM:-0400
TZOFFSETTO:-0500
TZNAME:EST
DTSTART:20231105T060000
END:STANDARD
BEGIN:DAYLIGHT
TZOFFSETFROM:-0500
TZOFFSETTO:-0400
TZNAME:EDT
DTSTART:20240310T070000
END:DAYLIGHT
BEGIN:STANDARD
TZOFFSETFROM:-0400
TZOFFSETTO:-0500
TZNAME:EST
DTSTART:20241103T060000
END:STANDARD
BEGIN:DAYLIGHT
TZOFFSETFROM:-0500
TZOFFSETTO:-0400
TZNAME:EDT
DTSTART:20250309T070000
END:DAYLIGHT
BEGIN:STANDARD
TZOFFSETFROM:-0400
TZOFFSETTO:-0500
TZNAME:EST
DTSTART:20251102T060000
END:STANDARD
END:VTIMEZONE
BEGIN:VEVENT
DTSTART;TZID=America/Detroit:20240604T100000
DTEND;TZID=America/Detroit:20240604T103000
DTSTAMP:20260420T224044
CREATED:20240412T140929Z
LAST-MODIFIED:20240412T142534Z
UID:10004016-1717495200-1717497000@broad.msu.edu
SUMMARY:M.S. In Business Data Science & Analytics Information Session
DESCRIPTION:Join us on June 4th at 10 AM ET to learn more about the Master of Science in Business Data Science & Analytics Program at MSU!
URL:https://broad.msu.edu/event/m-s-in-business-data-science-analytics-information-session-june-4-24/
LOCATION:Online
CATEGORIES:M.S. in Business Data Science & Analytics
ORGANIZER;CN="Titun Maiti":MAILTO:titun@msu.edu
END:VEVENT
BEGIN:VEVENT
DTSTART;TZID=America/Detroit:20240604T183000
DTEND;TZID=America/Detroit:20240604T193000
DTSTAMP:20260420T224044
CREATED:20231127T192039Z
LAST-MODIFIED:20240530T195356Z
UID:10003899-1717525800-1717529400@broad.msu.edu
SUMMARY:Broad Executive MBA | Final Round Application Support Session
DESCRIPTION:Join us for an informative virtual session with a representative from the Broad College Executive MBA Program! Get all your questions answered about the program and the application process. Don’t miss this opportunity to gain valuable insights and take the next step in your career journey. \n 
URL:https://broad.msu.edu/event/broad-executive-mba-virtual-program-preview-7/
LOCATION:Online
CATEGORIES:Executive MBA,Recruiting Events
END:VEVENT
BEGIN:VEVENT
DTSTART;TZID=America/Detroit:20240605T123000
DTEND;TZID=America/Detroit:20240605T133000
DTSTAMP:20260420T224044
CREATED:20240513T162032Z
LAST-MODIFIED:20240513T162429Z
UID:10004039-1717590600-1717594200@broad.msu.edu
SUMMARY:Broad Executive MBA: Live Drop-in Q&A
DESCRIPTION:  \n \nJoin us for a live Q&A via Zoom with a member of our admissins team. Drop-in any time during the hourto learn more about the Executive MBA program or the application process.
URL:https://broad.msu.edu/event/broad-executive-mba-live-drop-in-qa/2024-06-05/
LOCATION:Virtual
CATEGORIES:Admissions Events,Executive MBA
END:VEVENT
BEGIN:VEVENT
DTSTART;TZID=America/Detroit:20240605T140000
DTEND;TZID=America/Detroit:20240605T150000
DTSTAMP:20260420T224044
CREATED:20240319T172431Z
LAST-MODIFIED:20240403T183921Z
UID:10004009-1717596000-1717599600@broad.msu.edu
SUMMARY:MSMRA Virtual Information Session
DESCRIPTION:Join us to learn more about MSU’s MSMRA program!
URL:https://broad.msu.edu/event/msmra-virtual-information-session-9/
CATEGORIES:M.S. in Marketing Research
END:VEVENT
BEGIN:VEVENT
DTSTART;TZID=America/Detroit:20240606T140000
DTEND;TZID=America/Detroit:20240606T150000
DTSTAMP:20260420T224044
CREATED:20240319T171937Z
LAST-MODIFIED:20240319T171937Z
UID:10004007-1717682400-1717686000@broad.msu.edu
SUMMARY:MS-CXM Virtual Information Session
DESCRIPTION:Join us to learn more about MSU’s MS-CXM program!
URL:https://broad.msu.edu/event/ms-cxm-virtual-information-session-17/
CATEGORIES:M.S. in Customer Experience Management
END:VEVENT
END:VCALENDAR