BEGIN:VCALENDAR
VERSION:2.0
PRODID:-//Eli Broad College of Business | Michigan State University - ECPv6.15.17.1//NONSGML v1.0//EN
CALSCALE:GREGORIAN
METHOD:PUBLISH
X-WR-CALNAME:Eli Broad College of Business | Michigan State University
X-ORIGINAL-URL:https://broad.msu.edu
X-WR-CALDESC:Events for Eli Broad College of Business | Michigan State University
REFRESH-INTERVAL;VALUE=DURATION:PT1H
X-Robots-Tag:noindex
X-PUBLISHED-TTL:PT1H
BEGIN:VTIMEZONE
TZID:America/Detroit
BEGIN:DAYLIGHT
TZOFFSETFROM:-0500
TZOFFSETTO:-0400
TZNAME:EDT
DTSTART:20230312T070000
END:DAYLIGHT
BEGIN:STANDARD
TZOFFSETFROM:-0400
TZOFFSETTO:-0500
TZNAME:EST
DTSTART:20231105T060000
END:STANDARD
BEGIN:DAYLIGHT
TZOFFSETFROM:-0500
TZOFFSETTO:-0400
TZNAME:EDT
DTSTART:20240310T070000
END:DAYLIGHT
BEGIN:STANDARD
TZOFFSETFROM:-0400
TZOFFSETTO:-0500
TZNAME:EST
DTSTART:20241103T060000
END:STANDARD
BEGIN:DAYLIGHT
TZOFFSETFROM:-0500
TZOFFSETTO:-0400
TZNAME:EDT
DTSTART:20250309T070000
END:DAYLIGHT
BEGIN:STANDARD
TZOFFSETFROM:-0400
TZOFFSETTO:-0500
TZNAME:EST
DTSTART:20251102T060000
END:STANDARD
END:VTIMEZONE
BEGIN:VTIMEZONE
TZID:Asia/Seoul
BEGIN:STANDARD
TZOFFSETFROM:+0900
TZOFFSETTO:+0900
TZNAME:KST
DTSTART:20230101T000000
END:STANDARD
END:VTIMEZONE
BEGIN:VTIMEZONE
TZID:Asia/Tokyo
BEGIN:STANDARD
TZOFFSETFROM:+0900
TZOFFSETTO:+0900
TZNAME:JST
DTSTART:20230101T000000
END:STANDARD
END:VTIMEZONE
BEGIN:VEVENT
DTSTART;TZID=America/Detroit:20240827T080000
DTEND;TZID=America/Detroit:20240827T170000
DTSTAMP:20260422T121743
CREATED:20240826T151537Z
LAST-MODIFIED:20240826T151537Z
UID:10004188-1724745600-1724778000@broad.msu.edu
SUMMARY:ESIP
DESCRIPTION:Whether you’re curious about starting your own business\, exploring innovative ideas\, or want to meet fellow aspiring entrepreneurs\, join the Burgess Institute for Entrepreneurship & Innovation on Tuesday\, August 27\, 2024\, from 10:00 AM – 12:00 PM at the STEM Teaching and Learning Facility for a chance to fuel your passion with free coffee and donuts.
URL:https://broad.msu.edu/event/esip-3/2024-08-27/1/
LOCATION:STEM Teaching and Learning Facility\, 642 Red Cedar Rd\, East Lansing\, 48824\, United States
CATEGORIES:Entrepreneurship
ORGANIZER;CN="Aubrey Haase":MAILTO:haaseaub@msu.edu
END:VEVENT
BEGIN:VEVENT
DTSTART;TZID=America/Detroit:20240827T120000
DTEND;TZID=America/Detroit:20240827T170000
DTSTAMP:20260422T121743
CREATED:20240826T151537Z
LAST-MODIFIED:20240826T151537Z
UID:10004191-1724760000-1724778000@broad.msu.edu
SUMMARY:ESIP
DESCRIPTION:Whether you’re curious about starting your own business\, exploring innovative ideas\, or want to meet fellow aspiring entrepreneurs\, join the Burgess Institute for Entrepreneurship & Innovation on Tuesday\, August 27\, 2024\, from 10:00 AM – 12:00 PM at the STEM Teaching and Learning Facility for a chance to fuel your passion with free coffee and donuts.
URL:https://broad.msu.edu/event/esip-3/2024-08-27/2/
LOCATION:STEM Teaching and Learning Facility\, 642 Red Cedar Rd\, East Lansing\, 48824\, United States
CATEGORIES:Entrepreneurship
ORGANIZER;CN="Aubrey Haase":MAILTO:haaseaub@msu.edu
END:VEVENT
BEGIN:VEVENT
DTSTART;TZID=Asia/Seoul:20240827T190000
DTEND;TZID=Asia/Seoul:20240827T213000
DTSTAMP:20260422T121743
CREATED:20240710T195050Z
LAST-MODIFIED:20240710T195050Z
UID:10004125-1724785200-1724794200@broad.msu.edu
SUMMARY:QS MBA Fair Seoul
DESCRIPTION:Meet the Michigan State Full-Time MBA admissions team at the QS MBA Fair in Seoul on August 27th! \nLeave us your information below to receive updates about the Broad MBA program and admissions events and express your interest in meeting with us! \nIf you would like to meet with us at the QS event in Seoul please register for it here.
URL:https://broad.msu.edu/event/qs-mba-fair-seoul/
LOCATION:MI
CATEGORIES:Admissions Events,Full-Time MBA
ORGANIZER;CN="MBA Admissions":MAILTO:mba@msu.edu
END:VEVENT
BEGIN:VEVENT
DTSTART;TZID=America/Detroit:20240828T123000
DTEND;TZID=America/Detroit:20240828T133000
DTSTAMP:20260422T121743
CREATED:20240516T184117Z
LAST-MODIFIED:20241001T153331Z
UID:10004158-1724848200-1724851800@broad.msu.edu
SUMMARY:Broad Executive MBA: Live Drop-in Q&A
DESCRIPTION:  \n \nJoin us for a live Q&A via Zoom with a member of our admissins team. Drop-in any time during the hour to learn more about the Executive MBA program or the application process.
URL:https://broad.msu.edu/event/broad-executive-mba-live-drop-in-qa-2/2024-08-28/
LOCATION:Virtual
CATEGORIES:Admissions Events,Executive MBA
END:VEVENT
BEGIN:VEVENT
DTSTART;TZID=Asia/Tokyo:20240829T190000
DTEND;TZID=Asia/Tokyo:20240829T213000
DTSTAMP:20260422T121743
CREATED:20240710T195458Z
LAST-MODIFIED:20240710T195458Z
UID:10004126-1724958000-1724967000@broad.msu.edu
SUMMARY:QS MBA Fair Tokyo
DESCRIPTION:Meet the Michigan State Full-Time MBA admissions team at the QS MBA Fair in Tokyo on August 29th! \nLeave us your information below to receive updates about the Broad MBA program and admissions events and express your interest in meeting with us! \nIf you would like to meet with us at the QS event in Tokyo please register for it here.
URL:https://broad.msu.edu/event/qs-mba-fair-tokyo/
LOCATION:MI
CATEGORIES:Admissions Events,Full-Time MBA
ORGANIZER;CN="MBA Admissions":MAILTO:mba@msu.edu
END:VEVENT
END:VCALENDAR