BEGIN:VCALENDAR
VERSION:2.0
PRODID:-//Eli Broad College of Business | Michigan State University - ECPv6.15.17.1//NONSGML v1.0//EN
CALSCALE:GREGORIAN
METHOD:PUBLISH
X-WR-CALNAME:Eli Broad College of Business | Michigan State University
X-ORIGINAL-URL:https://broad.msu.edu
X-WR-CALDESC:Events for Eli Broad College of Business | Michigan State University
REFRESH-INTERVAL;VALUE=DURATION:PT1H
X-Robots-Tag:noindex
X-PUBLISHED-TTL:PT1H
BEGIN:VTIMEZONE
TZID:America/Detroit
BEGIN:DAYLIGHT
TZOFFSETFROM:-0500
TZOFFSETTO:-0400
TZNAME:EDT
DTSTART:20230312T070000
END:DAYLIGHT
BEGIN:STANDARD
TZOFFSETFROM:-0400
TZOFFSETTO:-0500
TZNAME:EST
DTSTART:20231105T060000
END:STANDARD
BEGIN:DAYLIGHT
TZOFFSETFROM:-0500
TZOFFSETTO:-0400
TZNAME:EDT
DTSTART:20240310T070000
END:DAYLIGHT
BEGIN:STANDARD
TZOFFSETFROM:-0400
TZOFFSETTO:-0500
TZNAME:EST
DTSTART:20241103T060000
END:STANDARD
BEGIN:DAYLIGHT
TZOFFSETFROM:-0500
TZOFFSETTO:-0400
TZNAME:EDT
DTSTART:20250309T070000
END:DAYLIGHT
BEGIN:STANDARD
TZOFFSETFROM:-0400
TZOFFSETTO:-0500
TZNAME:EST
DTSTART:20251102T060000
END:STANDARD
END:VTIMEZONE
BEGIN:VEVENT
DTSTART;TZID=America/Detroit:20240923T100000
DTEND;TZID=America/Detroit:20240923T120000
DTSTAMP:20260421T000209
CREATED:20240826T192220Z
LAST-MODIFIED:20240826T192220Z
UID:10004201-1727085600-1727092800@broad.msu.edu
SUMMARY:ESIP
DESCRIPTION:Whether you’re curious about starting your own business\, exploring innovative ideas\, or want to meet fellow aspiring entrepreneurs\, join the Burgess Institute for Entrepreneurship & Innovation on Monday\, September 23\, 2024\, from 10:00 AM – 12:00 PM at The Rock for a chance to fuel your passion with free coffee and donuts.
URL:https://broad.msu.edu/event/esip-5/
LOCATION:The Rock\, 514 Farm Ln\, East Lansing\, MI\, 48825
CATEGORIES:Entrepreneurship
ORGANIZER;CN="Aubrey Haase":MAILTO:haaseaub@msu.edu
END:VEVENT
BEGIN:VEVENT
DTSTART;TZID=America/Detroit:20240923T170000
DTEND;TZID=America/Detroit:20240923T180000
DTSTAMP:20260421T000209
CREATED:20240722T152924Z
LAST-MODIFIED:20240722T152924Z
UID:10004144-1727110800-1727114400@broad.msu.edu
SUMMARY:White Collar Crime; An Ethics Lecture
DESCRIPTION:The Center for Ethical and Socially Responsible Leadership and the Frank J. Kelley Institute of Ethics are thrilled to welcome Hank Shea and Steve Brown to campus on September 23\, 2024 from 5-6pm. \nHank Shea was an Assistant U.S. Attorney for the District of Minnesota for almost twenty years. Between 1994 and 1998 he served as the Chief of his Office’s Economic Crime Section. He was considered one of the country’s most effective white-collar crime prosecutors. For the past few years\, Shea has also been engaged in a unique collaboration with white-collar offenders\, many of whom he prosecuted\, to make joint ethics presentations. \nJoining Hank Shea will be Steve Brown. Brown\, a Democratic member of the Missouri House representing District 73\, voluntarily surrendered his law license following his guilty plea in August of 2009\, for his part in a conspiracy to obstruct a Federal Election Commission proceeding and to obstruct a federal grand jury proceeding in 2004. In 2018 Brown’s petition for reinstatement of his law license was approved and he was reinstated as a member of The Missouri Bar in good standing. \nJoin us for a unique perspective on ethics\, and the leadership lessons learned from experiences of Hank Shea and Steve Brown. Register today!
URL:https://broad.msu.edu/event/white-collar-crime-an-ethics-lecture-2024/
LOCATION:Eppley Center\, 667 N Shaw Ln\, East Lansing\, MI\, 48824\, United States
CATEGORIES:Ethics & Social Responsibility
END:VEVENT
BEGIN:VEVENT
DTSTART;TZID=America/Detroit:20240924T113000
DTEND;TZID=America/Detroit:20240924T123000
DTSTAMP:20260421T000209
CREATED:20240906T173800Z
LAST-MODIFIED:20240906T173800Z
UID:10004228-1727177400-1727181000@broad.msu.edu
SUMMARY:Lunch and Learn; How Business Ethics\, ESG and Social Entrepreneurship Became a Movement
DESCRIPTION:Join us to learn about The History of Responsible Business: How Business Ethics\, ESG\, DEI\, and Social Entrepreneurship Became a Movement. We will look back to understand the impact Social Responsibility is having on organizations today. Leading this event is Kirk Hanson\, an ethics researcher\, faculty\, and leader for nearly 50 years. This event is open to all students\, faculty and staff. Register to join us on Tuesday\, September 24th from 11:30am-12:30pm\, and lock in your FREE lunch today!
URL:https://broad.msu.edu/event/lunch-and-learn-how-business-ethics-esg-and-social-entrepreneurship-became-a-movement/
LOCATION:Eppley Center\, 667 N Shaw Ln\, East Lansing\, MI\, 48824\, United States
CATEGORIES:Ethics & Social Responsibility
ORGANIZER;CN="Beth Hammond":MAILTO:hammon25@msu.edu
END:VEVENT
BEGIN:VEVENT
DTSTART;TZID=America/Detroit:20240924T173000
DTEND;TZID=America/Detroit:20240924T211500
DTSTAMP:20260421T000209
CREATED:20240716T195353Z
LAST-MODIFIED:20240716T195353Z
UID:10004132-1727199000-1727212500@broad.msu.edu
SUMMARY:Access MBA - Philadelphia
DESCRIPTION:Meet with the Michigan State Broad Full-Time MBA admissions team at the Access MBA Philadelphia event on Tuesday\, September 24th. Meet with us at the event to learn more about the Broad MBA\, discuss your MBA goals and hear about the admissions process. \nLeave us your information below to receive updates about the Broad MBA program and admissions events and express your interest in meeting with us! \nIf you would like to meet with us at the Access MBA event in Philadelphia\, please register for it here.
URL:https://broad.msu.edu/event/access-mba-philadelphia/
CATEGORIES:Admissions Events,Full-Time MBA
ORGANIZER;CN="MBA Admissions":MAILTO:mba@msu.edu
END:VEVENT
BEGIN:VEVENT
DTSTART;TZID=America/Detroit:20240924T180000
DTEND;TZID=America/Detroit:20240924T190000
DTSTAMP:20260421T000209
CREATED:20231127T191753Z
LAST-MODIFIED:20240819T204701Z
UID:10003898-1727200800-1727204400@broad.msu.edu
SUMMARY:Broad Executive MBA | Virtual Program Preview
DESCRIPTION:Join a Broad College Executive MBA Program representative\, in a virtual program preview. This webinar will provide details regarding the academic program\, admission criteria\, and tuition/program fees. \nAgenda \n\nInformation Session\nQ & A\nConnecting with program alumni
URL:https://broad.msu.edu/event/broad-executive-mba-virtual-program-preview-5/
LOCATION:Online
CATEGORIES:Executive MBA,Recruiting Events
END:VEVENT
BEGIN:VEVENT
DTSTART;TZID=America/Detroit:20240925T113000
DTEND;TZID=America/Detroit:20240925T123000
DTSTAMP:20260421T000209
CREATED:20240722T153220Z
LAST-MODIFIED:20240722T153220Z
UID:10004145-1727263800-1727267400@broad.msu.edu
SUMMARY:Lunch and Learn; Spartan Global Development
DESCRIPTION:Join us to learn from Professor Paulette Stenzel\, Broad College of Business Faculty to learn how students can use their business skills and passions to be a socially responsible leader right now! This will be a great opportunity to learn more about the impact the Spartan Global Development Fund has on people across the globe. Join us on Wednesday\, September 25<sup>th</sup> from 11:30am-12:30pm. Register to join\, and lock in your FREE lunch today!
URL:https://broad.msu.edu/event/lunch-and-learn-spartan-global-development-2024/
LOCATION:Eppley Center\, 667 N Shaw Ln\, East Lansing\, MI\, 48824\, United States
CATEGORIES:Ethics & Social Responsibility
ORGANIZER;CN="Beth Hammond":MAILTO:hammon25@msu.edu
END:VEVENT
BEGIN:VEVENT
DTSTART;TZID=America/Detroit:20240925T123000
DTEND;TZID=America/Detroit:20240925T133000
DTSTAMP:20260421T000209
CREATED:20240516T184117Z
LAST-MODIFIED:20241001T153331Z
UID:10004162-1727267400-1727271000@broad.msu.edu
SUMMARY:Broad Executive MBA: Live Drop-in Q&A
DESCRIPTION:  \n \nJoin us for a live Q&A via Zoom with a member of our admissins team. Drop-in any time during the hour to learn more about the Executive MBA program or the application process.
URL:https://broad.msu.edu/event/broad-executive-mba-live-drop-in-qa-2/2024-09-25/
LOCATION:Virtual
CATEGORIES:Admissions Events,Executive MBA
END:VEVENT
BEGIN:VEVENT
DTSTART;TZID=America/Detroit:20240925T140000
DTEND;TZID=America/Detroit:20240925T143000
DTSTAMP:20260421T000209
CREATED:20240827T172935Z
LAST-MODIFIED:20240827T172935Z
UID:10004210-1727272800-1727274600@broad.msu.edu
SUMMARY:MSMRA Virtual Information Session
DESCRIPTION:Join us to learn more about MSU’s MSMRA program!
URL:https://broad.msu.edu/event/msmra-virtual-information-session-13/
CATEGORIES:M.S. in Marketing Research
END:VEVENT
BEGIN:VEVENT
DTSTART;TZID=America/Detroit:20240925T160000
DTEND;TZID=America/Detroit:20240925T173000
DTSTAMP:20260421T000209
CREATED:20240826T180837Z
LAST-MODIFIED:20240826T181845Z
UID:10004195-1727280000-1727285400@broad.msu.edu
SUMMARY:Unpacking Your Education Abroad Experience
DESCRIPTION:This event is primarily for education abroad returnees\, especially those who participated in summer 2024 programs (faculty-led\, semester-long\, and internship abroad)\, but all students are welcome. Through hands-on exercises\, students improve skills to communicate about the value of their education abroad experience in terms of personal and professional development. 
URL:https://broad.msu.edu/event/unpacking-your-education-abroad-experience/
LOCATION:Eppley Center\, 667 N Shaw Ln\, East Lansing\, MI\, 48824\, United States
CATEGORIES:Education Abroad
END:VEVENT
BEGIN:VEVENT
DTSTART;TZID=America/Detroit:20240925T160000
DTEND;TZID=America/Detroit:20240925T190000
DTSTAMP:20260421T000209
CREATED:20240424T205104Z
LAST-MODIFIED:20240424T205104Z
UID:10004022-1727280000-1727290800@broad.msu.edu
SUMMARY:MSU Careers in Business: Marketing/Management In-Person Fair
DESCRIPTION:We invite you to join the Broad College of Business Russell Palmer Career Management Center for the MSU Careers in Business: Marketing/Management In-Person Fair. This event will take place in the MSUFCU Club at Spartan Stadium on Wednesday\, September 25 from 4:00pm-7:00pm and is open to all MSU undergraduate and graduate students seeking internship and full-time opportunities in the marketing and management fields. 
URL:https://broad.msu.edu/event/msu-careers-in-business-marketing-management-in-person-fair-2/
LOCATION:Spartan Stadium – Office Tower\, 535 Chestnut Rd\, East Lansing\, MI\, 48824\, United States
CATEGORIES:Career Management,Palmer Center Recruiting,Recruiting Events
ORGANIZER;CN="Taylor Bates":MAILTO:taybates@msu.edu
END:VEVENT
BEGIN:VEVENT
DTSTART;TZID=America/Detroit:20240926T140000
DTEND;TZID=America/Detroit:20240926T150000
DTSTAMP:20260421T000209
CREATED:20240827T173341Z
LAST-MODIFIED:20240827T173341Z
UID:10004211-1727359200-1727362800@broad.msu.edu
SUMMARY:MS-CXM Virtual Information Session
DESCRIPTION:Join us to learn more about MSU’s MS-CXM program!
URL:https://broad.msu.edu/event/ms-cxm-virtual-information-session-22/
CATEGORIES:M.S. in Customer Experience Management
END:VEVENT
BEGIN:VEVENT
DTSTART;TZID=America/Detroit:20240927T113000
DTEND;TZID=America/Detroit:20240927T190000
DTSTAMP:20260421T000210
CREATED:20240826T192714Z
LAST-MODIFIED:20240826T192714Z
UID:10004203-1727436600-1727463600@broad.msu.edu
SUMMARY:2024 Venture Summit
DESCRIPTION:Venture Summit is an annual gathering of Spartan leaders\, entrepreneurs\, and innovators dedicated to discussing important topics and advancing entrepreneurship education at Michigan State University. \nThis year\, the theme “Beyond Business” focuses on the dynamic intersectionality of entrepreneurship\, creativity\, and innovation. By emphasizing the importance of integrating creative thinking and innovative approaches into entrepreneurial endeavors\, the Burgess Institute aims to highlight the transformative power of thinking beyond traditional business models\, encouraging participants to envision new possibilities and equipping participants with the mindset and tools necessary to create ventures that resonate on a deeper\, more meaningful level. \nJoin the Burgess Institute for Entrepreneurship & Innovation for Venture Summit on Friday\, September 27\, 2024\, to go beyond business together.
URL:https://broad.msu.edu/event/2024-venture-summit/
LOCATION:Minskoff Pavilion\, 651 N Shaw Ln\, East Lansing\, MI\, 48824\, United States
CATEGORIES:Entrepreneurship
ORGANIZER;CN="Aubrey Haase":MAILTO:haaseaub@msu.edu
END:VEVENT
BEGIN:VEVENT
DTSTART;TZID=America/Detroit:20240927T120000
DTEND;TZID=America/Detroit:20240927T123000
DTSTAMP:20260421T000210
CREATED:20240903T192358Z
LAST-MODIFIED:20240903T192358Z
UID:10004224-1727438400-1727440200@broad.msu.edu
SUMMARY:MS Accounting & Data Analytics Information Session
DESCRIPTION:Join us to learn more about MSU’s Master of Science in Accounting & Data Analytics program!
URL:https://broad.msu.edu/event/ms-accounting-data-analytics-information-session-33/
LOCATION:Online
CATEGORIES:M.S. in Accounting and Data Analytics
END:VEVENT
BEGIN:VEVENT
DTSTART;TZID=America/Detroit:20240928T103000
DTEND;TZID=America/Detroit:20240928T144500
DTSTAMP:20260421T000210
CREATED:20240716T195929Z
LAST-MODIFIED:20240716T195929Z
UID:10004133-1727519400-1727534700@broad.msu.edu
SUMMARY:Access MBA - Washington DC
DESCRIPTION:Meet with the Michigan State Broad Full-Time MBA admissions team at the Access MBA Washington DC event on Saturday\, September 28th. Meet with us at the event to learn more about the Broad MBA\, discuss your MBA goals and hear about the admissions process. \nLeave us your information below to receive updates about the Broad MBA program and admissions events and express your interest in meeting with us! \nIf you would like to meet with us at the Access MBA event in Washington DC\, please register for it here.
URL:https://broad.msu.edu/event/access-mba-washington-dc/
CATEGORIES:Admissions Events,Full-Time MBA
ORGANIZER;CN="MBA Admissions":MAILTO:mba@msu.edu
END:VEVENT
END:VCALENDAR