BEGIN:VCALENDAR
VERSION:2.0
PRODID:-//Eli Broad College of Business | Michigan State University - ECPv6.15.17.1//NONSGML v1.0//EN
CALSCALE:GREGORIAN
METHOD:PUBLISH
X-WR-CALNAME:Eli Broad College of Business | Michigan State University
X-ORIGINAL-URL:https://broad.msu.edu
X-WR-CALDESC:Events for Eli Broad College of Business | Michigan State University
REFRESH-INTERVAL;VALUE=DURATION:PT1H
X-Robots-Tag:noindex
X-PUBLISHED-TTL:PT1H
BEGIN:VTIMEZONE
TZID:America/Detroit
BEGIN:DAYLIGHT
TZOFFSETFROM:-0500
TZOFFSETTO:-0400
TZNAME:EDT
DTSTART:20230312T070000
END:DAYLIGHT
BEGIN:STANDARD
TZOFFSETFROM:-0400
TZOFFSETTO:-0500
TZNAME:EST
DTSTART:20231105T060000
END:STANDARD
BEGIN:DAYLIGHT
TZOFFSETFROM:-0500
TZOFFSETTO:-0400
TZNAME:EDT
DTSTART:20240310T070000
END:DAYLIGHT
BEGIN:STANDARD
TZOFFSETFROM:-0400
TZOFFSETTO:-0500
TZNAME:EST
DTSTART:20241103T060000
END:STANDARD
BEGIN:DAYLIGHT
TZOFFSETFROM:-0500
TZOFFSETTO:-0400
TZNAME:EDT
DTSTART:20250309T070000
END:DAYLIGHT
BEGIN:STANDARD
TZOFFSETFROM:-0400
TZOFFSETTO:-0500
TZNAME:EST
DTSTART:20251102T060000
END:STANDARD
END:VTIMEZONE
BEGIN:VEVENT
DTSTART;TZID=America/Detroit:20241008T113000
DTEND;TZID=America/Detroit:20241008T123000
DTSTAMP:20260422T030325
CREATED:20240722T153839Z
LAST-MODIFIED:20240722T153839Z
UID:10004146-1728387000-1728390600@broad.msu.edu
SUMMARY:Living Room Conversation; Who is Taking Care of You?
DESCRIPTION:Living Room Conversations offers a simple\, sociable and structured way to practice communicating across differences while building understanding and relationships. Rather than debating or convincing others\, we take turns talking to share and learn\, and be curious. This session focuses on self-care\, the trust required to seek help from others\, and the effects of learned behavior on attempting to handle everything alone.  Register to join us on Tuesday\, October 8\, from 11:30am-12:30pm and lock in your FREE lunch. \nThis program is a partnership with CESRL and Undergraduate Advising.
URL:https://broad.msu.edu/event/living-room-conversation-who-is-taking-care-of-you-2024/
LOCATION:Eppley Center\, 667 N Shaw Ln\, East Lansing\, MI\, 48824\, United States
CATEGORIES:Ethics & Social Responsibility,Undergraduate Events,Undergraduate Student Engagement
ORGANIZER;CN="Beth Hammond":MAILTO:hammon25@msu.edu
END:VEVENT
BEGIN:VEVENT
DTSTART;TZID=America/Detroit:20241008T143000
DTEND;TZID=America/Detroit:20241008T151500
DTSTAMP:20260422T030325
CREATED:20240925T141723Z
LAST-MODIFIED:20241002T151307Z
UID:10004240-1728397800-1728400500@broad.msu.edu
SUMMARY:INFO SESSION: Summer Business Studies in Australia (University of Sydney)
DESCRIPTION:The 5-week Summer Business Studies at University of Sydney experience is a once-in-a-lifetime opportunity to visit beautiful Sydney\, Australia and earn 6 MSU transferable credits across two courses while enjoying freedom of travel and exploration of some of the world’s most beautiful beaches\, diverse cultural attractions\, and wildlife preserves featuring the cutest critters on the planet. You will travel from June 22 – July 26\, 2025\, enjoy on-campus accommodations\, meet students from all over the world\, and gather memories that will last a lifetime. Contact Dr. Sarah Scott (sscott@broad.msu.edu to start your journey!
URL:https://broad.msu.edu/event/info-session-summer-business-studies-in-australia-university-of-sydney-2/
LOCATION:Minskoff Pavilion\, 651 N Shaw Ln\, East Lansing\, MI\, 48824\, United States
CATEGORIES:Education Abroad
END:VEVENT
BEGIN:VEVENT
DTSTART;TZID=America/Detroit:20241008T163000
DTEND;TZID=America/Detroit:20241008T170000
DTSTAMP:20260422T030325
CREATED:20240925T141853Z
LAST-MODIFIED:20240925T141854Z
UID:10004241-1728405000-1728406800@broad.msu.edu
SUMMARY:INFO SESSION: International Business Studies in Europe
DESCRIPTION:Immerse yourself in the rich history and culture of Austria\, Slovenia\, and Italy while exploring European business practices during a two-week program in May. Enhance your marketing skills through targeted coursework in Marketing Management and International Business\, with a focus on business-to-business and consumer marketing in Europe. Experience immersive on-site learning in Europe\, followed by flexible online coursework throughout the summer for a comprehensive study abroad experience. Contact Dr. Spreng sprengri@broad.msu.edu for more information.
URL:https://broad.msu.edu/event/info-session-international-business-studies-in-europe/
LOCATION:Minskoff Pavilion\, 651 N Shaw Ln\, East Lansing\, MI\, 48824\, United States
CATEGORIES:Education Abroad
END:VEVENT
BEGIN:VEVENT
DTSTART;TZID=America/Detroit:20241009T113000
DTEND;TZID=America/Detroit:20241009T123000
DTSTAMP:20260422T030325
CREATED:20240722T154133Z
LAST-MODIFIED:20240722T154133Z
UID:10004147-1728473400-1728477000@broad.msu.edu
SUMMARY:Leadership in Action Workshop; They Psychology of Risk
DESCRIPTION:Calling all Broad RSO leaders! This presentation will challenge you to think about risk personally\, professionally\, and within your role as student leader. Are you making choices based on pressure\, personal responsibility\, group dynamics\, a sense of duty to the organization or are you just checking the box? You will leave with a stronger understanding of the link between your tolerance for taking chances as it intersects within your leadership sphere. Register to join us on Wednesday\, October 9th from 11:30am-12:30pm and lock in your FREE lunch today!
URL:https://broad.msu.edu/event/leadership-in-action-workshop-they-psychology-of-risk-2024/
LOCATION:Eppley Center\, 667 N Shaw Ln\, East Lansing\, MI\, 48824\, United States
CATEGORIES:Ethics & Social Responsibility
ORGANIZER;CN="Beth Hammond":MAILTO:hammon25@msu.edu
END:VEVENT
BEGIN:VEVENT
DTSTART;TZID=America/Detroit:20241009T150000
DTEND;TZID=America/Detroit:20241009T160000
DTSTAMP:20260422T030325
CREATED:20240424T205111Z
LAST-MODIFIED:20240424T205111Z
UID:10004024-1728486000-1728489600@broad.msu.edu
SUMMARY:MSU MBA/MS Business Data Science & Analytics Pre-Supply Chain Fair In-Person Networking Mixer
DESCRIPTION:This complimentary\, exclusive networking mixer will take place prior to the MSU Careers in Business: Supply Chain Management In-Person Career Fair at the Breslin Center on Wednesday\, October 9 from 3:00pm-4:00pm and is open to all MSU MBA and MS Business Data Science & Analytics students seeing internship and full-time opportunities. Registration for the supply chain management fair is encouraged\, but not required.
URL:https://broad.msu.edu/event/msu-mba-ms-business-data-science-analytics-pre-supply-chain-fair-in-person-networking-mixer/
LOCATION:Breslin Student Events Center\, 534 Birch Rd\, East Lansing\, MI\, 48824\, United States
CATEGORIES:Career Management,Palmer Center Recruiting,Recruiting Events
ORGANIZER;CN="Taylor Bates":MAILTO:taybates@msu.edu
END:VEVENT
BEGIN:VEVENT
DTSTART;TZID=America/Detroit:20241009T160000
DTEND;TZID=America/Detroit:20241009T190000
DTSTAMP:20260422T030325
CREATED:20240424T205135Z
LAST-MODIFIED:20240424T205135Z
UID:10004025-1728489600-1728500400@broad.msu.edu
SUMMARY:MSU Careers in Business: Supply Chain Management In-Person Fair
DESCRIPTION:We invite you to join the Broad College of Business Russell Palmer Career Management Center for the MSU Careers in Business: Supply Chain Management In-Person Fair. This event will take place at the Breslin Center on Wednesday\, October 9 from 4:00pm-7:00pm and is open to all MSU undergraduate and graduate students seeking internship and full-time opportunities in the supply chain management field.
URL:https://broad.msu.edu/event/msu-careers-in-business-supply-chain-management-in-person-fair-2/
LOCATION:Breslin Student Events Center\, 534 Birch Rd\, East Lansing\, MI\, 48824\, United States
CATEGORIES:Career Management,Palmer Center Recruiting,Recruiting Events
ORGANIZER;CN="Taylor Bates":MAILTO:taybates@msu.edu
END:VEVENT
BEGIN:VEVENT
DTSTART;TZID=America/Detroit:20241010T113000
DTEND;TZID=America/Detroit:20241010T121500
DTSTAMP:20260422T030325
CREATED:20240925T141528Z
LAST-MODIFIED:20241002T151139Z
UID:10004239-1728559800-1728562500@broad.msu.edu
SUMMARY:INFO SESSION: Summer Business Studies in Australia (University of Sydney)
DESCRIPTION:The 5-week Summer Business Studies at University of Sydney experience is a once-in-a-lifetime opportunity to visit beautiful Sydney\, Australia and earn 6 MSU transferable credits across two courses while enjoying freedom of travel and exploration of some of the world’s most beautiful beaches\, diverse cultural attractions\, and wildlife preserves featuring the cutest critters on the planet. You will travel from June 22 – July 26\, 2025\, enjoy on-campus accommodations\, meet students from all over the world\, and gather memories that will last a lifetime. Contact Dr. Sarah Scott (sscott@broad.msu.edu to start your journey!
URL:https://broad.msu.edu/event/info-session-summer-business-studies-in-australia-university-of-sydney/
LOCATION:Minskoff Pavilion\, 651 N Shaw Ln\, East Lansing\, MI\, 48824\, United States
CATEGORIES:Education Abroad
END:VEVENT
BEGIN:VEVENT
DTSTART;TZID=America/Detroit:20241010T113000
DTEND;TZID=America/Detroit:20241010T123000
DTSTAMP:20260422T030325
CREATED:20240722T154453Z
LAST-MODIFIED:20240722T154453Z
UID:10004148-1728559800-1728563400@broad.msu.edu
SUMMARY:Lunch and Learn; Global ESG
DESCRIPTION:Join us to learn from Derek Tang\, MSU Alum and Chief Financial Officer at Mallplaza\, the largest Chilean mall company and one of the top 15 companies in the Chilean stock exchange. Derek is going to share his leadership journey and his global experience on how investors approach ESG in different markets when they go to make an investment? Register to join us on Thursday\, October 10th from 11:30am-12:30pm and lock in your FREE lunch today!
URL:https://broad.msu.edu/event/lunch-and-learn-global-esg-2024/
LOCATION:Eppley Center\, 667 N Shaw Ln\, East Lansing\, MI\, 48824\, United States
CATEGORIES:Ethics & Social Responsibility
ORGANIZER;CN="Beth Hammond":MAILTO:hammon25@msu.edu
END:VEVENT
BEGIN:VEVENT
DTSTART;TZID=America/Detroit:20241011T080000
DTEND;TZID=America/Detroit:20241011T190000
DTSTAMP:20260422T030325
CREATED:20240725T162236Z
LAST-MODIFIED:20240725T162236Z
UID:10004150-1728633600-1728673200@broad.msu.edu
SUMMARY:Michigan State Broad MBA Diversity Preview Day
DESCRIPTION:Attendance at this event is by special request or invitation only and is a great opportunity to learn more about our MBA program\, see MSU’s campus\, and interact with our deans\, MBA staff\, and the career management team.  Most importantly\, there will be several opportunities to connect with current students representing diverse backgrounds willing to share their experiences in the MSU MBA program. \nIf you are interested in attending\, please register and we will follow up with you with more information.\nAttendees traveling 50 miles or more to the event will receive a travel scholarship of up to $250 and lodging paid by the Broad MBA Program at the Marriott Hotel in East Lansing on October 10th and 11th. \n  \nTentative agenda: Friday\, October 11th – 8:00 AM – 7:00 PM \n8:00 am- 10:00 am – (Optional) Breakfast at the Marriott\, East Lansing \n8:00 am-10:00 am – (Optional) Evaluative Interviews at the Marriott\, East Lansing \n10:00 am-10:15 am – Bus from Marriott to Minskoff Pavilion \n10:15 am-10:30 am – Admissions Team’s Welcome \n10:30 am-11:30 am – Mock Career Management Class \n11:45 am-12:00 pm – Break \n12:00 pm-12:30 pm – MBA Programming Welcome \n12:30 pm-1:30 pm – Lunch with Current Students \n1:30 pm-2:30 pm – Current Student Panel \n2:30 pm-2:45 pm – Break \n2:45 pm-3:15 pm – Tour the College of Business with the Admissions Graduate Assistants \n3:15 pm-3:45 pm – Broad College of Business DEI Overview/MSU Veterans Resource Center Presentation \n3:45 pm-4:00 pm – Deans Welcome \n4:00 pm-4:45 pm – Bus Michigan State University Campus Tour and drop off at Marriott \n4:45 pm-5:00 pm – Break \n5:00 pm-7:00 pm – Social with Current Students (Location TBD)
URL:https://broad.msu.edu/event/michigan-state-broad-mba-diversity-preview-day/
LOCATION:Minskoff Pavilion\, 651 N Shaw Ln\, East Lansing\, MI\, 48824\, United States
CATEGORIES:Admissions Events,Full-Time MBA
ORGANIZER;CN="MBA Admissions":MAILTO:mba@msu.edu
END:VEVENT
BEGIN:VEVENT
DTSTART;TZID=America/Detroit:20241011T090000
DTEND;TZID=America/Detroit:20241011T140000
DTSTAMP:20260422T030325
CREATED:20240722T154844Z
LAST-MODIFIED:20240722T154844Z
UID:10004149-1728637200-1728655200@broad.msu.edu
SUMMARY:Ethics in the News Undergraduate Case Competition
DESCRIPTION:The Center for Ethical and Socially Responsible Leadership will be hosting Ethics in the New Case Competition for undergraduate students in the Broad College of Business on Friday\, October 11th. Teams of 4 students will compete to address all ethical and business implications for a current day ethical situation. \nPrize money will be awarded to the top three teams in the following amounts: \nFirst Place: $1\,200 total or $300 per team member \nSecond Place: $800 total or $200 per team member \nThird Place: $500 total or $125 per team member \nApplication Deadlines: \nThursday\, September 26: Team Applications Due \nFriday\, September 27: Ethical situation shared with all teams \nFriday\, October 11: 20 Minute Presentation with live judges
URL:https://broad.msu.edu/event/ethics-in-the-news-undergraduate-case-competition-2024/
LOCATION:Eppley Center\, 667 N Shaw Ln\, East Lansing\, MI\, 48824\, United States
CATEGORIES:Ethics & Social Responsibility,Undergraduate Events
ORGANIZER;CN="Beth Hammond":MAILTO:hammon25@msu.edu
END:VEVENT
BEGIN:VEVENT
DTSTART;TZID=America/Detroit:20241011T130000
DTEND;TZID=America/Detroit:20241012T210000
DTSTAMP:20260422T030325
CREATED:20240826T192907Z
LAST-MODIFIED:20240826T192907Z
UID:10004204-1728651600-1728766800@broad.msu.edu
SUMMARY:2DAY VENTURE: Fall Session I
DESCRIPTION:2DAY VENTURE (2DV) is a hands-on learning experience designed exclusively for Spartans at Michigan State University\, regardless of home college\, major\, or background. Each event offers unbeatable entrepreneurial education resources & the freedom to explore turning a project or idea into reality—all packed into 36 hours. \nWhat’s Included in Your Experience? \n🚀 Access to individual team workspace in the Edward J. Minskoff Pavilion\, the Entrepreneurship Lab and the MSU Hatch. \n🍩 Meals are catered by locally-owned restaurants and businesses in East Lansing & the Great Lansing region. \n📚 Exclusive access to unbeatable entrepreneurial education resources\, perks\, and prizes is provided only to students at Michigan State University. \n🛠 The ability to learn the basics of founding startups & launching successful ventures through idea and project development in a safe\, judgement-free and inclusive environment. \n💚 Unlimited lifetime access to a large ecosystem and community of Spartan innovators and entrepreneurs across the globe. \nYou don’t have to have a venture idea or project to participate in 2DV! However\, there will be an opportunity before the event for you to choose which venture idea or project you like the most & can join their team. 2DV is designed for Spartans to create & build a new venture with a team\, not by themselves. Join the Burgess Institute for Entrepreneurship & Innovation for 2DAY VENTURE: Fall Session I on Fri.\, Oct. 11 – Sat.\, Oct. 12\, 2024\, in the Entrepreneurship Lab (M025) to explore turning a project or idea into reality!
URL:https://broad.msu.edu/event/2day-venture-fall-session-i/
LOCATION:Entrepreneurship Lab\, 651 N Shaw Ln\, East Lansing\, MI\, 48824\, United States
CATEGORIES:Entrepreneurship
ORGANIZER;CN="Aubrey Haase":MAILTO:haaseaub@msu.edu
END:VEVENT
END:VCALENDAR