BEGIN:VCALENDAR
VERSION:2.0
PRODID:-//Eli Broad College of Business | Michigan State University - ECPv6.15.17.1//NONSGML v1.0//EN
CALSCALE:GREGORIAN
METHOD:PUBLISH
X-ORIGINAL-URL:https://broad.msu.edu
X-WR-CALDESC:Events for Eli Broad College of Business | Michigan State University
REFRESH-INTERVAL;VALUE=DURATION:PT1H
X-Robots-Tag:noindex
X-PUBLISHED-TTL:PT1H
BEGIN:VTIMEZONE
TZID:America/Santiago
BEGIN:STANDARD
TZOFFSETFROM:-0300
TZOFFSETTO:-0400
TZNAME:-04
DTSTART:20230402T030000
END:STANDARD
BEGIN:DAYLIGHT
TZOFFSETFROM:-0400
TZOFFSETTO:-0300
TZNAME:-03
DTSTART:20230903T040000
END:DAYLIGHT
BEGIN:STANDARD
TZOFFSETFROM:-0300
TZOFFSETTO:-0400
TZNAME:-04
DTSTART:20240407T030000
END:STANDARD
BEGIN:DAYLIGHT
TZOFFSETFROM:-0400
TZOFFSETTO:-0300
TZNAME:-03
DTSTART:20240908T040000
END:DAYLIGHT
BEGIN:STANDARD
TZOFFSETFROM:-0300
TZOFFSETTO:-0400
TZNAME:-04
DTSTART:20250406T030000
END:STANDARD
BEGIN:DAYLIGHT
TZOFFSETFROM:-0400
TZOFFSETTO:-0300
TZNAME:-03
DTSTART:20250907T040000
END:DAYLIGHT
END:VTIMEZONE
BEGIN:VTIMEZONE
TZID:America/Detroit
BEGIN:DAYLIGHT
TZOFFSETFROM:-0500
TZOFFSETTO:-0400
TZNAME:EDT
DTSTART:20230312T070000
END:DAYLIGHT
BEGIN:STANDARD
TZOFFSETFROM:-0400
TZOFFSETTO:-0500
TZNAME:EST
DTSTART:20231105T060000
END:STANDARD
BEGIN:DAYLIGHT
TZOFFSETFROM:-0500
TZOFFSETTO:-0400
TZNAME:EDT
DTSTART:20240310T070000
END:DAYLIGHT
BEGIN:STANDARD
TZOFFSETFROM:-0400
TZOFFSETTO:-0500
TZNAME:EST
DTSTART:20241103T060000
END:STANDARD
BEGIN:DAYLIGHT
TZOFFSETFROM:-0500
TZOFFSETTO:-0400
TZNAME:EDT
DTSTART:20250309T070000
END:DAYLIGHT
BEGIN:STANDARD
TZOFFSETFROM:-0400
TZOFFSETTO:-0500
TZNAME:EST
DTSTART:20251102T060000
END:STANDARD
END:VTIMEZONE
BEGIN:VTIMEZONE
TZID:America/Argentina/Buenos_Aires
BEGIN:STANDARD
TZOFFSETFROM:-0300
TZOFFSETTO:-0300
TZNAME:-03
DTSTART:20230101T000000
END:STANDARD
END:VTIMEZONE
BEGIN:VTIMEZONE
TZID:America/Sao_Paulo
BEGIN:STANDARD
TZOFFSETFROM:-0300
TZOFFSETTO:-0300
TZNAME:-03
DTSTART:20230101T000000
END:STANDARD
END:VTIMEZONE
BEGIN:VEVENT
DTSTART;TZID=America/Santiago:20241022T173000
DTEND;TZID=America/Santiago:20241022T211500
DTSTAMP:20260424T012420
CREATED:20240820T175717Z
LAST-MODIFIED:20240820T175717Z
UID:10004179-1729618200-1729631700@broad.msu.edu
SUMMARY:Access MBA - Santiago\, Chile
DESCRIPTION:Meet with the Michigan State Broad Full-Time MBA admissions team at the Access MBA Santiago event on Tuesday\, October 22nd. Meet with us at the event to learn more about the Broad MBA\, discuss your MBA goals and hear about the admissions process. \nLeave us your information below to receive updates about the Broad MBA program and admissions events and express your interest in meeting with us! \nIf you would like to meet with us at the Access MBA event in Santiago\, please register for it here.
URL:https://broad.msu.edu/event/access-mba-santiago-chile/
LOCATION:MI
CATEGORIES:Admissions Events,Full-Time MBA
ORGANIZER;CN="MBA Admissions":MAILTO:mba@msu.edu
END:VEVENT
BEGIN:VEVENT
DTSTART;TZID=America/Detroit:20241023T120000
DTEND;TZID=America/Detroit:20241023T130000
DTSTAMP:20260424T012421
CREATED:20240827T153011Z
LAST-MODIFIED:20240827T153110Z
UID:10004206-1729684800-1729688400@broad.msu.edu
SUMMARY:Top 5 Mistakes MBA Applicants Make
DESCRIPTION:This session will give you more information on the Broad MBA Program and tips on completing your application. During this presentation you will learn about the program. Most importantly\, identifying the top five mistakes MBA applicants make and how not to make them!
URL:https://broad.msu.edu/event/top-5-mistakes-mba-applicants-make-4/
LOCATION:Online
CATEGORIES:Admissions Events,Full-Time MBA
ORGANIZER;CN="MBA Admissions":MAILTO:mba@msu.edu
END:VEVENT
BEGIN:VEVENT
DTSTART;TZID=America/Detroit:20241023T123000
DTEND;TZID=America/Detroit:20241023T133000
DTSTAMP:20260424T012421
CREATED:20240516T184117Z
LAST-MODIFIED:20241001T153331Z
UID:10004166-1729686600-1729690200@broad.msu.edu
SUMMARY:Broad Executive MBA: Live Drop-in Q&A
DESCRIPTION:  \n \nJoin us for a live Q&A via Zoom with a member of our admissins team. Drop-in any time during the hour to learn more about the Executive MBA program or the application process.
URL:https://broad.msu.edu/event/broad-executive-mba-live-drop-in-qa-2/2024-10-23/
LOCATION:Virtual
CATEGORIES:Admissions Events,Executive MBA
END:VEVENT
BEGIN:VEVENT
DTSTART;TZID=America/Detroit:20241023T140000
DTEND;TZID=America/Detroit:20241023T150000
DTSTAMP:20260424T012421
CREATED:20241007T182144Z
LAST-MODIFIED:20241007T182145Z
UID:10004250-1729692000-1729695600@broad.msu.edu
SUMMARY:INFO SESSION: London School of Economics Summer School
DESCRIPTION:Spend your summer studying at the prestigious London School of Economics \, where you’ll earn 4 to 8 credits while deepening your knowledge in economics\, finance\, and social sciences. Immerse yourself in one of the world’s most vibrant cities\, experiencing its rich cultural diversity and expanding your global network.
URL:https://broad.msu.edu/event/info-session-london-school-of-economics-summer-school/
LOCATION:Eppley Center\, 667 N Shaw Ln\, East Lansing\, MI\, 48824\, United States
CATEGORIES:Education Abroad
END:VEVENT
BEGIN:VEVENT
DTSTART;TZID=America/Detroit:20241024T123000
DTEND;TZID=America/Detroit:20241024T130000
DTSTAMP:20260424T012421
CREATED:20240903T192707Z
LAST-MODIFIED:20240903T192707Z
UID:10004226-1729773000-1729774800@broad.msu.edu
SUMMARY:MS Accounting & Data Analytics Information Session
DESCRIPTION:Join us to learn more about MSU’s Master of Science in Accounting & Data Analytics program!
URL:https://broad.msu.edu/event/ms-accounting-data-analytics-information-session-35/
LOCATION:Online
CATEGORIES:M.S. in Accounting and Data Analytics
END:VEVENT
BEGIN:VEVENT
DTSTART;TZID=America/Detroit:20241024T160000
DTEND;TZID=America/Detroit:20241024T190000
DTSTAMP:20260424T012421
CREATED:20240424T205142Z
LAST-MODIFIED:20240424T205253Z
UID:10004028-1729785600-1729796400@broad.msu.edu
SUMMARY:MSU Careers in Business: Virtual All Majors Fair
DESCRIPTION:We invite you to join the Broad College of Business Russell Palmer Career Management Center for the MSU Careers in Business: Virtual All Majors Fair. This event will take place on Handshake Thursday\, October 24 from 4:00pm-7:00pm and is open to all MSU undergraduate and graduate students seeking internship and full-time opportunities in the business field.
URL:https://broad.msu.edu/event/msu-careers-in-business-virtual-all-majors-fair-2/
LOCATION:MI
CATEGORIES:Career Management,Palmer Center Recruiting,Recruiting Events
ORGANIZER;CN="Taylor Bates":MAILTO:taybates@msu.edu
END:VEVENT
BEGIN:VEVENT
DTSTART;TZID=America/Argentina/Buenos_Aires:20241024T173000
DTEND;TZID=America/Argentina/Buenos_Aires:20241024T211500
DTSTAMP:20260424T012421
CREATED:20240827T153531Z
LAST-MODIFIED:20240827T153531Z
UID:10004207-1729791000-1729804500@broad.msu.edu
SUMMARY:Access MBA - Buenos Aires\, Argentina
DESCRIPTION:Meet with the Michigan State Broad Full-Time MBA admissions team at the Access MBA Buenos Aires event on Thursday\, October 24th. Meet with us at the event to learn more about the Broad MBA\, discuss your MBA goals and hear about the admissions process. \nLeave us your information below to receive updates about the Broad MBA program and admissions events and express your interest in meeting with us! \nIf you would like to meet with us at the Access MBA event in Buenos Aires\, please register for it here.
URL:https://broad.msu.edu/event/access-mba-buenos-aires-argentina/
LOCATION:MI
CATEGORIES:Admissions Events,Full-Time MBA
ORGANIZER;CN="MBA Admissions":MAILTO:mba@msu.edu
END:VEVENT
BEGIN:VEVENT
DTSTART;TZID=America/Detroit:20241025T113000
DTEND;TZID=America/Detroit:20241025T123000
DTSTAMP:20260424T012421
CREATED:20240826T181221Z
LAST-MODIFIED:20240826T181222Z
UID:10004197-1729855800-1729859400@broad.msu.edu
SUMMARY:Spring Break Programs Preview
DESCRIPTION:This event offers students the opportunity to meet with faculty leaders for spring-break education abroad programs. These programs are great for those seeking a short and coordinated learning experience abroad. Bonus\, the tuition cost of those programs is part of the MSU flat-rate tuition! 
URL:https://broad.msu.edu/event/spring-break-programs-preview/
LOCATION:MI
CATEGORIES:Education Abroad
END:VEVENT
BEGIN:VEVENT
DTSTART;TZID=America/Sao_Paulo:20241027T110000
DTEND;TZID=America/Sao_Paulo:20241027T143000
DTSTAMP:20260424T012421
CREATED:20240827T153818Z
LAST-MODIFIED:20240827T153818Z
UID:10004208-1730026800-1730039400@broad.msu.edu
SUMMARY:Access MBA - Sao Paulo\, Brazil
DESCRIPTION:Meet with the Michigan State Broad Full-Time MBA admissions team at the Access MBA Sao Paulo event on Saturday\, October 27th. Meet with us at the event to learn more about the Broad MBA\, discuss your MBA goals and hear about the admissions process. \nLeave us your information below to receive updates about the Broad MBA program and admissions events and express your interest in meeting with us! \nIf you would like to meet with us at the Access MBA event in Sao Paulo\, please register for it here.
URL:https://broad.msu.edu/event/access-mba-sao-paulo-brazil/
LOCATION:MI
CATEGORIES:Admissions Events,Full-Time MBA
ORGANIZER;CN="MBA Admissions":MAILTO:mba@msu.edu
END:VEVENT
END:VCALENDAR