BEGIN:VCALENDAR
VERSION:2.0
PRODID:-//Eli Broad College of Business | Michigan State University - ECPv6.15.17.1//NONSGML v1.0//EN
CALSCALE:GREGORIAN
METHOD:PUBLISH
X-WR-CALNAME:Eli Broad College of Business | Michigan State University
X-ORIGINAL-URL:https://broad.msu.edu
X-WR-CALDESC:Events for Eli Broad College of Business | Michigan State University
REFRESH-INTERVAL;VALUE=DURATION:PT1H
X-Robots-Tag:noindex
X-PUBLISHED-TTL:PT1H
BEGIN:VTIMEZONE
TZID:America/Detroit
BEGIN:DAYLIGHT
TZOFFSETFROM:-0500
TZOFFSETTO:-0400
TZNAME:EDT
DTSTART:20230312T070000
END:DAYLIGHT
BEGIN:STANDARD
TZOFFSETFROM:-0400
TZOFFSETTO:-0500
TZNAME:EST
DTSTART:20231105T060000
END:STANDARD
BEGIN:DAYLIGHT
TZOFFSETFROM:-0500
TZOFFSETTO:-0400
TZNAME:EDT
DTSTART:20240310T070000
END:DAYLIGHT
BEGIN:STANDARD
TZOFFSETFROM:-0400
TZOFFSETTO:-0500
TZNAME:EST
DTSTART:20241103T060000
END:STANDARD
BEGIN:DAYLIGHT
TZOFFSETFROM:-0500
TZOFFSETTO:-0400
TZNAME:EDT
DTSTART:20250309T070000
END:DAYLIGHT
BEGIN:STANDARD
TZOFFSETFROM:-0400
TZOFFSETTO:-0500
TZNAME:EST
DTSTART:20251102T060000
END:STANDARD
END:VTIMEZONE
BEGIN:VEVENT
DTSTART;TZID=America/Detroit:20241113T083000
DTEND;TZID=America/Detroit:20241114T220000
DTSTAMP:20260423T053526
CREATED:20241105T153507Z
LAST-MODIFIED:20241105T153507Z
UID:10004251-1731486600-1731621600@broad.msu.edu
SUMMARY:GMAT Club - November 13 and 14
DESCRIPTION:Join Michigan State Broad at the GMAT Club MBA Spotlight event on November 13th and 14th. MBA Spotlight is one of the largest online prospective MBA student events. You will have an opportunity to meet one of our admissions officers\, learn more about what differentiates our MBA program\, and ask questions. We will be hosting the same session at two different times to accommodate different time zones: \nNovember 13th at 12:30 PM ET \nNovember 14th at 5:15 PM ET
URL:https://broad.msu.edu/event/gmat-club-november-13-and-14/
LOCATION:Online
CATEGORIES:Admissions Events,Full-Time MBA
ORGANIZER;CN="MBA Admissions":MAILTO:mba@msu.edu
END:VEVENT
BEGIN:VEVENT
DTSTART;TZID=America/Detroit:20241113T120000
DTEND;TZID=America/Detroit:20241113T130000
DTSTAMP:20260423T053526
CREATED:20240912T193031Z
LAST-MODIFIED:20240912T193031Z
UID:10004232-1731499200-1731502800@broad.msu.edu
SUMMARY:MSU Broad MBA Career Management Virtual Connect
DESCRIPTION:Learn how our career management team at the Russell Palmer Career Management Center helps Broad MBAs achieve their career goals through coaching\, mentoring\, recruiting events and workshops.
URL:https://broad.msu.edu/event/msu-broad-mba-career-management-virtual-connect-2/
LOCATION:Online
CATEGORIES:Admissions Events,Full-Time MBA
ORGANIZER;CN="MBA Admissions":MAILTO:mba@msu.edu
END:VEVENT
BEGIN:VEVENT
DTSTART;TZID=America/Detroit:20241113T123000
DTEND;TZID=America/Detroit:20241113T133000
DTSTAMP:20260423T053526
CREATED:20240516T184117Z
LAST-MODIFIED:20241001T153331Z
UID:10004169-1731501000-1731504600@broad.msu.edu
SUMMARY:Broad Executive MBA: Live Drop-in Q&A
DESCRIPTION:  \n \nJoin us for a live Q&A via Zoom with a member of our admissins team. Drop-in any time during the hour to learn more about the Executive MBA program or the application process.
URL:https://broad.msu.edu/event/broad-executive-mba-live-drop-in-qa-2/2024-11-13/
LOCATION:Virtual
CATEGORIES:Admissions Events,Executive MBA
END:VEVENT
BEGIN:VEVENT
DTSTART;TZID=America/Detroit:20241113T140000
DTEND;TZID=America/Detroit:20241113T143000
DTSTAMP:20260423T053526
CREATED:20240827T175904Z
LAST-MODIFIED:20240827T175904Z
UID:10004216-1731506400-1731508200@broad.msu.edu
SUMMARY:MSMRA Virtual Information Session
DESCRIPTION:Join us to learn more about MSU’s MSMRA program!
URL:https://broad.msu.edu/event/msmra-virtual-information-session-16/
LOCATION:MI
CATEGORIES:M.S. in Marketing Research
END:VEVENT
BEGIN:VEVENT
DTSTART;TZID=America/Detroit:20241114T140000
DTEND;TZID=America/Detroit:20241114T150000
DTSTAMP:20260423T053526
CREATED:20240827T180316Z
LAST-MODIFIED:20240827T180316Z
UID:10004217-1731592800-1731596400@broad.msu.edu
SUMMARY:MS-CXM Virtual Information Session
DESCRIPTION:Join us to learn more about MSU’s MS-CXM program!
URL:https://broad.msu.edu/event/ms-cxm-virtual-information-session-25/
LOCATION:MI
CATEGORIES:M.S. in Customer Experience Management
END:VEVENT
BEGIN:VEVENT
DTSTART;TZID=America/Detroit:20241114T190000
DTEND;TZID=America/Detroit:20241114T194500
DTSTAMP:20260423T053526
CREATED:20240918T174618Z
LAST-MODIFIED:20240918T174618Z
UID:10004235-1731610800-1731613500@broad.msu.edu
SUMMARY:Broad MBA Latin American Student Panel
DESCRIPTION:Connect with a panel of current Michigan State Full-Time MBA students from Mexico\, Brazil and Honduras to learn more about the MBA program at Michigan State University from the perspective of international students from across Latin America. \nStudents will share insights into the student experience within the program and will also be able to answer your questions at the end of the session. \nAll attendees will receive an application fee waiver for the Fall 2025 intake of the Broad MBA.
URL:https://broad.msu.edu/event/broad-mba-latin-american-student-panel/
LOCATION:Online
CATEGORIES:Admissions Events,Full-Time MBA
ORGANIZER;CN="MBA Admissions":MAILTO:mba@msu.edu
END:VEVENT
BEGIN:VEVENT
DTSTART;TZID=America/Detroit:20241115T113000
DTEND;TZID=America/Detroit:20241115T123000
DTSTAMP:20260423T053526
CREATED:20240826T181435Z
LAST-MODIFIED:20240826T181438Z
UID:10004198-1731670200-1731673800@broad.msu.edu
SUMMARY:Education Abroad Semester-long Programs Info Session
DESCRIPTION:Semester-long programs are perfect for those seeking an immersive and independent learning experience abroad. Credits earned overseas transfer back to MSU. Programs are available for a summer term\, an entire semester\, or even a full academic year. Choose from a wide selection of partnering universities worldwide and apply for available scholarships. 
URL:https://broad.msu.edu/event/education-abroad-semester-long-programs-info-session/
LOCATION:Eppley Center\, 667 N Shaw Ln\, East Lansing\, MI\, 48824\, United States
CATEGORIES:Education Abroad
END:VEVENT
BEGIN:VEVENT
DTSTART;TZID=America/Detroit:20241116T103000
DTEND;TZID=America/Detroit:20241116T120000
DTSTAMP:20260423T053526
CREATED:20240821T154338Z
LAST-MODIFIED:20240925T133717Z
UID:10004184-1731753000-1731758400@broad.msu.edu
SUMMARY:Broad Executive MBA | Experience EMBA | East Lansing
DESCRIPTION:The program preview provides an opportunity to learn about the program\, meet alumni and current students\, and observe a class. \nAgenda: \n10:30 a.m. | Short Information Session\n11:00 a.m. | Observe Executive MBA Class\n11:20 a.m. | Alumni Panel\n12:00 p.m. | Optional Lunch with Current Students and Faculty
URL:https://broad.msu.edu/event/broad-executive-mba-experience-mba-east-lansing-4/
LOCATION:Henry Center for Executive Development\, 3535 Forest Rd\, East Lansing\, MI\, 48910\, United States
CATEGORIES:Executive MBA,Recruiting Events
END:VEVENT
END:VCALENDAR