BEGIN:VCALENDAR
VERSION:2.0
PRODID:-//Eli Broad College of Business | Michigan State University - ECPv6.15.17.1//NONSGML v1.0//EN
CALSCALE:GREGORIAN
METHOD:PUBLISH
X-WR-CALNAME:Eli Broad College of Business | Michigan State University
X-ORIGINAL-URL:https://broad.msu.edu
X-WR-CALDESC:Events for Eli Broad College of Business | Michigan State University
REFRESH-INTERVAL;VALUE=DURATION:PT1H
X-Robots-Tag:noindex
X-PUBLISHED-TTL:PT1H
BEGIN:VTIMEZONE
TZID:America/Detroit
BEGIN:DAYLIGHT
TZOFFSETFROM:-0500
TZOFFSETTO:-0400
TZNAME:EDT
DTSTART:20230312T070000
END:DAYLIGHT
BEGIN:STANDARD
TZOFFSETFROM:-0400
TZOFFSETTO:-0500
TZNAME:EST
DTSTART:20231105T060000
END:STANDARD
BEGIN:DAYLIGHT
TZOFFSETFROM:-0500
TZOFFSETTO:-0400
TZNAME:EDT
DTSTART:20240310T070000
END:DAYLIGHT
BEGIN:STANDARD
TZOFFSETFROM:-0400
TZOFFSETTO:-0500
TZNAME:EST
DTSTART:20241103T060000
END:STANDARD
BEGIN:DAYLIGHT
TZOFFSETFROM:-0500
TZOFFSETTO:-0400
TZNAME:EDT
DTSTART:20250309T070000
END:DAYLIGHT
BEGIN:STANDARD
TZOFFSETFROM:-0400
TZOFFSETTO:-0500
TZNAME:EST
DTSTART:20251102T060000
END:STANDARD
END:VTIMEZONE
BEGIN:VEVENT
DTSTART;TZID=America/Detroit:20241210T180000
DTEND;TZID=America/Detroit:20241210T200000
DTSTAMP:20260420T201826
CREATED:20241106T155501Z
LAST-MODIFIED:20241106T155931Z
UID:10004252-1733853600-1733860800@broad.msu.edu
SUMMARY:Community Conversations with Broad Dean David Souder – New York City
DESCRIPTION:Get ready\, New York City alumni and friends! Join us for an exciting evening as we introduce the new Dean of the Eli Broad College of Business\, David Souder. Dean Souder will be sitting down with Dr. Quinetta Roberson\, the renowned John A. Hannah Professor of Organizational Behavior\, for an inspiring conversation on how businesses can drive success through inclusive practices—and how Broad College is leading the way in championing these efforts. Don’t miss this chance to reconnect\, gain insights\, and celebrate the future of business together! \nOur event will take place on the 3rd floor of the Lotte NY Palace in the Drawing Room and Library. \nCoat Check will be available.
URL:https://broad.msu.edu/event/community-conversations-with-broad-dean-david-souder-new-york-city/
LOCATION:Lotte New York Palace\, 455 Madison Avenue at 50th Street\, New York\, NY\, 10022\, United States
CATEGORIES:Alumni Events,Dean,Featured Events
ORGANIZER;CN="Ashley Durham":MAILTO:rittenh6@msu.edu
END:VEVENT
BEGIN:VEVENT
DTSTART;TZID=America/Detroit:20241211T120000
DTEND;TZID=America/Detroit:20241211T130000
DTSTAMP:20260420T201826
CREATED:20240918T175100Z
LAST-MODIFIED:20240918T175100Z
UID:10004237-1733918400-1733922000@broad.msu.edu
SUMMARY:The Broad MBA Advantage
DESCRIPTION:Join the Michigan State Broad MBA Admissions team to learn about the application process\, curriculum and benefits of the Broad Full-Time MBA program. You’ll also be able to ask any questions you have about the program and/or application process.
URL:https://broad.msu.edu/event/the-broad-mba-advantage-3/
LOCATION:Online
CATEGORIES:Admissions Events,Full-Time MBA
ORGANIZER;CN="MBA Admissions":MAILTO:mba@msu.edu
END:VEVENT
BEGIN:VEVENT
DTSTART;TZID=America/Detroit:20241211T123000
DTEND;TZID=America/Detroit:20241211T133000
DTSTAMP:20260420T201826
CREATED:20240516T184117Z
LAST-MODIFIED:20241001T153331Z
UID:10004173-1733920200-1733923800@broad.msu.edu
SUMMARY:Broad Executive MBA: Live Drop-in Q&A
DESCRIPTION:  \n \nJoin us for a live Q&A via Zoom with a member of our admissins team. Drop-in any time during the hour to learn more about the Executive MBA program or the application process.
URL:https://broad.msu.edu/event/broad-executive-mba-live-drop-in-qa-2/2024-12-11/
LOCATION:Virtual
CATEGORIES:Admissions Events,Executive MBA
END:VEVENT
END:VCALENDAR