BEGIN:VCALENDAR
VERSION:2.0
PRODID:-//Eli Broad College of Business | Michigan State University - ECPv6.15.17.1//NONSGML v1.0//EN
CALSCALE:GREGORIAN
METHOD:PUBLISH
X-WR-CALNAME:Eli Broad College of Business | Michigan State University
X-ORIGINAL-URL:https://broad.msu.edu
X-WR-CALDESC:Events for Eli Broad College of Business | Michigan State University
REFRESH-INTERVAL;VALUE=DURATION:PT1H
X-Robots-Tag:noindex
X-PUBLISHED-TTL:PT1H
BEGIN:VTIMEZONE
TZID:America/Detroit
BEGIN:DAYLIGHT
TZOFFSETFROM:-0500
TZOFFSETTO:-0400
TZNAME:EDT
DTSTART:20240310T070000
END:DAYLIGHT
BEGIN:STANDARD
TZOFFSETFROM:-0400
TZOFFSETTO:-0500
TZNAME:EST
DTSTART:20241103T060000
END:STANDARD
BEGIN:DAYLIGHT
TZOFFSETFROM:-0500
TZOFFSETTO:-0400
TZNAME:EDT
DTSTART:20250309T070000
END:DAYLIGHT
BEGIN:STANDARD
TZOFFSETFROM:-0400
TZOFFSETTO:-0500
TZNAME:EST
DTSTART:20251102T060000
END:STANDARD
BEGIN:DAYLIGHT
TZOFFSETFROM:-0500
TZOFFSETTO:-0400
TZNAME:EDT
DTSTART:20260308T070000
END:DAYLIGHT
BEGIN:STANDARD
TZOFFSETFROM:-0400
TZOFFSETTO:-0500
TZNAME:EST
DTSTART:20261101T060000
END:STANDARD
END:VTIMEZONE
BEGIN:VEVENT
DTSTART;TZID=America/Detroit:20250115T123000
DTEND;TZID=America/Detroit:20250129T133000
DTSTAMP:20260422T134315
CREATED:20241211T211547Z
LAST-MODIFIED:20250610T185940Z
UID:10004287-1736944200-1738157400@broad.msu.edu
SUMMARY:Broad Executive MBA: Live Drop-in Q&A
DESCRIPTION:  \n \nJoin us for a live Q&A via Zoom with a member of our admissions team. Drop-in any time during the hour to learn more about the Executive MBA program or the application process.
URL:https://broad.msu.edu/event/broad-executive-mba-live-drop-in-qa-3/2025-01-15/
LOCATION:Virtual
CATEGORIES:Admissions Events,Executive MBA
END:VEVENT
BEGIN:VEVENT
DTSTART;TZID=America/Detroit:20250122T123000
DTEND;TZID=America/Detroit:20250205T133000
DTSTAMP:20260422T134315
CREATED:20241211T211547Z
LAST-MODIFIED:20250610T185940Z
UID:10004288-1737549000-1738762200@broad.msu.edu
SUMMARY:Broad Executive MBA: Live Drop-in Q&A
DESCRIPTION:  \n \nJoin us for a live Q&A via Zoom with a member of our admissions team. Drop-in any time during the hour to learn more about the Executive MBA program or the application process.
URL:https://broad.msu.edu/event/broad-executive-mba-live-drop-in-qa-3/2025-01-22/
LOCATION:Virtual
CATEGORIES:Admissions Events,Executive MBA
END:VEVENT
BEGIN:VEVENT
DTSTART;TZID=America/Detroit:20250128T113000
DTEND;TZID=America/Detroit:20250128T123000
DTSTAMP:20260422T134315
CREATED:20241220T202302Z
LAST-MODIFIED:20241220T202302Z
UID:10004320-1738063800-1738067400@broad.msu.edu
SUMMARY:Lunch and Learn: When Times are Tough\, Leading with Kind Leadership is Key
DESCRIPTION:Join us to learn from the 6-time author\, Karyn Ross for an important conversation about the value and impact kindness has on a leader’s team. We will have a conversation about why the intersection of kindness and leadership is a new conversation. Join us for a powerful conversation and a FREE LUNCH on January 28th from 11:30am-12:30pm. Register to join us today!
URL:https://broad.msu.edu/event/lunch-and-learn-when-times-are-tough-leading-with-kind-leadership-is-key/
LOCATION:Eli Broad College of Business\, 632 Bogue St n520\, East Lansing\, MI\, 48824\, United States
CATEGORIES:Ethics & Social Responsibility
ORGANIZER;CN="Beth Hammond":MAILTO:hammon25@msu.edu
END:VEVENT
BEGIN:VEVENT
DTSTART;TZID=America/Detroit:20250128T123000
DTEND;TZID=America/Detroit:20250128T130000
DTSTAMP:20260422T134316
CREATED:20241220T212537Z
LAST-MODIFIED:20241220T212537Z
UID:10004324-1738067400-1738069200@broad.msu.edu
SUMMARY:MS Accounting & Data Analytics Information Session
DESCRIPTION:Join us to learn more about MSU’s Master of Science in Accounting & Data Analytics program!
URL:https://broad.msu.edu/event/ms-accounting-data-analytics-information-session-39/
LOCATION:Online
CATEGORIES:M.S. in Accounting and Data Analytics
END:VEVENT
BEGIN:VEVENT
DTSTART;TZID=America/Detroit:20250128T173000
DTEND;TZID=America/Detroit:20250128T183000
DTSTAMP:20260422T134316
CREATED:20241122T173157Z
LAST-MODIFIED:20241122T173157Z
UID:10004266-1738085400-1738089000@broad.msu.edu
SUMMARY:Broad Sophomore Strategy Session
DESCRIPTION:Broad College of Business sophomores (second year): It is not too early or too late to begin looking for a summer ’25 internship as a sophomore\, and it is important to think about doing a study abroad\, and planning ahead to make sure you are on track for graduation. Participate in this session to learn about how other sophomores landed internships\, decided on which study abroad programs\, and hear from academic advisors on considerations for moving towards degree completion.
URL:https://broad.msu.edu/event/broad-sophomore-strategy-session-2/
LOCATION:Minskoff Pavilion\, 651 N Shaw Ln\, East Lansing\, MI\, 48824\, United States
CATEGORIES:Undergraduate Events,Undergraduate Student Engagement
ORGANIZER;CN="Joe Courtade Moon":MAILTO:jcmoon@msu.edu
END:VEVENT
BEGIN:VEVENT
DTSTART;TZID=America/Detroit:20250129T113000
DTEND;TZID=America/Detroit:20250129T123000
DTSTAMP:20260422T134316
CREATED:20250113T160647Z
LAST-MODIFIED:20250113T160648Z
UID:10004352-1738150200-1738153800@broad.msu.edu
SUMMARY:Explore Semester-Long Education Abroad Opportunities
DESCRIPTION:Set yourself apart with immersive international experience! Semester-long education abroad programs are ideal for students seeking independent learning opportunities while enhancing their resumes with global perspectives. Partnering with over 30 top business schools worldwide\, you can earn up to 12 MSU credits while living and learning abroad. Explore options for summer\, semester\, or full academic year programs and take the next step toward building a global career.
URL:https://broad.msu.edu/event/explore-semester-long-education-abroad-opportunities/
LOCATION:Eppley Center\, 667 N Shaw Ln\, East Lansing\, MI\, 48824\, United States
CATEGORIES:Education Abroad
END:VEVENT
BEGIN:VEVENT
DTSTART;TZID=America/Detroit:20250129T123000
DTEND;TZID=America/Detroit:20250212T133000
DTSTAMP:20260422T134316
CREATED:20241211T211547Z
LAST-MODIFIED:20250610T185940Z
UID:10004289-1738153800-1739367000@broad.msu.edu
SUMMARY:Broad Executive MBA: Live Drop-in Q&A
DESCRIPTION:  \n \nJoin us for a live Q&A via Zoom with a member of our admissions team. Drop-in any time during the hour to learn more about the Executive MBA program or the application process.
URL:https://broad.msu.edu/event/broad-executive-mba-live-drop-in-qa-3/2025-01-29/
LOCATION:Virtual
CATEGORIES:Admissions Events,Executive MBA
END:VEVENT
BEGIN:VEVENT
DTSTART;TZID=America/Detroit:20250129T160000
DTEND;TZID=America/Detroit:20250129T180000
DTSTAMP:20260422T134316
CREATED:20241120T194020Z
LAST-MODIFIED:20241120T210841Z
UID:10004257-1738166400-1738173600@broad.msu.edu
SUMMARY:MSU Broad Corporate In-Person Mixer
DESCRIPTION:We invite you to join the Broad College of Business Russell Palmer Career Management Center for the MSU Broad Corporate In-Person Mixer. This event will take place on Wednesday\, January 29 from 4:00pm-6:00pm ET in the Minskoff Pavilion Multi-Purpose Room and is open to all MSU undergraduate and graduate students seeking internship and full-time opportunities in the business field. 
URL:https://broad.msu.edu/event/msu-broad-corporate-in-person-mixer-4/
LOCATION:Minskoff Pavilion\, 651 N Shaw Ln\, East Lansing\, MI\, 48824\, United States
CATEGORIES:Career Management,Palmer Center Recruiting,Recruiting Events
ORGANIZER;CN="Taylor Bates":MAILTO:taybates@msu.edu
END:VEVENT
BEGIN:VEVENT
DTSTART;TZID=America/Detroit:20250129T170000
DTEND;TZID=America/Detroit:20250129T180000
DTSTAMP:20260422T134316
CREATED:20241220T210021Z
LAST-MODIFIED:20241220T210021Z
UID:10004321-1738170000-1738173600@broad.msu.edu
SUMMARY:Lunch and Learn (Dinner time) Info Session on the Sustainability Debate
DESCRIPTION:The Center for Ethical and Socially Responsible Leadership is hosting its first Sustainability Debate on March 28\, 2025. Join us to see what this debate format looks like from MSU’s Debate Team\, get a free dinner and have the opportunity to ask any and all questions you might have from MSU’s Debate Team coach\, Will Repko! Register today! \nInformation on the Sustainability Debate: \nMarch 28: Sustainability Debate Competition \nJoin us for MSU’s Sustainability Debate Competition! A debate format will allow for both sides of voices to be heard on many key issues within the ESG domain. This Debate will be a head-to-head competition where students will compete in presenting affirmative or opposing arguments on a chosen question for the year. There will be $16\,000 worth of prizes to the top teams! \nGuidelines:\nTeams of two students\nOpen to Graduate and Undergraduate students\nSustainability Debate will be on Friday\, March 28\, 2025\nTeams must register by Thursday\, February 27\, 2025
URL:https://broad.msu.edu/event/lunch-and-learn-dinner-time-info-session-on-the-sustainability-debate/
LOCATION:Eli Broad College of Business\, 632 Bogue St n520\, East Lansing\, MI\, 48824\, United States
CATEGORIES:Ethics & Social Responsibility
ORGANIZER;CN="Beth Hammond":MAILTO:hammon25@msu.edu
END:VEVENT
BEGIN:VEVENT
DTSTART;TZID=America/Detroit:20250129T183000
DTEND;TZID=America/Detroit:20250129T191500
DTSTAMP:20260422T134316
CREATED:20241121T182850Z
LAST-MODIFIED:20241121T182850Z
UID:10004264-1738175400-1738178100@broad.msu.edu
SUMMARY:MSU Broad MBA Student Experience Panel
DESCRIPTION:This webinar will feature a panel of current Broad MBA students with varying backgrounds and post-MBA goals who will answer questions and describe their experiences as students in the Michigan State Broad Full-Time MBA program.
URL:https://broad.msu.edu/event/msu-broad-mba-student-experience-panel-3/
LOCATION:Online
CATEGORIES:Admissions Events,Full-Time MBA
ORGANIZER;CN="MBA Admissions":MAILTO:mba@msu.edu
END:VEVENT
BEGIN:VEVENT
DTSTART;TZID=America/Detroit:20250131T140000
DTEND;TZID=America/Detroit:20250131T150000
DTSTAMP:20260422T134316
CREATED:20250123T171824Z
LAST-MODIFIED:20250123T171824Z
UID:10004367-1738332000-1738335600@broad.msu.edu
SUMMARY:Your MBA Questions Answered: Student Sessions
DESCRIPTION:This drop-in hour offers the opportunity to connect directly with a current MBA student\, learn about their experiences\, and have your questions answered. Open to all prospective and admitted candidates.
URL:https://broad.msu.edu/event/your-mba-questions-answered-student-sessions/
LOCATION:Online
CATEGORIES:Admissions Events,Full-Time MBA
ORGANIZER;CN="MBA Admissions":MAILTO:mba@msu.edu
END:VEVENT
BEGIN:VEVENT
DTSTART;TZID=America/Detroit:20250201T103000
DTEND;TZID=America/Detroit:20250201T120000
DTSTAMP:20260422T134316
CREATED:20241212T183622Z
LAST-MODIFIED:20241212T183741Z
UID:10004312-1738405800-1738411200@broad.msu.edu
SUMMARY:Broad Executive MBA | Experience EMBA | Troy
DESCRIPTION:Join Amy Yousif Joa\, Associate Director of the Executive MBA Program\, to learn about the program\, meet alumni and current students\, and observe a class. \nAgenda: \n10:30 a.m. | Short Information Session\n11:00 a.m. | Observe Executive MBA Class\n11:20 a.m. | Alumni Panel\n12:00 p.m. | Optional Lunch with Current Students and Faculty
URL:https://broad.msu.edu/event/broad-executive-mba-experience-emba-troy-5/
LOCATION:Management Education Center\, 811 W Square Lake Rd\, Troy\, MI\, 48098\, United States
CATEGORIES:Executive MBA,Recruiting Events
END:VEVENT
END:VCALENDAR