BEGIN:VCALENDAR
VERSION:2.0
PRODID:-//Eli Broad College of Business | Michigan State University - ECPv6.15.17.1//NONSGML v1.0//EN
CALSCALE:GREGORIAN
METHOD:PUBLISH
X-WR-CALNAME:Eli Broad College of Business | Michigan State University
X-ORIGINAL-URL:https://broad.msu.edu
X-WR-CALDESC:Events for Eli Broad College of Business | Michigan State University
REFRESH-INTERVAL;VALUE=DURATION:PT1H
X-Robots-Tag:noindex
X-PUBLISHED-TTL:PT1H
BEGIN:VTIMEZONE
TZID:America/Detroit
BEGIN:DAYLIGHT
TZOFFSETFROM:-0500
TZOFFSETTO:-0400
TZNAME:EDT
DTSTART:20240310T070000
END:DAYLIGHT
BEGIN:STANDARD
TZOFFSETFROM:-0400
TZOFFSETTO:-0500
TZNAME:EST
DTSTART:20241103T060000
END:STANDARD
BEGIN:DAYLIGHT
TZOFFSETFROM:-0500
TZOFFSETTO:-0400
TZNAME:EDT
DTSTART:20250309T070000
END:DAYLIGHT
BEGIN:STANDARD
TZOFFSETFROM:-0400
TZOFFSETTO:-0500
TZNAME:EST
DTSTART:20251102T060000
END:STANDARD
BEGIN:DAYLIGHT
TZOFFSETFROM:-0500
TZOFFSETTO:-0400
TZNAME:EDT
DTSTART:20260308T070000
END:DAYLIGHT
BEGIN:STANDARD
TZOFFSETFROM:-0400
TZOFFSETTO:-0500
TZNAME:EST
DTSTART:20261101T060000
END:STANDARD
END:VTIMEZONE
BEGIN:VTIMEZONE
TZID:America/Chicago
BEGIN:DAYLIGHT
TZOFFSETFROM:-0600
TZOFFSETTO:-0500
TZNAME:CDT
DTSTART:20240310T080000
END:DAYLIGHT
BEGIN:STANDARD
TZOFFSETFROM:-0500
TZOFFSETTO:-0600
TZNAME:CST
DTSTART:20241103T070000
END:STANDARD
BEGIN:DAYLIGHT
TZOFFSETFROM:-0600
TZOFFSETTO:-0500
TZNAME:CDT
DTSTART:20250309T080000
END:DAYLIGHT
BEGIN:STANDARD
TZOFFSETFROM:-0500
TZOFFSETTO:-0600
TZNAME:CST
DTSTART:20251102T070000
END:STANDARD
BEGIN:DAYLIGHT
TZOFFSETFROM:-0600
TZOFFSETTO:-0500
TZNAME:CDT
DTSTART:20260308T080000
END:DAYLIGHT
BEGIN:STANDARD
TZOFFSETFROM:-0500
TZOFFSETTO:-0600
TZNAME:CST
DTSTART:20261101T070000
END:STANDARD
END:VTIMEZONE
BEGIN:VEVENT
DTSTART;TZID=America/Detroit:20250205T123000
DTEND;TZID=America/Detroit:20250219T133000
DTSTAMP:20260422T145517
CREATED:20241211T211547Z
LAST-MODIFIED:20250610T185940Z
UID:10004290-1738758600-1739971800@broad.msu.edu
SUMMARY:Broad Executive MBA: Live Drop-in Q&A
DESCRIPTION:  \n \nJoin us for a live Q&A via Zoom with a member of our admissions team. Drop-in any time during the hour to learn more about the Executive MBA program or the application process.
URL:https://broad.msu.edu/event/broad-executive-mba-live-drop-in-qa-3/2025-02-05/
LOCATION:Virtual
CATEGORIES:Admissions Events,Executive MBA
END:VEVENT
BEGIN:VEVENT
DTSTART;TZID=America/Detroit:20250212T123000
DTEND;TZID=America/Detroit:20250226T133000
DTSTAMP:20260422T145517
CREATED:20241211T211547Z
LAST-MODIFIED:20250610T185940Z
UID:10004291-1739363400-1740576600@broad.msu.edu
SUMMARY:Broad Executive MBA: Live Drop-in Q&A
DESCRIPTION:  \n \nJoin us for a live Q&A via Zoom with a member of our admissions team. Drop-in any time during the hour to learn more about the Executive MBA program or the application process.
URL:https://broad.msu.edu/event/broad-executive-mba-live-drop-in-qa-3/2025-02-12/
LOCATION:Virtual
CATEGORIES:Admissions Events,Executive MBA
END:VEVENT
BEGIN:VEVENT
DTSTART;TZID=America/Detroit:20250217T113000
DTEND;TZID=America/Detroit:20250217T123000
DTSTAMP:20260422T145517
CREATED:20250107T155256Z
LAST-MODIFIED:20250107T155256Z
UID:10004336-1739791800-1739795400@broad.msu.edu
SUMMARY:Ethics on the Move\, A Lunch and Learn
DESCRIPTION:Are you curious about how ethics impact your life? Do you know how to walk through making a big or small ethical decision? Are you interested in learning more about what is important to you? Then you should register to join us for Ethics on the Move from 11:30am-12:30pm on Monday\, February 17th. We will walk though how to recognize ethical choices\, and what to consider when deciding how you will move forward! Register today\, save your seat and lock in your free lunch!
URL:https://broad.msu.edu/event/ethics-on-the-move-a-lunch-and-learn/
LOCATION:Eli Broad College of Business\, 632 Bogue St n520\, East Lansing\, MI\, 48824\, United States
CATEGORIES:Ethics & Social Responsibility
ORGANIZER;CN="Beth Hammond":MAILTO:hammon25@msu.edu
END:VEVENT
BEGIN:VEVENT
DTSTART;TZID=America/Detroit:20250217T170000
DTEND;TZID=America/Detroit:20250217T180000
DTSTAMP:20260422T145517
CREATED:20250103T185240Z
LAST-MODIFIED:20250103T185240Z
UID:10004332-1739811600-1739815200@broad.msu.edu
SUMMARY:Ethics of AI and Accounting\, A Lecture
DESCRIPTION:Join us for a lively conversation about the ethics of Artificial Intelligence and Accounting in today’s market. This will be a panel with Charlie Murray\, a KPMG Director of Technology Risk\,   and Broad College’s Dr. Anjana Susarla. The panel will be moderated by Teagan Dixon\, fixed term faculty. This will be an engaging and lively conversation about current ethical dilemmas and considerations. Join us from 5-6pm on Monday\, February 17th! \nThis event is sponsored by KPMG.
URL:https://broad.msu.edu/event/ethics-of-ai-and-accounting-a-lecture/
LOCATION:Eli Broad College of Business\, 632 Bogue St n520\, East Lansing\, MI\, 48824\, United States
CATEGORIES:Ethics & Social Responsibility
ORGANIZER;CN="Beth Hammond":MAILTO:hammon25@msu.edu
END:VEVENT
BEGIN:VEVENT
DTSTART;TZID=America/Detroit:20250217T180000
DTEND;TZID=America/Detroit:20250217T190000
DTSTAMP:20260422T145517
CREATED:20250204T210303Z
LAST-MODIFIED:20250204T211207Z
UID:10004378-1739815200-1739818800@broad.msu.edu
SUMMARY:DWLA Information Session
DESCRIPTION:Join us to learn more about the Dashney Women’s Leadership Accelerator. The Accelerator is accepting applications this spring from Broad-admitted students who are rising juniors.
URL:https://broad.msu.edu/event/dwla-information-session-3/
LOCATION:Minskoff Pavilion\, 651 N Shaw Ln\, East Lansing\, MI\, 48824\, United States
CATEGORIES:Dashney Women's Leadership Accelerator
ORGANIZER;CN="Helen Dashney":MAILTO:dashney@msu.edu
END:VEVENT
BEGIN:VEVENT
DTSTART;TZID=America/Detroit:20250218T140000
DTEND;TZID=America/Detroit:20250218T160000
DTSTAMP:20260422T145517
CREATED:20250107T193223Z
LAST-MODIFIED:20250107T193224Z
UID:10004343-1739887200-1739894400@broad.msu.edu
SUMMARY:2025 Startup Career Fair
DESCRIPTION:The 2025 Startup Career Fair\, powered by the Burgess Institute for Entrepreneurship & Innovation and Russell Palmer Career Management Center at the Eli Broad College of Business\, on Tuesday\, February 18\, 2025\, 2:00 PM – 4:00 PM in the Entrepreneurship Lab (M025) of the Edward J. Minksoff Pavilion. The 2025 Startup Career Fair is open to all undergraduate and graduate students at Michigan State University seeking internship\, part-time and full-time opportunities at a startup.
URL:https://broad.msu.edu/event/2025-startup-career-fair/
LOCATION:Entrepreneurship Lab\, 651 N Shaw Ln\, East Lansing\, MI\, 48824\, United States
CATEGORIES:Entrepreneurship
ORGANIZER;CN="Aubrey Haase":MAILTO:haaseaub@msu.edu
END:VEVENT
BEGIN:VEVENT
DTSTART;TZID=America/Detroit:20250218T180000
DTEND;TZID=America/Detroit:20250218T211500
DTSTAMP:20260422T145517
CREATED:20250107T171618Z
LAST-MODIFIED:20250107T171618Z
UID:10004339-1739901600-1739913300@broad.msu.edu
SUMMARY:Access MBA Miami
DESCRIPTION:Meet with the Michigan State Broad Full-Time MBA admissions team at the Access MBA Miami event on Tuesday\, February 18th. Meet with us at the event to learn more about the Broad MBA\, discuss your MBA goals and hear about the admissions process. \nLeave us your information below to receive updates about the Broad MBA program and admissions events and express your interest in meeting with us! \nIf you would like to meet with us at the Access MBA event in Miami\, please register for it here.
URL:https://broad.msu.edu/event/access-mba-miami-2/
LOCATION:MI
CATEGORIES:Admissions Events,Full-Time MBA
ORGANIZER;CN="MBA Admissions":MAILTO:mba@msu.edu
END:VEVENT
BEGIN:VEVENT
DTSTART;TZID=America/Chicago:20250218T180000
DTEND;TZID=America/Chicago:20250218T213000
DTSTAMP:20260422T145517
CREATED:20250107T171112Z
LAST-MODIFIED:20250107T171112Z
UID:10004338-1739901600-1739914200@broad.msu.edu
SUMMARY:QS Discover MBA Fair - Dallas\, Texas
DESCRIPTION:Meet with the Michigan State Broad Full-Time MBA admissions team at the QS Discover MBA event in Dallas\, Texas on Tuesday\, February 18th. Meet with us at the event to learn more about the Broad MBA\, discuss your MBA goals and hear about the admissions process. \nLeave us your information below to receive updates about the Broad MBA program and admissions events and express your interest in meeting with us! \nIf you would like to meet with us at the QS Discover MBA event in Dallas\, please register for it here.
URL:https://broad.msu.edu/event/qs-discover-mba-fair-dallas-texas/
LOCATION:MI
CATEGORIES:Admissions Events,Full-Time MBA
ORGANIZER;CN="MBA Admissions":MAILTO:mba@msu.edu
END:VEVENT
BEGIN:VEVENT
DTSTART;TZID=America/Detroit:20250219T113000
DTEND;TZID=America/Detroit:20250219T123000
DTSTAMP:20260422T145517
CREATED:20250103T185533Z
LAST-MODIFIED:20250103T185841Z
UID:10004333-1739964600-1739968200@broad.msu.edu
SUMMARY:Lunch and Learn\, Exploring Global Ethics
DESCRIPTION:Join us to learn from Diana Mejia\, the CEO and founder of Entirety LLC\, a leading global market access consultancy organization and how to approach making business decisions with global ethical considerations. Diana is Spartan Alum and has grown Entirety LLC from a one-person operation into a global leader with over 40 team members across 16 countries. Register to lock in your FREE lunch and join us on February 19th from 11:30am-12:30pm today!
URL:https://broad.msu.edu/event/lunch-and-learn-exploring-global-ethics/
LOCATION:Eli Broad College of Business\, 632 Bogue St n520\, East Lansing\, MI\, 48824\, United States
CATEGORIES:Ethics & Social Responsibility
ORGANIZER;CN="Beth Hammond":MAILTO:hammon25@msu.edu
END:VEVENT
BEGIN:VEVENT
DTSTART;TZID=America/Detroit:20250219T120000
DTEND;TZID=America/Detroit:20250219T143000
DTSTAMP:20260422T145517
CREATED:20241220T212854Z
LAST-MODIFIED:20241220T212854Z
UID:10004326-1739966400-1739975400@broad.msu.edu
SUMMARY:MS Accounting & Data Analytics Information Session
DESCRIPTION:Join us to learn more about MSU’s Master of Science in Accounting & Data Analytics program!
URL:https://broad.msu.edu/event/ms-accounting-data-analytics-information-session-41/
LOCATION:Online
CATEGORIES:M.S. in Accounting and Data Analytics
END:VEVENT
BEGIN:VEVENT
DTSTART;TZID=America/Detroit:20250219T140000
DTEND;TZID=America/Detroit:20250219T143000
DTSTAMP:20260422T145517
CREATED:20241115T161448Z
LAST-MODIFIED:20241115T161448Z
UID:10004255-1739973600-1739975400@broad.msu.edu
SUMMARY:MSMRA Virtual Information Session
DESCRIPTION:Join us to learn more about MSU’s MSMRA Program!
URL:https://broad.msu.edu/event/msmra-virtual-information-session-19/
LOCATION:MI
CATEGORIES:M.S. in Marketing Research
END:VEVENT
BEGIN:VEVENT
DTSTART;TZID=America/Detroit:20250219T171500
DTEND;TZID=America/Detroit:20250219T181500
DTSTAMP:20260422T145517
CREATED:20250103T185747Z
LAST-MODIFIED:20250129T182338Z
UID:10004334-1739985300-1739988900@broad.msu.edu
SUMMARY:The Warrington Lecture featuring Kara Goucher
DESCRIPTION:Join us for the Sylvan T. Warrington Visiting Lectureship in Ethics and Leadership featuring 2-time Olympian\, New York Times best-selling author\, and whistle blower Kara Goucher. She was a pivotal witness against an abusive coach\, who was issued a lifetime ban from coaching after her testimony. Come and hear her story\, learn from her courage\, and how she turned her experience into action by fighting for clean and safe sports for American athletes today! Register to join us on Wednesday\, February 19th from 5:15-6:15pm today!
URL:https://broad.msu.edu/event/the-warrington-lecture-featuring-kara-goucher/
LOCATION:Eli Broad College of Business\, 632 Bogue St n520\, East Lansing\, MI\, 48824\, United States
CATEGORIES:Ethics & Social Responsibility,Featured Events
ORGANIZER;CN="Beth Hammond":MAILTO:hammon25@msu.edu
END:VEVENT
BEGIN:VEVENT
DTSTART;TZID=America/Detroit:20250220T140000
DTEND;TZID=America/Detroit:20250220T150000
DTSTAMP:20260422T145517
CREATED:20250207T184026Z
LAST-MODIFIED:20250207T184026Z
UID:10004380-1740060000-1740063600@broad.msu.edu
SUMMARY:MSCXM Virtual Information Session
DESCRIPTION:Join us to learn more about MSU’s MSCXM Program!
URL:https://broad.msu.edu/event/mscxm-virtual-information-session/
LOCATION:MI
CATEGORIES:M.S. in Customer Experience Management
END:VEVENT
BEGIN:VEVENT
DTSTART;TZID=America/Detroit:20250220T180000
DTEND;TZID=America/Detroit:20250220T190000
DTSTAMP:20260422T145517
CREATED:20250107T191940Z
LAST-MODIFIED:20250130T190650Z
UID:10004342-1740074400-1740078000@broad.msu.edu
SUMMARY:Innovate State: Driving Digital Transformation
DESCRIPTION:The Innovate State Speaker Series brings both emerging and accomplished Spartans back to campus for a fireside chat-style interview. These 60-minute sessions offer the chance for guests to share their perspectives on a wide array of topics like innovation\, startup life\, investments\, and career paths. Students get the opportunity to hear firsthand about the hard knocks of the entrepreneurship & innovation hustle to maintaining work/life balance. These are stories of success\, stories of failures\, and stories of uncommon will—and you do not want to miss them. \nJoin the Burgess Institute for Entrepreneurship & Innovation for Innovate State: Driving Digital Transformation featuring Sanjay Baskaran\, Operating Partner & Industrial Advisor\, Advent International at 6PM in the Entrepreneurship Lab (M025). Early registration is highly encouraged.
URL:https://broad.msu.edu/event/innovate-state-driving-digital-transformation/
LOCATION:Entrepreneurship Lab\, 651 N Shaw Ln\, East Lansing\, MI\, 48824\, United States
CATEGORIES:Entrepreneurship
ORGANIZER;CN="Aubrey Haase":MAILTO:haaseaub@msu.edu
END:VEVENT
BEGIN:VEVENT
DTSTART;TZID=America/Detroit:20250220T180000
DTEND;TZID=America/Detroit:20250220T190000
DTSTAMP:20260422T145517
CREATED:20250204T210822Z
LAST-MODIFIED:20250205T131118Z
UID:10004377-1740074400-1740078000@broad.msu.edu
SUMMARY:DWLA Information Session
DESCRIPTION:Join us to learn more about the Dashney Women’s Leadership Accelerator. The Accelerator is accepting applications this spring from Broad-admitted students who are rising juniors.
URL:https://broad.msu.edu/event/dwla-information-session-4/
LOCATION:North Business Building\, 632 Bogue St\, East Lansing\, MI\, 48824\, United States
CATEGORIES:Dashney Women's Leadership Accelerator,Undergraduate Events
ORGANIZER;CN="Helen Dashney":MAILTO:dashney@msu.edu
END:VEVENT
BEGIN:VEVENT
DTSTART;TZID=America/Detroit:20250221T120000
DTEND;TZID=America/Detroit:20250221T130000
DTSTAMP:20260422T145517
CREATED:20250107T201212Z
LAST-MODIFIED:20250110T163631Z
UID:10004347-1740139200-1740142800@broad.msu.edu
SUMMARY:Coffee Chat with the Broad MBA Director of Admissions
DESCRIPTION:Connect with the Director of Admissions and learn more about Michigan State University’s Broad College of Business Full-Time MBA program. Feel free to ask any questions you may have about the program and/or admissions process for the Fall 2025 intake.
URL:https://broad.msu.edu/event/coffee-chat-with-the-broad-mba-director-of-admissions-5/
LOCATION:Online
CATEGORIES:Admissions Events,Full-Time MBA
ORGANIZER;CN="MBA Admissions":MAILTO:mba@msu.edu
END:VEVENT
BEGIN:VEVENT
DTSTART;TZID=America/Detroit:20250221T140000
DTEND;TZID=America/Detroit:20250221T150000
DTSTAMP:20260422T145517
CREATED:20250123T172610Z
LAST-MODIFIED:20250123T172610Z
UID:10004370-1740146400-1740150000@broad.msu.edu
SUMMARY:Your MBA Questions Answered: Student Sessions
DESCRIPTION:This drop-in hour offers the opportunity to connect directly with a current MBA student\, learn about their experiences\, and have your questions answered. Open to all prospective and admitted candidates.
URL:https://broad.msu.edu/event/your-mba-questions-answered-student-sessions-4/
LOCATION:Online
CATEGORIES:Admissions Events,Full-Time MBA
ORGANIZER;CN="MBA Admissions":MAILTO:mba@msu.edu
END:VEVENT
END:VCALENDAR