BEGIN:VCALENDAR
VERSION:2.0
PRODID:-//Eli Broad College of Business | Michigan State University - ECPv6.15.17.1//NONSGML v1.0//EN
CALSCALE:GREGORIAN
METHOD:PUBLISH
X-WR-CALNAME:Eli Broad College of Business | Michigan State University
X-ORIGINAL-URL:https://broad.msu.edu
X-WR-CALDESC:Events for Eli Broad College of Business | Michigan State University
REFRESH-INTERVAL;VALUE=DURATION:PT1H
X-Robots-Tag:noindex
X-PUBLISHED-TTL:PT1H
BEGIN:VTIMEZONE
TZID:America/Detroit
BEGIN:DAYLIGHT
TZOFFSETFROM:-0500
TZOFFSETTO:-0400
TZNAME:EDT
DTSTART:20240310T070000
END:DAYLIGHT
BEGIN:STANDARD
TZOFFSETFROM:-0400
TZOFFSETTO:-0500
TZNAME:EST
DTSTART:20241103T060000
END:STANDARD
BEGIN:DAYLIGHT
TZOFFSETFROM:-0500
TZOFFSETTO:-0400
TZNAME:EDT
DTSTART:20250309T070000
END:DAYLIGHT
BEGIN:STANDARD
TZOFFSETFROM:-0400
TZOFFSETTO:-0500
TZNAME:EST
DTSTART:20251102T060000
END:STANDARD
BEGIN:DAYLIGHT
TZOFFSETFROM:-0500
TZOFFSETTO:-0400
TZNAME:EDT
DTSTART:20260308T070000
END:DAYLIGHT
BEGIN:STANDARD
TZOFFSETFROM:-0400
TZOFFSETTO:-0500
TZNAME:EST
DTSTART:20261101T060000
END:STANDARD
END:VTIMEZONE
BEGIN:VEVENT
DTSTART;TZID=America/Detroit:20250305T123000
DTEND;TZID=America/Detroit:20250319T133000
DTSTAMP:20260421T195835
CREATED:20241211T211547Z
LAST-MODIFIED:20250610T185940Z
UID:10004292-1741177800-1742391000@broad.msu.edu
SUMMARY:Broad Executive MBA: Live Drop-in Q&A
DESCRIPTION:  \n \nJoin us for a live Q&A via Zoom with a member of our admissions team. Drop-in any time during the hour to learn more about the Executive MBA program or the application process.
URL:https://broad.msu.edu/event/broad-executive-mba-live-drop-in-qa-3/2025-03-05/
LOCATION:Virtual
CATEGORIES:Admissions Events,Executive MBA
END:VEVENT
BEGIN:VEVENT
DTSTART;TZID=America/Detroit:20250310T183000
DTEND;TZID=America/Detroit:20250310T200000
DTSTAMP:20260421T195835
CREATED:20250113T161152Z
LAST-MODIFIED:20250113T161152Z
UID:10004355-1741631400-1741636800@broad.msu.edu
SUMMARY:Leveraging Your Study Abroad Experience for Career Success 
DESCRIPTION:This event is tailored for students who have participated in education abroad programs but is open to all. It aims to help students recognize and articulate how their education abroad experiences contribute to personal growth and career development. Through guided reflection exercises\, participants will learn to effectively communicate the value of their experiences in both personal and professional contexts. 
URL:https://broad.msu.edu/event/leveraging-your-study-abroad-experience-for-career-success/
LOCATION:Minskoff Pavilion\, 651 N Shaw Ln\, East Lansing\, MI\, 48824\, United States
CATEGORIES:Education Abroad
END:VEVENT
BEGIN:VEVENT
DTSTART;TZID=America/Detroit:20250311T180000
DTEND;TZID=America/Detroit:20250311T190000
DTSTAMP:20260421T195835
CREATED:20250204T211131Z
LAST-MODIFIED:20250204T211131Z
UID:10004379-1741716000-1741719600@broad.msu.edu
SUMMARY:DWLA Information Session
DESCRIPTION:Join us to learn more about the Dashney Women’s Leadership Accelerator. The Accelerator is accepting applications this spring from Broad-admitted students who are rising juniors.
URL:https://broad.msu.edu/event/dwla-information-session-5/
LOCATION:Minskoff Pavilion\, 651 N Shaw Ln\, East Lansing\, MI\, 48824\, United States
CATEGORIES:Dashney Women's Leadership Accelerator,Undergraduate Events
ORGANIZER;CN="Helen Dashney":MAILTO:dashney@msu.edu
END:VEVENT
BEGIN:VEVENT
DTSTART;TZID=America/Detroit:20250312T123000
DTEND;TZID=America/Detroit:20250326T133000
DTSTAMP:20260421T195835
CREATED:20241211T211547Z
LAST-MODIFIED:20250610T185940Z
UID:10004293-1741782600-1742995800@broad.msu.edu
SUMMARY:Broad Executive MBA: Live Drop-in Q&A
DESCRIPTION:  \n \nJoin us for a live Q&A via Zoom with a member of our admissions team. Drop-in any time during the hour to learn more about the Executive MBA program or the application process.
URL:https://broad.msu.edu/event/broad-executive-mba-live-drop-in-qa-3/2025-03-12/
LOCATION:Virtual
CATEGORIES:Admissions Events,Executive MBA
END:VEVENT
BEGIN:VEVENT
DTSTART;TZID=America/Detroit:20250312T140000
DTEND;TZID=America/Detroit:20250312T143000
DTSTAMP:20260421T195835
CREATED:20250207T184325Z
LAST-MODIFIED:20250207T184325Z
UID:10004381-1741788000-1741789800@broad.msu.edu
SUMMARY:MSMRA Virtual Information Session
DESCRIPTION:Join us to learn more about MSU’s MSMRA Program!
URL:https://broad.msu.edu/event/msmra-virtual-information-session-20/
LOCATION:MI
CATEGORIES:M.S. in Marketing Research
END:VEVENT
BEGIN:VEVENT
DTSTART;TZID=America/Detroit:20250312T180000
DTEND;TZID=America/Detroit:20250312T190000
DTSTAMP:20260421T195835
CREATED:20250107T191421Z
LAST-MODIFIED:20250107T191421Z
UID:10004341-1741802400-1741806000@broad.msu.edu
SUMMARY:Emerging Leaders: Learning Without Limits
DESCRIPTION:The Innovate State Speaker Series brings both emerging and accomplished Spartans back to campus for a fireside chat-style interview. These 60-minute sessions offer the chance for guests to share their perspectives on a wide array of topics like innovation\, startup life\, investments\, and career paths. Students get the opportunity to hear firsthand about the hard knocks of the entrepreneurship & innovation hustle to maintaining work/life balance. These are stories of success\, stories of failures\, and stories of uncommon will—and you do not want to miss them. \nJoin the Burgess Institute for Entrepreneurship & Innovation for Emerging Leaders: Learning Without Limits featuring Seth Killian\, Operating Partner & Industrial Advisor\, Lingco Language Labs at 6PM in the Entrepreneurship Lab (M025). Early registration is highly encouraged.
URL:https://broad.msu.edu/event/emerging-leaders-learning-without-limits/
LOCATION:Entrepreneurship Lab\, 651 N Shaw Ln\, East Lansing\, MI\, 48824\, United States
CATEGORIES:Entrepreneurship
ORGANIZER;CN="Aubrey Haase":MAILTO:haaseaub@msu.edu
END:VEVENT
BEGIN:VEVENT
DTSTART;TZID=America/Detroit:20250312T183000
DTEND;TZID=America/Detroit:20250312T191500
DTSTAMP:20260421T195835
CREATED:20250114T200736Z
LAST-MODIFIED:20250114T200736Z
UID:10004359-1741804200-1741806900@broad.msu.edu
SUMMARY:MSU Broad MBA Student Experience Panel
DESCRIPTION:This webinar will feature a panel of current Broad MBA students with varying backgrounds and post-MBA goals who will answer questions and describe their experiences as students in the Michigan State Broad Full-Time MBA program.
URL:https://broad.msu.edu/event/msu-broad-mba-student-experience-panel-4/
LOCATION:Online
CATEGORIES:Admissions Events,Full-Time MBA
ORGANIZER;CN="MBA Admissions":MAILTO:mba@msu.edu
END:VEVENT
BEGIN:VEVENT
DTSTART;TZID=America/Detroit:20250312T183000
DTEND;TZID=America/Detroit:20250312T200000
DTSTAMP:20260421T195835
CREATED:20250113T161321Z
LAST-MODIFIED:20250113T161322Z
UID:10004356-1741804200-1741809600@broad.msu.edu
SUMMARY:Leveraging Your Study Abroad Experience for Career Success
DESCRIPTION:This event is tailored for students who have participated in education abroad programs but is open to all. It aims to help students recognize and articulate how their education abroad experiences contribute to personal growth and career development. Through guided reflection exercises\, participants will learn to effectively communicate the value of their experiences in both personal and professional contexts. 
URL:https://broad.msu.edu/event/leveraging-your-study-abroad-experience-for-career-success-2/
LOCATION:Minskoff Pavilion\, 651 N Shaw Ln\, East Lansing\, MI\, 48824\, United States
CATEGORIES:Education Abroad
END:VEVENT
BEGIN:VEVENT
DTSTART;TZID=America/Detroit:20250314T120000
DTEND;TZID=America/Detroit:20250314T130000
DTSTAMP:20260421T195835
CREATED:20250210T192147Z
LAST-MODIFIED:20250210T192147Z
UID:10004385-1741953600-1741957200@broad.msu.edu
SUMMARY:From Idea to Impact: A Workshop for Aspiring Entrepreneurs
DESCRIPTION:Hosted by Ken Szymusiak\, Managing Director of the Burgess Institute\, and Lia Moore\, MBA ’26 & CEO of TropicalPillow\, this interactive workshop will bring together MBA and undergraduate students to explore the exciting world of entrepreneurship. Learn how the MBA can help you transform your business ideas into reality. Whether you’re dreaming of launching your own startup or simply exploring entrepreneurial thinking\, join us! Lunch will be provided for attendees.
URL:https://broad.msu.edu/event/from-idea-to-impact-a-workshop-for-aspiring-entrepreneurs/
LOCATION:Entrepreneurship Lab\, 651 N Shaw Ln\, East Lansing\, MI\, 48824\, United States
CATEGORIES:Admissions Events,Entrepreneurship,Full-Time MBA
ORGANIZER;CN="MBA Admissions":MAILTO:mba@msu.edu
END:VEVENT
BEGIN:VEVENT
DTSTART;TZID=America/Detroit:20250314T140000
DTEND;TZID=America/Detroit:20250314T150000
DTSTAMP:20260421T195835
CREATED:20250123T173015Z
LAST-MODIFIED:20250123T173015Z
UID:10004372-1741960800-1741964400@broad.msu.edu
SUMMARY:Your MBA Questions Answered: Student Sessions
DESCRIPTION:This drop-in hour offers the opportunity to connect directly with a current MBA student\, learn about their experiences\, and have your questions answered. Open to all prospective and admitted candidates.
URL:https://broad.msu.edu/event/your-mba-questions-answered-student-sessions-6/
LOCATION:Online
CATEGORIES:Admissions Events,Full-Time MBA
ORGANIZER;CN="MBA Admissions":MAILTO:mba@msu.edu
END:VEVENT
BEGIN:VEVENT
DTSTART;TZID=America/Detroit:20250314T150000
DTEND;TZID=America/Detroit:20250314T153000
DTSTAMP:20260421T195835
CREATED:20241220T213017Z
LAST-MODIFIED:20241220T213017Z
UID:10004327-1741964400-1741966200@broad.msu.edu
SUMMARY:MS Accounting & Data Analytics Information Session
DESCRIPTION:Join us to learn more about MSU’s Master of Science in Accounting & Data Analytics program!
URL:https://broad.msu.edu/event/ms-accounting-data-analytics-information-session-42/
LOCATION:Online
CATEGORIES:M.S. in Accounting and Data Analytics
END:VEVENT
BEGIN:VEVENT
DTSTART;TZID=America/Detroit:20250315T103000
DTEND;TZID=America/Detroit:20250315T120000
DTSTAMP:20260421T195835
CREATED:20241212T183835Z
LAST-MODIFIED:20241212T183835Z
UID:10004313-1742034600-1742040000@broad.msu.edu
SUMMARY:Broad Executive MBA | Experience EMBA | Troy
DESCRIPTION:Join Amy Yousif Joa\, Associate Director of the Executive MBA Program\, to learn about the program\, meet alumni and current students\, and observe a class. \nAgenda: \n10:30 a.m. | Short Information Session\n11:00 a.m. | Observe Executive MBA Class\n11:20 a.m. | Alumni Panel\n12:00 p.m. | Optional Lunch with Current Students and Faculty
URL:https://broad.msu.edu/event/broad-executive-mba-experience-emba-troy-6/
LOCATION:Management Education Center\, 811 W Square Lake Rd\, Troy\, MI\, 48098\, United States
CATEGORIES:Executive MBA,Recruiting Events
END:VEVENT
END:VCALENDAR