BEGIN:VCALENDAR
VERSION:2.0
PRODID:-//Eli Broad College of Business | Michigan State University - ECPv6.15.17.1//NONSGML v1.0//EN
CALSCALE:GREGORIAN
METHOD:PUBLISH
X-ORIGINAL-URL:https://broad.msu.edu
X-WR-CALDESC:Events for Eli Broad College of Business | Michigan State University
REFRESH-INTERVAL;VALUE=DURATION:PT1H
X-Robots-Tag:noindex
X-PUBLISHED-TTL:PT1H
BEGIN:VTIMEZONE
TZID:America/Detroit
BEGIN:DAYLIGHT
TZOFFSETFROM:-0500
TZOFFSETTO:-0400
TZNAME:EDT
DTSTART:20240310T070000
END:DAYLIGHT
BEGIN:STANDARD
TZOFFSETFROM:-0400
TZOFFSETTO:-0500
TZNAME:EST
DTSTART:20241103T060000
END:STANDARD
BEGIN:DAYLIGHT
TZOFFSETFROM:-0500
TZOFFSETTO:-0400
TZNAME:EDT
DTSTART:20250309T070000
END:DAYLIGHT
BEGIN:STANDARD
TZOFFSETFROM:-0400
TZOFFSETTO:-0500
TZNAME:EST
DTSTART:20251102T060000
END:STANDARD
BEGIN:DAYLIGHT
TZOFFSETFROM:-0500
TZOFFSETTO:-0400
TZNAME:EDT
DTSTART:20260308T070000
END:DAYLIGHT
BEGIN:STANDARD
TZOFFSETFROM:-0400
TZOFFSETTO:-0500
TZNAME:EST
DTSTART:20261101T060000
END:STANDARD
END:VTIMEZONE
BEGIN:VEVENT
DTSTART;TZID=America/Detroit:20250319T123000
DTEND;TZID=America/Detroit:20250402T133000
DTSTAMP:20260422T214747
CREATED:20241211T211547Z
LAST-MODIFIED:20250610T185940Z
UID:10004294-1742387400-1743600600@broad.msu.edu
SUMMARY:Broad Executive MBA: Live Drop-in Q&A
DESCRIPTION:  \n \nJoin us for a live Q&A via Zoom with a member of our admissions team. Drop-in any time during the hour to learn more about the Executive MBA program or the application process.
URL:https://broad.msu.edu/event/broad-executive-mba-live-drop-in-qa-3/2025-03-19/
LOCATION:Virtual
CATEGORIES:Admissions Events,Executive MBA
END:VEVENT
BEGIN:VEVENT
DTSTART;TZID=America/Detroit:20250326T123000
DTEND;TZID=America/Detroit:20250409T133000
DTSTAMP:20260422T214747
CREATED:20241211T211547Z
LAST-MODIFIED:20250610T185940Z
UID:10004295-1742992200-1744205400@broad.msu.edu
SUMMARY:Broad Executive MBA: Live Drop-in Q&A
DESCRIPTION:  \n \nJoin us for a live Q&A via Zoom with a member of our admissions team. Drop-in any time during the hour to learn more about the Executive MBA program or the application process.
URL:https://broad.msu.edu/event/broad-executive-mba-live-drop-in-qa-3/2025-03-26/
LOCATION:Virtual
CATEGORIES:Admissions Events,Executive MBA
END:VEVENT
BEGIN:VEVENT
DTSTART;TZID=America/Detroit:20250401T113000
DTEND;TZID=America/Detroit:20250401T123000
DTSTAMP:20260422T214747
CREATED:20250319T173927Z
LAST-MODIFIED:20250319T173942Z
UID:10004395-1743507000-1743510600@broad.msu.edu
SUMMARY:Lunch and Learn: Entrepreneurship\, Sustainability and Social Responsibility!
DESCRIPTION:Join the Burgess Institute for Entrepreneurship & Innovation and the Center for Ethical and Socially Responsible Leadership (CESRL) for a Lunch & Learn event on Mon.\, April 1\, 2025\, at 11:30 AM in the Edward J. Minskoff Pavilion. \nHannah Tizedes is a sustainability-driven entrepreneur and creative professional\, dedicated to environmental advocacy and community engagement. As the founder of The Cleanup Club\, she has built a platform focused on raising awareness about plastic pollution through art\, education\, and collective action. \nTizedes earned her Bachelor of Arts in Creative Advertising with a concentration in environmental sustainability from Michigan State University in 2017. During her time at MSU\, she served as the environmental communications coordinator for MSU Recycling\, where she developed impactful initiatives promoting sustainable practices across campus.
URL:https://broad.msu.edu/event/lunch-and-learn-entrepreneurship-sustainability-and-social-responsibility/
LOCATION:Eli Broad College of Business\, 632 Bogue St n520\, East Lansing\, MI\, 48824\, United States
CATEGORIES:Ethics & Social Responsibility
ORGANIZER;CN="Beth Hammond":MAILTO:hammon25@msu.edu
END:VEVENT
BEGIN:VEVENT
DTSTART;TZID=America/Detroit:20250402T123000
DTEND;TZID=America/Detroit:20250416T133000
DTSTAMP:20260422T214747
CREATED:20241211T211547Z
LAST-MODIFIED:20250610T185940Z
UID:10004296-1743597000-1744810200@broad.msu.edu
SUMMARY:Broad Executive MBA: Live Drop-in Q&A
DESCRIPTION:  \n \nJoin us for a live Q&A via Zoom with a member of our admissions team. Drop-in any time during the hour to learn more about the Executive MBA program or the application process.
URL:https://broad.msu.edu/event/broad-executive-mba-live-drop-in-qa-3/2025-04-02/
LOCATION:Virtual
CATEGORIES:Admissions Events,Executive MBA
END:VEVENT
BEGIN:VEVENT
DTSTART;TZID=America/Detroit:20250403T113000
DTEND;TZID=America/Detroit:20250403T123000
DTSTAMP:20260422T214747
CREATED:20250319T173532Z
LAST-MODIFIED:20250319T173532Z
UID:10004394-1743679800-1743683400@broad.msu.edu
SUMMARY:Lunch and Learn: Organizational Alignment of Mission and Actions
DESCRIPTION:Want to know if companies truly “walk the talk”? Join us for an interactive workshop with Professor Jennifer Dunn to learn practical skills for evaluating alignment between corporate strategies and actions. You’ll gain frameworks to analyze mission statements\, assess strategic alignment\, and identify gaps between promises and performance. This hands-on session will equip you with tools to become a more discerning business leader. Register to join us on Thursday\, April 3rd from 11:30am-12:30pm and lock in your FREE lunch today!
URL:https://broad.msu.edu/event/lunch-and-learn-organizational-alignment-of-mission-and-actions/
LOCATION:Eppley Center\, 667 N Shaw Ln\, East Lansing\, MI\, 48824\, United States
CATEGORIES:Ethics & Social Responsibility
ORGANIZER;CN="Beth Hammond":MAILTO:hammon25@msu.edu
END:VEVENT
BEGIN:VEVENT
DTSTART;TZID=America/Detroit:20250403T180000
DTEND;TZID=America/Detroit:20250403T200000
DTSTAMP:20260422T214747
CREATED:20250228T163139Z
LAST-MODIFIED:20250304T195225Z
UID:10004391-1743703200-1743710400@broad.msu.edu
SUMMARY:Community Conversation with Broad Dean David Souder - Dallas
DESCRIPTION:↓ ↓ Scroll down to the form below to register ↓ ↓ \nDallas-area Spartans\, you’re invited to an exclusive evening of connection and conversation at the prestigious Dallas Petroleum Club! Join us for a vibrant night of networking with fellow Broad alumni and friends as we introduce the new Dean of the Eli Broad College of Business\, David Souder. \nEnjoy an elegant atmosphere of the Overlook Room\, gourmet hors d’oeuvres\, and a full bar while engaging in thought-provoking dialogue. Dean Souder will share his bold vision for the future of Broad College in a dynamic discussion moderated by Sanjay Baskaran\, a Dallas local and Broad Advisory Board member. \nDon’t miss this opportunity to reconnect\, make new connections\, and be part of shaping the future of Broad. Please use the form below to register below and we look forward to seeing you there! \n\n\n                \n                        \n                             \n                        \n                        Name(Required)\n                            \n                            \n                                                    First\n                                                    \n                                                \n                            \n                            \n                                                            Last\n                                                            \n                                                        \n                            \n                        Email(Required)\n                                \n                                    Enter Email\n                                    \n                                \n                                \n                                    Confirm Email\n                                    \n                                \n                                \n                            Graduation yearMajor or ProgramCurrent EmployerAffiliationAlumFriendFacultyStaffPrefer not to answerDietary RestrictionsAre you bringing a guest?\n			\n					\n					Yes\n			\n			\n					\n					No\n			Guest Name\n                            \n                            \n                                                    First\n                                                    \n                                                \n                            \n                            \n                                                            Last\n                                                            \n                                                        \n                            \n                        Are they a MSU Alumn?\n			\n					\n					Yes\n			\n			\n					\n					No\n			Dietary RestrictionsCAPTCHA
URL:https://broad.msu.edu/event/community-conversation-with-broad-dean-david-souder-dallas/
LOCATION:The Petroleum Club Dallas\, 1900 N Akard St Suite 1400\, Dallas\, TX\, 75201\, United States
CATEGORIES:Alumni Events,Dean,Featured Events
ORGANIZER;CN="Ashley Durham":MAILTO:rittenh6@msu.edu
END:VEVENT
BEGIN:VEVENT
DTSTART;TZID=America/Detroit:20250404T120000
DTEND;TZID=America/Detroit:20250404T130000
DTSTAMP:20260422T214747
CREATED:20250115T192513Z
LAST-MODIFIED:20250115T192513Z
UID:10004363-1743768000-1743771600@broad.msu.edu
SUMMARY:Broad MBA Virtual Office Hours
DESCRIPTION:Join the Michigan State Broad Full-Time MBA Admissions team to answer any questions you may have before the Round 4 (and final) application deadline on April 7th!
URL:https://broad.msu.edu/event/broad-mba-virtual-office-hours-7/
LOCATION:Online
CATEGORIES:Admissions Events,Full-Time MBA
ORGANIZER;CN="MBA Admissions":MAILTO:mba@msu.edu
END:VEVENT
END:VCALENDAR