BEGIN:VCALENDAR
VERSION:2.0
PRODID:-//Eli Broad College of Business | Michigan State University - ECPv6.15.17.1//NONSGML v1.0//EN
CALSCALE:GREGORIAN
METHOD:PUBLISH
X-WR-CALNAME:Eli Broad College of Business | Michigan State University
X-ORIGINAL-URL:https://broad.msu.edu
X-WR-CALDESC:Events for Eli Broad College of Business | Michigan State University
REFRESH-INTERVAL;VALUE=DURATION:PT1H
X-Robots-Tag:noindex
X-PUBLISHED-TTL:PT1H
BEGIN:VTIMEZONE
TZID:America/Detroit
BEGIN:DAYLIGHT
TZOFFSETFROM:-0500
TZOFFSETTO:-0400
TZNAME:EDT
DTSTART:20240310T070000
END:DAYLIGHT
BEGIN:STANDARD
TZOFFSETFROM:-0400
TZOFFSETTO:-0500
TZNAME:EST
DTSTART:20241103T060000
END:STANDARD
BEGIN:DAYLIGHT
TZOFFSETFROM:-0500
TZOFFSETTO:-0400
TZNAME:EDT
DTSTART:20250309T070000
END:DAYLIGHT
BEGIN:STANDARD
TZOFFSETFROM:-0400
TZOFFSETTO:-0500
TZNAME:EST
DTSTART:20251102T060000
END:STANDARD
BEGIN:DAYLIGHT
TZOFFSETFROM:-0500
TZOFFSETTO:-0400
TZNAME:EDT
DTSTART:20260308T070000
END:DAYLIGHT
BEGIN:STANDARD
TZOFFSETFROM:-0400
TZOFFSETTO:-0500
TZNAME:EST
DTSTART:20261101T060000
END:STANDARD
END:VTIMEZONE
BEGIN:VEVENT
DTSTART;TZID=America/Detroit:20250521T123000
DTEND;TZID=America/Detroit:20250604T133000
DTSTAMP:20260420T224048
CREATED:20241211T211547Z
LAST-MODIFIED:20250610T185940Z
UID:10004303-1747830600-1749043800@broad.msu.edu
SUMMARY:Broad Executive MBA: Live Drop-in Q&A
DESCRIPTION:  \n \nJoin us for a live Q&A via Zoom with a member of our admissions team. Drop-in any time during the hour to learn more about the Executive MBA program or the application process.
URL:https://broad.msu.edu/event/broad-executive-mba-live-drop-in-qa-3/2025-05-21/
LOCATION:Virtual
CATEGORIES:Admissions Events,Executive MBA
END:VEVENT
BEGIN:VEVENT
DTSTART;TZID=America/Detroit:20250528T123000
DTEND;TZID=America/Detroit:20250611T133000
DTSTAMP:20260420T224048
CREATED:20241211T211547Z
LAST-MODIFIED:20250610T185940Z
UID:10004304-1748435400-1749648600@broad.msu.edu
SUMMARY:Broad Executive MBA: Live Drop-in Q&A
DESCRIPTION:  \n \nJoin us for a live Q&A via Zoom with a member of our admissions team. Drop-in any time during the hour to learn more about the Executive MBA program or the application process.
URL:https://broad.msu.edu/event/broad-executive-mba-live-drop-in-qa-3/2025-05-28/
LOCATION:Virtual
CATEGORIES:Admissions Events,Executive MBA
END:VEVENT
BEGIN:VEVENT
DTSTART;TZID=America/Detroit:20250603T170000
DTEND;TZID=America/Detroit:20250603T190000
DTSTAMP:20260420T224048
CREATED:20240503T112615Z
LAST-MODIFIED:20250422T121946Z
UID:10004032-1748970000-1748977200@broad.msu.edu
SUMMARY:Hospitality Business: NYC Alumni & Friends Networking Reception
DESCRIPTION:Please join us! Join Hospitality Business Spartans in NYC for a networking reception on Tuesday\, June 3 from 5 p.m. – 7 p.m. This event is scheduled in conjunction with the NYU International Hospitality Investment Forum. \nBar Sprezzatura\nKimpton Hotel Theta – Rooftop\n790 Eighth Avenue \nSpecial thanks to the generosity of our event sponsors: Highgate and Lodging Analytics Research & Consulting.
URL:https://broad.msu.edu/event/hospitality-business-networking-reception/
LOCATION:Kimpton Hotel Theta New York\, 790 Eighth Avenue\, New York\, 10019\, United States
CATEGORIES:Alumni Events,Featured Events,Hospitality Business
ORGANIZER;CN="Lena Loeffler":MAILTO:loeffler@broad.msu.edu
END:VEVENT
BEGIN:VEVENT
DTSTART;TZID=America/Detroit:20250604T123000
DTEND;TZID=America/Detroit:20250618T133000
DTSTAMP:20260420T224048
CREATED:20241211T211547Z
LAST-MODIFIED:20250610T185940Z
UID:10004305-1749040200-1750253400@broad.msu.edu
SUMMARY:Broad Executive MBA: Live Drop-in Q&A
DESCRIPTION:  \n \nJoin us for a live Q&A via Zoom with a member of our admissions team. Drop-in any time during the hour to learn more about the Executive MBA program or the application process.
URL:https://broad.msu.edu/event/broad-executive-mba-live-drop-in-qa-3/2025-06-04/
LOCATION:Virtual
CATEGORIES:Admissions Events,Executive MBA
END:VEVENT
BEGIN:VEVENT
DTSTART;TZID=America/Detroit:20250604T140000
DTEND;TZID=America/Detroit:20250604T143000
DTSTAMP:20260420T224048
CREATED:20250506T173604Z
LAST-MODIFIED:20250506T173604Z
UID:10004408-1749045600-1749047400@broad.msu.edu
SUMMARY:MSMRA Virtual Information Session
DESCRIPTION:Please join us on Zoom to learn more about MSU’s MSMRA program!
URL:https://broad.msu.edu/event/msmra-virtual-information-session-25/
CATEGORIES:M.S. in Marketing Research
END:VEVENT
BEGIN:VEVENT
DTSTART;TZID=America/Detroit:20250604T180000
DTEND;TZID=America/Detroit:20250604T190000
DTSTAMP:20260420T224048
CREATED:20250604T164247Z
LAST-MODIFIED:20250604T164515Z
UID:10004430-1749060000-1749063600@broad.msu.edu
SUMMARY:AI-Enhanced Instruction: Real Lessons – an Interactive Virtual Workshop
DESCRIPTION:This interactive workshop is a continuation of Dr. Spink’s AI-Enhanced Instruction: Real Lessons from the Classroom where you will have an opportunity to work hands on with AI related prompts and learn how to integrate this technology into your instruction. \nNo registration required and please feel free to share with your colleagues across campus! \nLocation: Zoom – AI-Enhanced Instruction: Real Lessons from the Classroom \nMeeting ID: 939 8606 6144 \nPasscode: 104102
URL:https://broad.msu.edu/event/ai-enhanced-instruction-real-lessons-an-interactive-virtual-workshop/
LOCATION:Online
CATEGORIES:AI Workshops
END:VEVENT
BEGIN:VEVENT
DTSTART;TZID=America/Detroit:20250605T170000
DTEND;TZID=America/Detroit:20250605T180000
DTSTAMP:20260420T224048
CREATED:20250604T164013Z
LAST-MODIFIED:20250604T164505Z
UID:10004429-1749142800-1749146400@broad.msu.edu
SUMMARY:AI-Enhanced Instruction: Real Lessons from the Classroom
DESCRIPTION:In this session\, you’ll get an inside look at Negotiation (MGT 474 / SCM 474)\, a Michigan State University course redesigned by Dr. John Spink with the philosophy of “AI – All the Time and Every Time (Except the Quizzes).” \nDiscover how tools like ChatGPT\, NotebookLM\, and McGraw-Hill Connect were fully integrated into course development\, instruction\, and student work—and how this practical use of generative AI boosted engagement\, collaboration\, and learning outcomes. \n🔍 What You’ll Gain: \n\nPractical strategies for integrating AI into your own course design\nReal examples of AI-powered activities and student-led group projects\nCandid student feedback on what worked—and what didn’t\nInsights into the role of AI in higher education and the supply chain industry\n\nWhether you’re just beginning to explore AI or fine-tuning your approach\, this session offers tested strategies\, tools\, and student perspectives to help elevate your teaching. Don’t miss this opportunity! \nNo registration required and please feel free to share with your colleagues across campus! This session will be recorded and posted in the. Broad College- AI Resource Page\, within one week of the session if you are not able to attend the live session. \nLocation: Zoom – AI-Enhanced Instruction: Real Lessons from the Classroom \nMeeting ID: 939 8606 6144 \nPasscode: 104102
URL:https://broad.msu.edu/event/ai-enhanced-instruction-real-lessons-from-the-classroom/
LOCATION:Online
CATEGORIES:AI Workshops,College-wide Events
END:VEVENT
END:VCALENDAR