BEGIN:VCALENDAR
VERSION:2.0
PRODID:-//Eli Broad College of Business | Michigan State University - ECPv6.15.17.1//NONSGML v1.0//EN
CALSCALE:GREGORIAN
METHOD:PUBLISH
X-WR-CALNAME:Eli Broad College of Business | Michigan State University
X-ORIGINAL-URL:https://broad.msu.edu
X-WR-CALDESC:Events for Eli Broad College of Business | Michigan State University
REFRESH-INTERVAL;VALUE=DURATION:PT1H
X-Robots-Tag:noindex
X-PUBLISHED-TTL:PT1H
BEGIN:VTIMEZONE
TZID:America/Detroit
BEGIN:DAYLIGHT
TZOFFSETFROM:-0500
TZOFFSETTO:-0400
TZNAME:EDT
DTSTART:20240310T070000
END:DAYLIGHT
BEGIN:STANDARD
TZOFFSETFROM:-0400
TZOFFSETTO:-0500
TZNAME:EST
DTSTART:20241103T060000
END:STANDARD
BEGIN:DAYLIGHT
TZOFFSETFROM:-0500
TZOFFSETTO:-0400
TZNAME:EDT
DTSTART:20250309T070000
END:DAYLIGHT
BEGIN:STANDARD
TZOFFSETFROM:-0400
TZOFFSETTO:-0500
TZNAME:EST
DTSTART:20251102T060000
END:STANDARD
BEGIN:DAYLIGHT
TZOFFSETFROM:-0500
TZOFFSETTO:-0400
TZNAME:EDT
DTSTART:20260308T070000
END:DAYLIGHT
BEGIN:STANDARD
TZOFFSETFROM:-0400
TZOFFSETTO:-0500
TZNAME:EST
DTSTART:20261101T060000
END:STANDARD
END:VTIMEZONE
BEGIN:VTIMEZONE
TZID:America/Los_Angeles
BEGIN:DAYLIGHT
TZOFFSETFROM:-0800
TZOFFSETTO:-0700
TZNAME:PDT
DTSTART:20240310T100000
END:DAYLIGHT
BEGIN:STANDARD
TZOFFSETFROM:-0700
TZOFFSETTO:-0800
TZNAME:PST
DTSTART:20241103T090000
END:STANDARD
BEGIN:DAYLIGHT
TZOFFSETFROM:-0800
TZOFFSETTO:-0700
TZNAME:PDT
DTSTART:20250309T100000
END:DAYLIGHT
BEGIN:STANDARD
TZOFFSETFROM:-0700
TZOFFSETTO:-0800
TZNAME:PST
DTSTART:20251102T090000
END:STANDARD
BEGIN:DAYLIGHT
TZOFFSETFROM:-0800
TZOFFSETTO:-0700
TZNAME:PDT
DTSTART:20260308T100000
END:DAYLIGHT
BEGIN:STANDARD
TZOFFSETFROM:-0700
TZOFFSETTO:-0800
TZNAME:PST
DTSTART:20261101T090000
END:STANDARD
END:VTIMEZONE
BEGIN:VEVENT
DTSTART;TZID=America/Detroit:20250908T114500
DTEND;TZID=America/Detroit:20250908T124500
DTSTAMP:20260421T170404
CREATED:20250602T191623Z
LAST-MODIFIED:20250902T233158Z
UID:10004413-1757331900-1757335500@broad.msu.edu
SUMMARY:Brown Bag Research Lunch
DESCRIPTION:Join us for our first Brown Bag Research Lunch where we’ll hear from two of our own faculty members about their exciting research projects! Dr. Suman Basuroy and Dr. Janhavi Venkatsh will share insights into advances within ethical and socially responsible research by examining racial disparities in business recovery among peer-to-peer service providers during COVID-19. They investigate whether COVID-19 vaccines led to consistent economic recovery across racial groups\, given lower vaccination rates among Black communities. The findings aim to inform inclusive policies that promote equity and ethical business practices in the post-pandemic economy. \nThis is a fantastic opportunity to discover the innovative studies happening right here on campus\, ask questions\, and connect with colleagues. Lunch will be provided. Register to join us on Monday\, September 8th from 11:45-12:45pm!
URL:https://broad.msu.edu/event/brown-bag-research-lunch/
LOCATION:Eppley Center\, 667 N Shaw Ln\, East Lansing\, MI\, 48824\, United States
CATEGORIES:Ethics & Social Responsibility
ORGANIZER;CN="Beth Hammond":MAILTO:hammon25@msu.edu
END:VEVENT
BEGIN:VEVENT
DTSTART;TZID=America/Detroit:20250910T120000
DTEND;TZID=America/Detroit:20250910T122000
DTSTAMP:20260421T170404
CREATED:20250724T144827Z
LAST-MODIFIED:20250905T165739Z
UID:10004449-1757505600-1757506800@broad.msu.edu
SUMMARY:MSU MBA in 20 Minutes: Your Broad Full-Time MBA Snapshot
DESCRIPTION:Pressed for time? Join us for a 20-minute power session that gives you a high-impact overview of the Michigan State Full-Time MBA program\, perfect for your lunch break or a quick midday reset.\nIn this fast-paced webinar\, we’ll cover: \n\nCurriculum highlights\nScholarships & funding options\nCareer outcomes & support\nLive Q&A – ask us anything!\n\nGet the essentials\, ask your questions\, and be on your way – all in 20 minutes.
URL:https://broad.msu.edu/event/msu-mba-in-20-minutes-your-broad-full-time-mba-snapshot/
LOCATION:Online
CATEGORIES:Admissions Events,Full-Time MBA
ORGANIZER;CN="MBA Admissions":MAILTO:mba@msu.edu
END:VEVENT
BEGIN:VEVENT
DTSTART;TZID=America/Detroit:20250910T140000
DTEND;TZID=America/Detroit:20250910T153000
DTSTAMP:20260421T170404
CREATED:20250422T193815Z
LAST-MODIFIED:20250903T000549Z
UID:10004400-1757512800-1757518200@broad.msu.edu
SUMMARY:MSU MS Accounting Pre-Fair Networking Mixer
DESCRIPTION:This event will take place at the Breslin Center on Wednesday\, September 10 from 2:00pm-3:30pm ET prior to the MSU Careers in Business: Accounting/Finance Career Fair and is open to current MS Accounting students seeking internship and full-time opportunities. 
URL:https://broad.msu.edu/event/msu-ms-accounting-pre-fair-networking-mixer/
LOCATION:Breslin Student Events Center\, 534 Birch Rd\, East Lansing\, MI\, 48824\, United States
CATEGORIES:Career Management,Palmer Center Recruiting,Recruiting Events
ORGANIZER;CN="Taylor Bates":MAILTO:taybates@msu.edu
END:VEVENT
BEGIN:VEVENT
DTSTART;TZID=America/Detroit:20250910T160000
DTEND;TZID=America/Detroit:20250910T190000
DTSTAMP:20260421T170404
CREATED:20250422T194046Z
LAST-MODIFIED:20250903T000332Z
UID:10004401-1757520000-1757530800@broad.msu.edu
SUMMARY:MSU Careers in Business: Accounting/Finance Fair
DESCRIPTION:We invite you to join the Broad College of Business Russell Palmer Career Management Center for the MSU Careers in Business: Accounting/Finance Fair. This event will take place at the Breslin Center on Wednesday\, September 10 from 4:00pm-7:00pm ET and is open to all MSU undergraduate and graduate students seeking internship and full-time opportunities in the accounting and finance fields.
URL:https://broad.msu.edu/event/msu-careers-in-business-accounting-finance-fair/
LOCATION:Breslin Student Events Center\, 534 Birch Rd\, East Lansing\, MI\, 48824\, United States
CATEGORIES:Career Management,Palmer Center Recruiting,Recruiting Events
ORGANIZER;CN="Taylor Bates":MAILTO:taybates@msu.edu
END:VEVENT
BEGIN:VEVENT
DTSTART;TZID=America/Detroit:20250911T120000
DTEND;TZID=America/Detroit:20250911T130000
DTSTAMP:20260421T170404
CREATED:20250821T201855Z
LAST-MODIFIED:20250908T210011Z
UID:10004467-1757592000-1757595600@broad.msu.edu
SUMMARY:Chat with the Director: Professional MBA Programs - 9/11/25
DESCRIPTION:Join the Broad MBA Programs Director of Admissions\, Kara Tripi\, for a casual\, informative conversation about the Executive MBA and Online MBA programs at Michigan State University. This is a great opportunity for you to ask questions\, explore flexible learning options\, and gain insights into how MSU’s Professional MBA programs can support your career goals. \nWhether you’re just starting to explore your options or ready to apply\, we’d love to connect!
URL:https://broad.msu.edu/event/chat-with-the-director-professional-mba-programs/
LOCATION:Online
CATEGORIES:Executive MBA,Professional Online MBA
ORGANIZER;CN="MBA Admissions":MAILTO:mba@msu.edu
END:VEVENT
BEGIN:VEVENT
DTSTART;TZID=America/Detroit:20250912T170000
DTEND;TZID=America/Detroit:20250912T180000
DTSTAMP:20260421T170404
CREATED:20250828T190423Z
LAST-MODIFIED:20250902T234328Z
UID:10004475-1757696400-1757700000@broad.msu.edu
SUMMARY:Dine and Decide with the EMBA Director - Troy Campus
DESCRIPTION:Join us for an exclusive Dine & Decide event and experience the Michigan State University Executive MBA program firsthand. This is a unique opportunity for you to connect with current students over dinner and meet with a Program Director. \nThis event is designed to give you an authentic look into the life of an Executive MBA student. You’ll hear about their experiences\, ask questions in a relaxed setting\, and learn how the program has impacted their careers. \nHere’s the best part: If your application is complete\, you will receive an on-the-spot recommendation for admission.
URL:https://broad.msu.edu/event/dine-and-decide-with-the-emba-director-troy-campus/
LOCATION:Management Education Center\, 811 W Square Lake Rd\, Troy\, MI\, 48098\, United States
CATEGORIES:Admissions Events,Executive MBA
ORGANIZER;CN="MBA Admissions":MAILTO:mba@msu.edu
END:VEVENT
BEGIN:VEVENT
DTSTART;TZID=America/Los_Angeles:20250913T110000
DTEND;TZID=America/Los_Angeles:20250913T141500
DTSTAMP:20260421T170404
CREATED:20250811T170621Z
LAST-MODIFIED:20250909T204154Z
UID:10004454-1757761200-1757772900@broad.msu.edu
SUMMARY:Access MBA Los Angeles
DESCRIPTION:Meet with the Michigan State Broad MBA Senior Associate Director of Admissions at the Access MBA Los Angeles event on Saturday\, September 13th. \nMeet with us to learn more about the Broad MBA\, discuss your MBA goals\, hear about the admissions process and learn about our new full-ride scholarship opportunities!
URL:https://broad.msu.edu/event/access-mba-los-angeles-2/
LOCATION:Hilton Santa Monica Hotel & Suites\, 1707 Fourth Street\, Los Angeles\, CA\, 90401\, United States
CATEGORIES:Admissions Events,Full-Time MBA
ORGANIZER;CN="MBA Admissions":MAILTO:mba@msu.edu
END:VEVENT
BEGIN:VEVENT
DTSTART;TZID=America/Detroit:20250913T140000
DTEND;TZID=America/Detroit:20250913T173000
DTSTAMP:20260421T170404
CREATED:20250811T165316Z
LAST-MODIFIED:20250909T204637Z
UID:10004453-1757772000-1757784600@broad.msu.edu
SUMMARY:QS Discover and Connect - New York City
DESCRIPTION:Connect with the Director of Admissions for Broad MBA Programs in NYC at the QS Discover and Connect event! \nLearn about the Broad Full-Time\, Online and EMBA programs\, admissions processes and funding information.
URL:https://broad.msu.edu/event/qs-discover-and-connect-new-york-city/
LOCATION:New York Marriott Marquis\, 1535 Broadway\, New York City\, NY\, 10036\, United States
CATEGORIES:Admissions Events,Full-Time MBA
ORGANIZER;CN="MBA Admissions":MAILTO:mba@msu.edu
END:VEVENT
END:VCALENDAR