BEGIN:VCALENDAR
VERSION:2.0
PRODID:-//Eli Broad College of Business | Michigan State University - ECPv6.15.17.1//NONSGML v1.0//EN
CALSCALE:GREGORIAN
METHOD:PUBLISH
X-WR-CALNAME:Eli Broad College of Business | Michigan State University
X-ORIGINAL-URL:https://broad.msu.edu
X-WR-CALDESC:Events for Eli Broad College of Business | Michigan State University
REFRESH-INTERVAL;VALUE=DURATION:PT1H
X-Robots-Tag:noindex
X-PUBLISHED-TTL:PT1H
BEGIN:VTIMEZONE
TZID:America/Detroit
BEGIN:DAYLIGHT
TZOFFSETFROM:-0500
TZOFFSETTO:-0400
TZNAME:EDT
DTSTART:20240310T070000
END:DAYLIGHT
BEGIN:STANDARD
TZOFFSETFROM:-0400
TZOFFSETTO:-0500
TZNAME:EST
DTSTART:20241103T060000
END:STANDARD
BEGIN:DAYLIGHT
TZOFFSETFROM:-0500
TZOFFSETTO:-0400
TZNAME:EDT
DTSTART:20250309T070000
END:DAYLIGHT
BEGIN:STANDARD
TZOFFSETFROM:-0400
TZOFFSETTO:-0500
TZNAME:EST
DTSTART:20251102T060000
END:STANDARD
BEGIN:DAYLIGHT
TZOFFSETFROM:-0500
TZOFFSETTO:-0400
TZNAME:EDT
DTSTART:20260308T070000
END:DAYLIGHT
BEGIN:STANDARD
TZOFFSETFROM:-0400
TZOFFSETTO:-0500
TZNAME:EST
DTSTART:20261101T060000
END:STANDARD
END:VTIMEZONE
BEGIN:VEVENT
DTSTART;VALUE=DATE:20250922
DTEND;VALUE=DATE:20250927
DTSTAMP:20260423T083854
CREATED:20240617T164458Z
LAST-MODIFIED:20250902T234450Z
UID:10004108-1758499200-1758931199@broad.msu.edu
SUMMARY:Hospitality Business: Club Management Association of America BMI GM/COO
DESCRIPTION:To attend this five day educational conference\, please contact Club Management Association of America directly. Registration is required.
URL:https://broad.msu.edu/event/hospitality-business-club-management-association-of-america-bmi-gm-coo-5/
LOCATION:Kellogg Hotel & Conference Center\, 219 S Harrison Rd\, East Lansing\, MI\, 48824\, United States
CATEGORIES:Hospitality Business
ORGANIZER;CN="Lena Loeffler":MAILTO:loeffler@broad.msu.edu
END:VEVENT
BEGIN:VEVENT
DTSTART;TZID=America/Detroit:20250922T160000
DTEND;TZID=America/Detroit:20250922T163000
DTSTAMP:20260423T083854
CREATED:20250603T200729Z
LAST-MODIFIED:20250920T213740Z
UID:10004422-1758556800-1758558600@broad.msu.edu
SUMMARY:Cambodia Study Abroad Information Session - 9/22/25
DESCRIPTION:Are you ready for a trip of a lifetime? Come and learn about a spring break study abroad experience to Cambodia! We will talk about where in the world Cambodia is\, what adventures we will have\, and the types of businesses we will learn from! We will also talk about the cost\, the dates\, and travel logistics! Register to join me today on Monday\, September 22nd from 4:30pm-5pm.
URL:https://broad.msu.edu/event/cambodia-study-abroad-information-session/
LOCATION:Eppley Center\, 667 N Shaw Ln\, East Lansing\, MI\, 48824\, United States
CATEGORIES:Education Abroad,Ethics & Social Responsibility
ORGANIZER;CN="Beth Hammond":MAILTO:hammon25@msu.edu
END:VEVENT
BEGIN:VEVENT
DTSTART;TZID=America/Detroit:20250922T170000
DTEND;TZID=America/Detroit:20250922T210000
DTSTAMP:20260423T083854
CREATED:20250811T171520Z
LAST-MODIFIED:20250920T214941Z
UID:10004457-1758560400-1758574800@broad.msu.edu
SUMMARY:Access MBA Washington DC
DESCRIPTION:Meet with the Michigan State Broad MBA Senior Associate Director of Admissions at the Access MBA Washington DC event on Monday\, September 22nd. \nMeet with us to learn more about the Broad MBA\, discuss your MBA goals\, hear about the admissions process and learn about our new full-ride scholarship opportunities!
URL:https://broad.msu.edu/event/access-mba-washington-dc-2/
LOCATION:FAIRMONT WASHINGTON D.C.\, GEORGETOWN\, 2401 M St NW\, Washington\, DC\, 20037\, United States
CATEGORIES:Admissions Events,Full-Time MBA
ORGANIZER;CN="MBA Admissions":MAILTO:mba@msu.edu
END:VEVENT
BEGIN:VEVENT
DTSTART;TZID=America/Detroit:20250923T170000
DTEND;TZID=America/Detroit:20250923T210000
DTSTAMP:20260423T083854
CREATED:20250811T171759Z
LAST-MODIFIED:20250920T214837Z
UID:10004458-1758646800-1758661200@broad.msu.edu
SUMMARY:Access MBA Philadelphia
DESCRIPTION:Meet with the Michigan State Broad MBA Senior Associate Director of Admissions at the Access MBA Philadelphia event on Tuesday\, September 23rd. \nMeet with us to learn more about the Broad MBA\, discuss your MBA goals\, hear about the admissions process and learn about our new full-ride scholarship opportunities!
URL:https://broad.msu.edu/event/access-mba-philadelphia-2/
LOCATION:W Philadelphia\, 1439 Chestnut Street\, Philadelphia\, PA\, 19102\, United States
CATEGORIES:Admissions Events,Full-Time MBA
ORGANIZER;CN="MBA Admissions":MAILTO:mba@msu.edu
END:VEVENT
BEGIN:VEVENT
DTSTART;TZID=America/Detroit:20250923T173000
DTEND;TZID=America/Detroit:20250923T180000
DTSTAMP:20260423T083854
CREATED:20250905T175551Z
LAST-MODIFIED:20250912T135021Z
UID:10004492-1758648600-1758650400@broad.msu.edu
SUMMARY:South Africa Study Abroad Info Session
DESCRIPTION:Interested in a once-in-a-lifetime experience? Do you have a sense of adventure\, urge to explore\, and enjoy experiencing new cultures? Then you might be interested in a study abroad! \nCome learn about the Broad study abroad to Cape Town\, South Africa\, planned for Spring Break 2026. We will talk details\, costs\, and logistics\, and answer any questions that you may have. \nInterested but can’t make it? Contact Program Director Joe Courtade Moon (jcmoon@msu.edu) or visit the program website for more details: https://msueducationabroad.via-trm.com/program_brochure/12092
URL:https://broad.msu.edu/event/south-africa-study-abroad-info-session/
LOCATION:1st floor of the Business College Complex\, 632 Bogue St\, East Lansing\, MI\, 48824\, United States
ORGANIZER;CN="Joe Courtade Moon":MAILTO:jcmoon@msu.edu
END:VEVENT
BEGIN:VEVENT
DTSTART;TZID=America/Detroit:20250924T090000
DTEND;TZID=America/Detroit:20250924T120000
DTSTAMP:20260423T083854
CREATED:20250811T172722Z
LAST-MODIFIED:20250920T215506Z
UID:10004461-1758704400-1758715200@broad.msu.edu
SUMMARY:Forte Virtual Forum
DESCRIPTION:Connect with the Michigan State MBA admissions team at the Virtual Forte Forum and learn about how the Broad Full-Time MBA can take your career to the next level. Hear about our new scholarship opportunities\, admissions requirements and more. \nForté MBA Forums are free events held annually to empower women and men as allies — whether you’re looking to change careers\, a college student planning for the future\, or a professional ready for career advancement.
URL:https://broad.msu.edu/event/forte-virtual-forum/
LOCATION:Online
CATEGORIES:Admissions Events,Full-Time MBA
ORGANIZER;CN="MBA Admissions":MAILTO:mba@msu.edu
END:VEVENT
BEGIN:VEVENT
DTSTART;TZID=America/Detroit:20250924T114500
DTEND;TZID=America/Detroit:20250924T124500
DTSTAMP:20260423T083854
CREATED:20250603T201014Z
LAST-MODIFIED:20250920T215608Z
UID:10004423-1758714300-1758717900@broad.msu.edu
SUMMARY:Lunch and Learn: Social Responsibility in Action
DESCRIPTION:Join us for an engaging session focused on the powerful intersection of social responsibility and business success. Learn from President and CEO of BuildOn Jim Ziolkowski. BuildOn is a global organization whose mission to break the cycle of poverty\, illiteracy\, and low expectations through service and education. They mobilize U.S. students to transform their communities through service learning and change the world by building schools in developing countries. Come and learn what it takes to run an organization that is making a real difference in the world while thriving in today’s marketplace. \nRegister today to join us from 11:45-12:45pm on Wednesday\, September 24th!
URL:https://broad.msu.edu/event/lunch-and-learn-social-responsibility-in-action/
LOCATION:Eppley Center\, 667 N Shaw Ln\, East Lansing\, MI\, 48824\, United States
CATEGORIES:Ethics & Social Responsibility
ORGANIZER;CN="Beth Hammond":MAILTO:hammon25@msu.edu
END:VEVENT
BEGIN:VEVENT
DTSTART;TZID=America/Detroit:20250924T140000
DTEND;TZID=America/Detroit:20250924T143000
DTSTAMP:20260423T083854
CREATED:20250708T143219Z
LAST-MODIFIED:20250920T213352Z
UID:10004435-1758722400-1758724200@broad.msu.edu
SUMMARY:MSMRA Virtual Information Session - 9/24/25
DESCRIPTION:Join us to learn more about MSU’s MSMRA program!
URL:https://broad.msu.edu/event/msmra-virtual-information-session-29/
LOCATION:Online
CATEGORIES:M.S. in Marketing Research
END:VEVENT
BEGIN:VEVENT
DTSTART;TZID=America/Detroit:20250925T150000
DTEND;TZID=America/Detroit:20250925T180000
DTSTAMP:20260423T083854
CREATED:20250722T191655Z
LAST-MODIFIED:20250915T184551Z
UID:10004441-1758812400-1758823200@broad.msu.edu
SUMMARY:MSU Broad Corporate Mixer
DESCRIPTION:We invite you to join the Broad College of Business Russell Palmer Career Management Center for the MSU Broad Corporate Mixer and student panel. Gain valuable insights from student leaders who will highlight how to best engage with their organizations\, what students expect from internships\, and how to fund engagement.
URL:https://broad.msu.edu/event/msu-broad-corporate-mixer/
LOCATION:Minskoff Pavilion\, 651 N Shaw Ln\, East Lansing\, MI\, 48824\, United States
CATEGORIES:Career Management,Palmer Center Recruiting,Recruiting Events
ORGANIZER;CN="Taylor Bates":MAILTO:taybates@msu.edu
END:VEVENT
BEGIN:VEVENT
DTSTART;TZID=America/Detroit:20250925T170000
DTEND;TZID=America/Detroit:20250925T210000
DTSTAMP:20260423T083854
CREATED:20250811T172045Z
LAST-MODIFIED:20250811T172045Z
UID:10004459-1758819600-1758834000@broad.msu.edu
SUMMARY:Access MBA New York City
DESCRIPTION:Meet with the Michigan State Broad MBA Senior Associate Director of Admissions at the Access MBA NYC event on Thursday\, September 25th. \nMeet with us to learn more about the Broad MBA\, discuss your MBA goals\, hear about the admissions process and learn about our new full-ride scholarship opportunities!
URL:https://broad.msu.edu/event/access-mba-new-york-city-3/
LOCATION:MI
CATEGORIES:Admissions Events,Full-Time MBA
ORGANIZER;CN="MBA Admissions":MAILTO:mba@msu.edu
END:VEVENT
BEGIN:VEVENT
DTSTART;TZID=America/Detroit:20250925T180000
DTEND;TZID=America/Detroit:20250925T200000
DTSTAMP:20260423T083854
CREATED:20250813T185037Z
LAST-MODIFIED:20250909T204711Z
UID:10004465-1758823200-1758830400@broad.msu.edu
SUMMARY:Top Business Schools Present in Detroit: Executive MBAs
DESCRIPTION:Join representatives from the various top EMBA programs\, including the Michigan State University Broad College of Business to learn about their Executive MBA programs and the experience of students in business school and beyond. The event will feature a panel discussion with admissions representatives from each school followed by a networking fair with all of the schools.
URL:https://broad.msu.edu/event/top-business-schools-present-in-detroit-executive-mbas/
LOCATION:Detroit\, MI
CATEGORIES:Admissions Events,Executive MBA
ORGANIZER;CN="Executive MBA Program":MAILTO:sellis@broad.msu.edu
END:VEVENT
BEGIN:VEVENT
DTSTART;TZID=America/Detroit:20250926T130000
DTEND;TZID=America/Detroit:20250927T210000
DTSTAMP:20260423T083854
CREATED:20250822T193523Z
LAST-MODIFIED:20250822T194216Z
UID:10004469-1758891600-1759006800@broad.msu.edu
SUMMARY:2DAY VENTURE: Fall Session I
DESCRIPTION:Whether you’re new to entrepreneurship\, want to experience the highs\, lows and pressure of developing a business idea or are exploring working in a startup environment\, 2DAY VENTURE (2DV) welcomes all undergraduate and graduate students at Michigan State University to bring their business ideas—no matter how developed it is—and form teams to develop early-stage ideas in this fun\, immersive experience. \n2DV is not a hackathon or pitch competition. It’s a 36-hour entrepreneurial workshop and experience for Spartans\, regardless of their home college\, major\, or background\, to explore turning an idea or innovation into reality in just two days. \nJoin the Burgess Institute for Entrepreneurship & Innovation for 2DAY VENTURE: Fall Session I on Sept. 26-27\, 2025 in Entrepreneurship Lab. Early registration is highly encouraged.
URL:https://broad.msu.edu/event/2day-venture-fall-session-i-2/
LOCATION:Entrepreneurship Lab\, 651 N Shaw Ln\, East Lansing\, MI\, 48824\, United States
CATEGORIES:Entrepreneurship
ORGANIZER;CN="Burgess Institute for Entrepreneurship &amp%3B Innovation":MAILTO:eship@msu.edu
END:VEVENT
BEGIN:VEVENT
DTSTART;TZID=America/Detroit:20250927T090000
DTEND;TZID=America/Detroit:20250927T120000
DTSTAMP:20260423T083854
CREATED:20250708T173948Z
LAST-MODIFIED:20250708T173948Z
UID:10004439-1758963600-1758974400@broad.msu.edu
SUMMARY:Broad Full-Time MBA Fall Exploration Program
DESCRIPTION:At Michigan State University’s Full-Time MBA Exploration Program\, admissions officers and current students will provide valuable information on admissions requirements\, academics\, career outcomes\, student life and program rigors to help you determine if our Full-Time MBA program is right for you. \nIf you would like to complete an admissions interview at this event\, they will be held between 12:00 and 1:00pm\, please email us at mba@msu.edu to let us know if you’d like to complete your interview while at the Exploration event. \nAgenda: \n\n\n\n9:00 AM – 9:30 AM\nCheck-in and Continental Breakfast\n\n\n9:30 AM – 10:15 AM\nWelcome & Program Overview\n\n\n10:30 AM – 11:30 AM\nCurrent Student Panel\n\n\n11:30 AM – 12:30 PM\nLunch\n\n\n12:00 PM – 1:00 PM\nEvaluative Interviews (optional)
URL:https://broad.msu.edu/event/broad-full-time-mba-fall-exploration-program-4/
LOCATION:Minskoff Pavilion\, 651 N Shaw Ln\, East Lansing\, MI\, 48824\, United States
CATEGORIES:Admissions Events,Full-Time MBA
ORGANIZER;CN="MBA Admissions":MAILTO:mba@msu.edu
END:VEVENT
END:VCALENDAR