BEGIN:VCALENDAR
VERSION:2.0
PRODID:-//Eli Broad College of Business | Michigan State University - ECPv6.15.17.1//NONSGML v1.0//EN
CALSCALE:GREGORIAN
METHOD:PUBLISH
X-ORIGINAL-URL:https://broad.msu.edu
X-WR-CALDESC:Events for Eli Broad College of Business | Michigan State University
REFRESH-INTERVAL;VALUE=DURATION:PT1H
X-Robots-Tag:noindex
X-PUBLISHED-TTL:PT1H
BEGIN:VTIMEZONE
TZID:America/Chicago
BEGIN:DAYLIGHT
TZOFFSETFROM:-0600
TZOFFSETTO:-0500
TZNAME:CDT
DTSTART:20240310T080000
END:DAYLIGHT
BEGIN:STANDARD
TZOFFSETFROM:-0500
TZOFFSETTO:-0600
TZNAME:CST
DTSTART:20241103T070000
END:STANDARD
BEGIN:DAYLIGHT
TZOFFSETFROM:-0600
TZOFFSETTO:-0500
TZNAME:CDT
DTSTART:20250309T080000
END:DAYLIGHT
BEGIN:STANDARD
TZOFFSETFROM:-0500
TZOFFSETTO:-0600
TZNAME:CST
DTSTART:20251102T070000
END:STANDARD
BEGIN:DAYLIGHT
TZOFFSETFROM:-0600
TZOFFSETTO:-0500
TZNAME:CDT
DTSTART:20260308T080000
END:DAYLIGHT
BEGIN:STANDARD
TZOFFSETFROM:-0500
TZOFFSETTO:-0600
TZNAME:CST
DTSTART:20261101T070000
END:STANDARD
END:VTIMEZONE
BEGIN:VTIMEZONE
TZID:America/Detroit
BEGIN:DAYLIGHT
TZOFFSETFROM:-0500
TZOFFSETTO:-0400
TZNAME:EDT
DTSTART:20240310T070000
END:DAYLIGHT
BEGIN:STANDARD
TZOFFSETFROM:-0400
TZOFFSETTO:-0500
TZNAME:EST
DTSTART:20241103T060000
END:STANDARD
BEGIN:DAYLIGHT
TZOFFSETFROM:-0500
TZOFFSETTO:-0400
TZNAME:EDT
DTSTART:20250309T070000
END:DAYLIGHT
BEGIN:STANDARD
TZOFFSETFROM:-0400
TZOFFSETTO:-0500
TZNAME:EST
DTSTART:20251102T060000
END:STANDARD
BEGIN:DAYLIGHT
TZOFFSETFROM:-0500
TZOFFSETTO:-0400
TZNAME:EDT
DTSTART:20260308T070000
END:DAYLIGHT
BEGIN:STANDARD
TZOFFSETFROM:-0400
TZOFFSETTO:-0500
TZNAME:EST
DTSTART:20261101T060000
END:STANDARD
END:VTIMEZONE
BEGIN:VEVENT
DTSTART;TZID=America/Chicago:20251021T180000
DTEND;TZID=America/Chicago:20251021T200000
DTSTAMP:20260424T011426
CREATED:20250909T145210Z
LAST-MODIFIED:20251008T203902Z
UID:10004493-1761069600-1761076800@broad.msu.edu
SUMMARY:Broad on the Road: Madison\, Wisconsin
DESCRIPTION:Meet the Broad MBA Senior Associate Director of Admissions in Madison\, Wisconsin to learn more about the Full-Time MBA program at Michigan State University. Network with other prospective students and Broad MBA alumni in a casual setting – hear about admissions requirements\, scholarship opportunities\, career outcomes and more. \nDrinks and heavy appetizers provided.
URL:https://broad.msu.edu/event/broad-on-the-road-madison-wisconsin/
LOCATION:Merchant Madison\, 121 S Pinckney St\, Madison\, WI\, 53703\, United States
CATEGORIES:Admissions Events,Full-Time MBA
ORGANIZER;CN="MBA Admissions":MAILTO:mba@msu.edu
END:VEVENT
BEGIN:VEVENT
DTSTART;TZID=America/Detroit:20251022T120000
DTEND;TZID=America/Detroit:20251022T130000
DTSTAMP:20260424T011426
CREATED:20250902T173838Z
LAST-MODIFIED:20250902T173838Z
UID:10004485-1761134400-1761138000@broad.msu.edu
SUMMARY:Top 5 Mistakes MBA Applicants Make
DESCRIPTION:This session will give you more information on the Broad MBA Program and tips on completing your application\, and most importantly\, identifying the top five mistakes MBA applicants make and how not to make them!
URL:https://broad.msu.edu/event/top-5-mistakes-mba-applicants-make-6/
LOCATION:Online
CATEGORIES:Admissions Events,Full-Time MBA
ORGANIZER;CN="MBA Admissions":MAILTO:mba@msu.edu
END:VEVENT
BEGIN:VEVENT
DTSTART;TZID=America/Detroit:20251022T123000
DTEND;TZID=America/Detroit:20251022T130000
DTSTAMP:20260424T011426
CREATED:20250829T201722Z
LAST-MODIFIED:20250908T210153Z
UID:10004478-1761136200-1761138000@broad.msu.edu
SUMMARY:MS Accounting & Data Analytics Information Session -10/22/25
DESCRIPTION:Join us to learn more about MSU’s Master of Science in Accounting & Data Analytics program!
URL:https://broad.msu.edu/event/ms-accounting-data-analytics-information-session-48/
LOCATION:Online
CATEGORIES:M.S. in Accounting and Data Analytics
END:VEVENT
BEGIN:VEVENT
DTSTART;TZID=America/Detroit:20251022T170000
DTEND;TZID=America/Detroit:20251022T180000
DTSTAMP:20260424T011426
CREATED:20250603T201854Z
LAST-MODIFIED:20250930T172524Z
UID:10004426-1761152400-1761156000@broad.msu.edu
SUMMARY:The Warrington Lecture featuring Sherron Watkins
DESCRIPTION:Join us for the Sylvan T. Warrington Visiting Lectureship in Ethics and Leadership featuring Sherron Watkins. Sherron was a Vice President at Enron. The Enron scandal\, which came to light in late 2001\, involved one of the largest corporate accounting frauds in U.S. history. Enron\, an energy trading and utility company\, used complex and misleading accounting practices\, such as “mark-to-market” accounting and the use of “special purpose entities” (SPEs)\, to hide billions of dollars in debt and inflate its revenues. Sherron was a key whistleblower in uncovering this scandal. Join us to learn from her about ethics\, courage\, and leadership! Register to join us on Wednesday\, October 22nd from 5-6pm today!
URL:https://broad.msu.edu/event/the-warrington-lecture-featuring-sherron-watkins/
LOCATION:North Business Building\, 632 Bogue St\, East Lansing\, MI\, 48824\, United States
CATEGORIES:College-wide Events,Ethics & Social Responsibility
ORGANIZER;CN="Beth Hammond":MAILTO:hammon25@msu.edu
END:VEVENT
BEGIN:VEVENT
DTSTART;TZID=America/Detroit:20251022T183000
DTEND;TZID=America/Detroit:20251022T194500
DTSTAMP:20260424T011426
CREATED:20251014T175655Z
LAST-MODIFIED:20251014T175655Z
UID:10004512-1761157800-1761162300@broad.msu.edu
SUMMARY:CPA Information Session
DESCRIPTION:CPA Information Session with a current MSA student & Becker.
URL:https://broad.msu.edu/event/cpa-information-session/
LOCATION:Online
CATEGORIES:M.S. in Accounting
END:VEVENT
BEGIN:VEVENT
DTSTART;TZID=America/Detroit:20251023T120000
DTEND;TZID=America/Detroit:20251023T130000
DTSTAMP:20260424T011426
CREATED:20250905T165157Z
LAST-MODIFIED:20250909T204116Z
UID:10004490-1761220800-1761224400@broad.msu.edu
SUMMARY:A Day in the Life of a Professional MBA Student at MSU
DESCRIPTION:Join the Broad MBA Director of Admissions for a webinar focused on the student experience within MSU’s Professional MBA programs – the Executive MBA (Weekend & Hybrid modalities) and the Professional Online MBA. We’ll also take a look at what a typical schedule will look like as a student in these programs. \nHear tips on how to balance work\, life\, and learning while advancing your career with MSU’s flexible\, high-impact MBA formats.
URL:https://broad.msu.edu/event/a-day-in-the-life-of-a-professional-mba-student-at-msu/
LOCATION:Online
CATEGORIES:Admissions Events,Executive MBA,Professional Online MBA
ORGANIZER;CN="MBA Admissions":MAILTO:mba@msu.edu
END:VEVENT
BEGIN:VEVENT
DTSTART;TZID=America/Detroit:20251023T170000
DTEND;TZID=America/Detroit:20251023T173000
DTSTAMP:20260424T011426
CREATED:20251021T134553Z
LAST-MODIFIED:20251027T184447Z
UID:10004524-1761238800-1761240600@broad.msu.edu
SUMMARY:South Africa Study Abroad Info Sessions
DESCRIPTION:Zoom Info Session \nInterested in a unique\, life-changing international experience? Get off the beaten path and visit Cape Town\, South Africa! This program will allow you to interact with South African business and culture\, as well as enjoy natural wonders like Table Mountain National Park\, Boulder’s Beach Penguin Colony\, a local vineyard\, and an African safari. \nApply through the MSU ViaTRM portal. If you have questions or would like to hear more\, contact Joe Courtade Moon (jcmoon@msu.edu)\, or schedule a meeting via Calendly.
URL:https://broad.msu.edu/event/south-africa-study-abroad-info-sessions/2025-10-23/
LOCATION:MI
CATEGORIES:Education Abroad
ORGANIZER;CN="Joe Courtade Moon":MAILTO:jcmoon@msu.edu
END:VEVENT
BEGIN:VEVENT
DTSTART;TZID=America/Chicago:20251023T173000
DTEND;TZID=America/Chicago:20251023T193000
DTSTAMP:20260424T011427
CREATED:20250909T145536Z
LAST-MODIFIED:20250909T145536Z
UID:10004494-1761240600-1761247800@broad.msu.edu
SUMMARY:Broad on the Road: Minneapolis
DESCRIPTION:Meet the Broad MBA Senior Associate Director of Admissions in Minneapolis to learn more about the Full-Time MBA program at Michigan State University. Network with other prospective students and Broad MBA alumni in a casual setting – hear about admissions requirements\, scholarship opportunities\, career outcomes and more. \nDrinks and heavy appetizers provided.
URL:https://broad.msu.edu/event/broad-on-the-road-minneapolis/
LOCATION:Aster Cafe\, 125 SE Main St\, Minneapolis\, MN\, 55414\, United States
CATEGORIES:Admissions Events,Full-Time MBA
ORGANIZER;CN="MBA Admissions":MAILTO:mba@msu.edu
END:VEVENT
BEGIN:VEVENT
DTSTART;TZID=America/Detroit:20251024T100000
DTEND;TZID=America/Detroit:20251024T110000
DTSTAMP:20260424T011427
CREATED:20251020T201759Z
LAST-MODIFIED:20251027T182653Z
UID:10004521-1761300000-1761303600@broad.msu.edu
SUMMARY:MS in Accounting Information Session
DESCRIPTION:Join us to learn more about MSU’s MS in Accounting program!
URL:https://broad.msu.edu/event/ms-in-accounting-information-session-2/
LOCATION:Online
CATEGORIES:M.S. in Accounting
END:VEVENT
BEGIN:VEVENT
DTSTART;TZID=America/Detroit:20251024T110000
DTEND;TZID=America/Detroit:20251024T120000
DTSTAMP:20260424T011427
CREATED:20251020T202112Z
LAST-MODIFIED:20251027T182959Z
UID:10004522-1761303600-1761307200@broad.msu.edu
SUMMARY:MSA Information Session for MSU Undergraduates
DESCRIPTION:Connect with us to learn more\, ask questions & prepare for your exciting new journey.
URL:https://broad.msu.edu/event/msa-information-session-for-msu-undergraduates/
LOCATION:Online
CATEGORIES:M.S. in Accounting
END:VEVENT
BEGIN:VEVENT
DTSTART;TZID=America/Detroit:20251024T170000
DTEND;TZID=America/Detroit:20251024T180000
DTSTAMP:20260424T011427
CREATED:20250904T160934Z
LAST-MODIFIED:20251016T222737Z
UID:10004488-1761325200-1761328800@broad.msu.edu
SUMMARY:Dine and Decide with the EMBA Director - East Lansing Campus
DESCRIPTION:Join us for an exclusive Dine & Decide event and experience the Michigan State University Executive MBA program firsthand. This is a unique opportunity for you to connect with current students over dinner and meet with a Program Director. \nThis event is designed to give you an authentic look into the life of an Executive MBA student. You’ll hear about their experiences\, ask questions in a relaxed setting\, and learn how the program has impacted their careers. \nHere’s the best part: If your application is complete\, you will receive an on-the-spot recommendation for admission.
URL:https://broad.msu.edu/event/dine-and-decide-with-the-emba-director-east-lansing-campus/
LOCATION:Henry Center for Executive Development\, 3535 Forest Rd\, East Lansing\, MI\, 48910\, United States
CATEGORIES:Admissions Events,Executive MBA
ORGANIZER;CN="MBA Admissions":MAILTO:mba@msu.edu
END:VEVENT
END:VCALENDAR