BEGIN:VCALENDAR
VERSION:2.0
PRODID:-//Eli Broad College of Business | Michigan State University - ECPv6.15.17.1//NONSGML v1.0//EN
CALSCALE:GREGORIAN
METHOD:PUBLISH
X-WR-CALNAME:Eli Broad College of Business | Michigan State University
X-ORIGINAL-URL:https://broad.msu.edu
X-WR-CALDESC:Events for Eli Broad College of Business | Michigan State University
REFRESH-INTERVAL;VALUE=DURATION:PT1H
X-Robots-Tag:noindex
X-PUBLISHED-TTL:PT1H
BEGIN:VTIMEZONE
TZID:America/Detroit
BEGIN:DAYLIGHT
TZOFFSETFROM:-0500
TZOFFSETTO:-0400
TZNAME:EDT
DTSTART:20250309T070000
END:DAYLIGHT
BEGIN:STANDARD
TZOFFSETFROM:-0400
TZOFFSETTO:-0500
TZNAME:EST
DTSTART:20251102T060000
END:STANDARD
BEGIN:DAYLIGHT
TZOFFSETFROM:-0500
TZOFFSETTO:-0400
TZNAME:EDT
DTSTART:20260308T070000
END:DAYLIGHT
BEGIN:STANDARD
TZOFFSETFROM:-0400
TZOFFSETTO:-0500
TZNAME:EST
DTSTART:20261101T060000
END:STANDARD
BEGIN:DAYLIGHT
TZOFFSETFROM:-0500
TZOFFSETTO:-0400
TZNAME:EDT
DTSTART:20270314T070000
END:DAYLIGHT
BEGIN:STANDARD
TZOFFSETFROM:-0400
TZOFFSETTO:-0500
TZNAME:EST
DTSTART:20271107T060000
END:STANDARD
END:VTIMEZONE
BEGIN:VEVENT
DTSTART;TZID=America/Detroit:20260112T123000
DTEND;TZID=America/Detroit:20260112T133000
DTSTAMP:20260422T030401
CREATED:20260105T180007Z
LAST-MODIFIED:20260202T165836Z
UID:10004597-1768221000-1768224600@broad.msu.edu
SUMMARY:Drop-in Hours: Executive and Online MBA Programs
DESCRIPTION:Have questions about the Michigan State Executive MBA or Online MBA programs? Stop by during our Monday drop-in hour to get personalized answers\, learn more about the application process\, and explore how these programs can fit your goals. No appointment needed – just bring your questions! \n 
URL:https://broad.msu.edu/event/drop-in-hours-professional-mba-programs/2026-01-12/
LOCATION:Online
CATEGORIES:Admissions Events,Executive MBA,Professional Online MBA
ORGANIZER;CN="MBA Admissions":MAILTO:mba@msu.edu
END:VEVENT
BEGIN:VEVENT
DTSTART;TZID=America/Detroit:20260114T120000
DTEND;TZID=America/Detroit:20260114T130000
DTSTAMP:20260422T030401
CREATED:20251201T171742Z
LAST-MODIFIED:20251201T171742Z
UID:10004560-1768392000-1768395600@broad.msu.edu
SUMMARY:Top 5 Mistakes MBA Applicants Make
DESCRIPTION:This session will give you more information on the Broad MBA Program and tips on completing your application\, and most importantly\, identifying the top five mistakes MBA applicants make and how not to make them!
URL:https://broad.msu.edu/event/top-5-mistakes-mba-applicants-make-7/
LOCATION:Online
CATEGORIES:Admissions Events,Full-Time MBA
ORGANIZER;CN="MBA Admissions":MAILTO:mba@msu.edu
END:VEVENT
BEGIN:VEVENT
DTSTART;TZID=America/Detroit:20260114T173000
DTEND;TZID=America/Detroit:20260114T180000
DTSTAMP:20260422T030402
CREATED:20251126T201428Z
LAST-MODIFIED:20251126T201428Z
UID:10004554-1768411800-1768413600@broad.msu.edu
SUMMARY:MS Accounting & Data Analytics Information Session
DESCRIPTION:Join us to learn more about MSU’s Master of Science in Accounting & Data Analytics program!
URL:https://broad.msu.edu/event/ms-accounting-data-analytics-information-session-52/
LOCATION:Online
CATEGORIES:M.S. in Accounting and Data Analytics
END:VEVENT
END:VCALENDAR