BEGIN:VCALENDAR
VERSION:2.0
PRODID:-//Eli Broad College of Business | Michigan State University - ECPv6.15.17.1//NONSGML v1.0//EN
CALSCALE:GREGORIAN
METHOD:PUBLISH
X-WR-CALNAME:Eli Broad College of Business | Michigan State University
X-ORIGINAL-URL:https://broad.msu.edu
X-WR-CALDESC:Events for Eli Broad College of Business | Michigan State University
REFRESH-INTERVAL;VALUE=DURATION:PT1H
X-Robots-Tag:noindex
X-PUBLISHED-TTL:PT1H
BEGIN:VTIMEZONE
TZID:America/Detroit
BEGIN:DAYLIGHT
TZOFFSETFROM:-0500
TZOFFSETTO:-0400
TZNAME:EDT
DTSTART:20250309T070000
END:DAYLIGHT
BEGIN:STANDARD
TZOFFSETFROM:-0400
TZOFFSETTO:-0500
TZNAME:EST
DTSTART:20251102T060000
END:STANDARD
BEGIN:DAYLIGHT
TZOFFSETFROM:-0500
TZOFFSETTO:-0400
TZNAME:EDT
DTSTART:20260308T070000
END:DAYLIGHT
BEGIN:STANDARD
TZOFFSETFROM:-0400
TZOFFSETTO:-0500
TZNAME:EST
DTSTART:20261101T060000
END:STANDARD
BEGIN:DAYLIGHT
TZOFFSETFROM:-0500
TZOFFSETTO:-0400
TZNAME:EDT
DTSTART:20270314T070000
END:DAYLIGHT
BEGIN:STANDARD
TZOFFSETFROM:-0400
TZOFFSETTO:-0500
TZNAME:EST
DTSTART:20271107T060000
END:STANDARD
END:VTIMEZONE
BEGIN:VEVENT
DTSTART;TZID=America/Detroit:20260316T123000
DTEND;TZID=America/Detroit:20260316T133000
DTSTAMP:20260423T062622
CREATED:20260105T180007Z
LAST-MODIFIED:20260202T165836Z
UID:10004605-1773664200-1773667800@broad.msu.edu
SUMMARY:Drop-in Hours: Executive and Online MBA Programs
DESCRIPTION:Have questions about the Michigan State Executive MBA or Online MBA programs? Stop by during our Monday drop-in hour to get personalized answers\, learn more about the application process\, and explore how these programs can fit your goals. No appointment needed – just bring your questions! \n 
URL:https://broad.msu.edu/event/drop-in-hours-professional-mba-programs/2026-03-16/
LOCATION:Online
CATEGORIES:Admissions Events,Executive MBA,Professional Online MBA
ORGANIZER;CN="MBA Admissions":MAILTO:mba@msu.edu
END:VEVENT
BEGIN:VEVENT
DTSTART;TZID=America/Detroit:20260318T130000
DTEND;TZID=America/Detroit:20260318T140000
DTSTAMP:20260423T062622
CREATED:20260218T185737Z
LAST-MODIFIED:20260218T185737Z
UID:10004660-1773838800-1773842400@broad.msu.edu
SUMMARY:MSBDSA Virtual Information Session
DESCRIPTION:Join us to learn more about MSU’s Master of Science in Business Data Science & Analytics!
URL:https://broad.msu.edu/event/msbdsa-virtual-information-session-2/
LOCATION:MI
CATEGORIES:M.S. in Business Data Science & Analytics
END:VEVENT
BEGIN:VEVENT
DTSTART;TZID=America/Detroit:20260318T140000
DTEND;TZID=America/Detroit:20260318T144500
DTSTAMP:20260423T062622
CREATED:20251203T201914Z
LAST-MODIFIED:20260218T194212Z
UID:10004572-1773842400-1773845100@broad.msu.edu
SUMMARY:MSMRA Virtual Information Session
DESCRIPTION:Join us to learn more about MSU’s MSMRA program!
URL:https://broad.msu.edu/event/msmra-virtual-information-session-37/
LOCATION:Virtual
CATEGORIES:M.S. in Marketing Research
END:VEVENT
BEGIN:VEVENT
DTSTART;TZID=America/Detroit:20260319T120000
DTEND;TZID=America/Detroit:20260319T130000
DTSTAMP:20260423T062622
CREATED:20260113T143020Z
LAST-MODIFIED:20260113T143020Z
UID:10004631-1773921600-1773925200@broad.msu.edu
SUMMARY:The Broad MBA Advantage
DESCRIPTION:Join the Michigan State Broad MBA Admissions team to learn about the application process\, curriculum and benefits of the Broad Full-Time MBA program. You’ll also be able to ask any questions you have about the program and/or application process.
URL:https://broad.msu.edu/event/the-broad-mba-advantage-10/
LOCATION:Online
CATEGORIES:Admissions Events,Full-Time MBA
ORGANIZER;CN="MBA Admissions":MAILTO:mba@msu.edu
END:VEVENT
BEGIN:VEVENT
DTSTART;TZID=America/Detroit:20260319T173000
DTEND;TZID=America/Detroit:20260319T193000
DTSTAMP:20260423T062622
CREATED:20260120T141219Z
LAST-MODIFIED:20260120T141219Z
UID:10004639-1773941400-1773948600@broad.msu.edu
SUMMARY:Broad on the Road: MBA Team in Ferndale
DESCRIPTION:Meet the Broad MBA Director of Admissions in Ferndale to learn more about the Full-Time MBA program at Michigan State University. Network with other prospective students and Broad MBA alumni in a casual setting – hear about admissions requirements\, scholarship opportunities\, career outcomes and more. \nDrinks and heavy appetizers provided – event will take place in the Cafe area of the Ferndale Project.
URL:https://broad.msu.edu/event/broad-on-the-road-mba-team-in-ferndale/
LOCATION:Ferndale Project\, 567 Livernois St\, Ferndale\, 48220\, United States
CATEGORIES:Admissions Events,Full-Time MBA
ORGANIZER;CN="MBA Admissions":MAILTO:mba@msu.edu
END:VEVENT
BEGIN:VEVENT
DTSTART;TZID=America/Detroit:20260320T130000
DTEND;TZID=America/Detroit:20260320T140000
DTSTAMP:20260423T062623
CREATED:20260130T153634Z
LAST-MODIFIED:20260130T154334Z
UID:10004653-1774011600-1774015200@broad.msu.edu
SUMMARY:MPAA Virtual Info Session
DESCRIPTION:Join us to learn more about MSU’s Master’s in Professional Accounting & Analytics program! No accounting background needed. \n  \nZoom Room: https://msu.zoom.us/j/96276398516 \nMeeting ID: 962 7639 8516 \nPasscode: 586247
URL:https://broad.msu.edu/event/mpaa-virtual-info-session-mar-20/
LOCATION:Online
CATEGORIES:Accounting,M.S. in Professional Accounting and Analytics
END:VEVENT
END:VCALENDAR