BEGIN:VCALENDAR
VERSION:2.0
PRODID:-//Eli Broad College of Business | Michigan State University - ECPv6.15.17.1//NONSGML v1.0//EN
CALSCALE:GREGORIAN
METHOD:PUBLISH
X-WR-CALNAME:Eli Broad College of Business | Michigan State University
X-ORIGINAL-URL:https://broad.msu.edu
X-WR-CALDESC:Events for Eli Broad College of Business | Michigan State University
REFRESH-INTERVAL;VALUE=DURATION:PT1H
X-Robots-Tag:noindex
X-PUBLISHED-TTL:PT1H
BEGIN:VTIMEZONE
TZID:America/Detroit
BEGIN:DAYLIGHT
TZOFFSETFROM:-0500
TZOFFSETTO:-0400
TZNAME:EDT
DTSTART:20250309T070000
END:DAYLIGHT
BEGIN:STANDARD
TZOFFSETFROM:-0400
TZOFFSETTO:-0500
TZNAME:EST
DTSTART:20251102T060000
END:STANDARD
BEGIN:DAYLIGHT
TZOFFSETFROM:-0500
TZOFFSETTO:-0400
TZNAME:EDT
DTSTART:20260308T070000
END:DAYLIGHT
BEGIN:STANDARD
TZOFFSETFROM:-0400
TZOFFSETTO:-0500
TZNAME:EST
DTSTART:20261101T060000
END:STANDARD
BEGIN:DAYLIGHT
TZOFFSETFROM:-0500
TZOFFSETTO:-0400
TZNAME:EDT
DTSTART:20270314T070000
END:DAYLIGHT
BEGIN:STANDARD
TZOFFSETFROM:-0400
TZOFFSETTO:-0500
TZNAME:EST
DTSTART:20271107T060000
END:STANDARD
END:VTIMEZONE
BEGIN:VEVENT
DTSTART;VALUE=DATE:20260402
DTEND;VALUE=DATE:20260415
DTSTAMP:20260421T191741
CREATED:20240617T163333Z
LAST-MODIFIED:20260409T114206Z
UID:10004104-1775088000-1776211199@broad.msu.edu
SUMMARY:Hospitality Business: Destination Auction
DESCRIPTION:Destination Auction is the premiere fundraising event for The School of Hospitality Business\, the student Hospitality Association\, and its Alumni Association. Destination Auction features spectacular individual travel and experience packages donated by alumni and other industry friends. \nTO DONATE\nVisit Michigan State Destination Auction to donate. Donations such as hotel accommodations gift certificates\, restaurant certificates\, or even merchandise with your company logo are always popular. Consider pairing with an opportunity to visit local attractions such as tickets to museum or zoo; theatre\, concert\, or athletic event tickets; or other such entertainment venue. \nBIDDER REGISTRATION\nClick here to register as a bidder \nOnline bidding will be open from April 2 to April 14. The Auction will be virtual and a catalog of items available on April 2 (to include bidder registration instructions). Bids will begin closing at 7 p.m. (ET) on Tuesday\, April 14\, 2026. \n 
URL:https://broad.msu.edu/event/hospitality-business-destination-auction-2/
LOCATION:
CATEGORIES:Alumni Events,College-wide Events,Featured Events,Hospitality Business
END:VEVENT
BEGIN:VEVENT
DTSTART;TZID=America/Detroit:20260406T123000
DTEND;TZID=America/Detroit:20260406T133000
DTSTAMP:20260421T191741
CREATED:20260105T180007Z
LAST-MODIFIED:20260202T165836Z
UID:10004608-1775478600-1775482200@broad.msu.edu
SUMMARY:Drop-in Hours: Executive and Online MBA Programs
DESCRIPTION:Have questions about the Michigan State Executive MBA or Online MBA programs? Stop by during our Monday drop-in hour to get personalized answers\, learn more about the application process\, and explore how these programs can fit your goals. No appointment needed – just bring your questions! \n 
URL:https://broad.msu.edu/event/drop-in-hours-professional-mba-programs/2026-04-06/
LOCATION:Online
CATEGORIES:Admissions Events,Executive MBA,Professional Online MBA
ORGANIZER;CN="MBA Admissions":MAILTO:mba@msu.edu
END:VEVENT
BEGIN:VEVENT
DTSTART;TZID=America/Detroit:20260408T180000
DTEND;TZID=America/Detroit:20260408T190000
DTSTAMP:20260421T191741
CREATED:20251121T185859Z
LAST-MODIFIED:20260116T201952Z
UID:10004546-1775671200-1775674800@broad.msu.edu
SUMMARY:Innovate State: From Supply Chain to Global Change feat. Greg Lehmkuhl
DESCRIPTION:The Innovate State Speaker Series brings emerging and accomplished Spartan entrepreneurs—innovators\, builders\, creators\, and visionaries—to campus for a live\, unscripted fireside chat. These 60-minute sessions offer the chance for guests to share their perspectives on a wide array of topics like innovation\, startup life\, investments\, and career paths. These are stories of success\, stories of failures\, and stories of uncommon will—and you do not want to miss them. \nJoin the Burgess Institute for Entrepreneurship & Innovation for Innovate State: From Supply Chain to Global Change featuring Greg Lehmkuhl\, President and CEO\, Lineage at 6PM in the MSU Union Ballroom (49 Abbot Rd\, East Lansing\, MI 48824). Early registration is highly encouraged.
URL:https://broad.msu.edu/event/innovate-state-from-supply-chain-to-global-change-feat-greg-lehmkuhl/
LOCATION:MSU Union Ballroom\, 49 Abbot Rd\, East Lansing\, MI\, 48824\, United States
ORGANIZER;CN="Burgess Institute for Entrepreneurship &amp%3B Innovation":MAILTO:eship@msu.edu
END:VEVENT
BEGIN:VEVENT
DTSTART;TZID=America/Detroit:20260409T110000
DTEND;TZID=America/Detroit:20260409T140000
DTSTAMP:20260421T191741
CREATED:20260325T151418Z
LAST-MODIFIED:20260325T151418Z
UID:10004680-1775732400-1775743200@broad.msu.edu
SUMMARY:Virtual Forté MBA Forum
DESCRIPTION:Forté’s Virtual MBA Forum is the best place to explore what an MBA can do for your career. This free event connects you with leading business schools\, for insider tips and the opportunity to hear inspiring stories from women MBAs and business leaders who’ve been where you are — and made it big. Join the MSU MBA admissions team to learn more about our MBA programs at Broad College of Business. \nThe best part? Join us from anywhere — no travel or business suit required. \nReasons To Attend:  \n\nLearn what an MBA can do for your career\nConnect with high-ranking business schools to find the right fit for you\nExplore your MBA format options: full-time\, part-time\, or executive\nExpand your network and meet standout peers who may be future classmates
URL:https://broad.msu.edu/event/virtual-forte-mba-forum-2/
LOCATION:Online
CATEGORIES:Admissions Events,Full-Time MBA
ORGANIZER;CN="MBA Admissions":MAILTO:mba@msu.edu
END:VEVENT
BEGIN:VEVENT
DTSTART;TZID=America/Detroit:20260409T160000
DTEND;TZID=America/Detroit:20260409T200000
DTSTAMP:20260421T191741
CREATED:20251121T202634Z
LAST-MODIFIED:20260204T164550Z
UID:10004550-1775750400-1775764800@broad.msu.edu
SUMMARY:2026 Burgess New Venture Challenge
DESCRIPTION:Burgess New Venture Challenge is the premier pitch competition for student entrepreneurs at Michigan State University. \nOn Thursday\, April 9\, 2025\, as part of 517 Entrepreneurship & Innovation Week\, fifteen student semifinalists will participate in a transformational experience\, hosted by the Burgess Institute for Entrepreneurship & Innovation\, to compete for $50\,000+ in funding. Are you ready for the Challenge? Early registration is highly encouraged.
URL:https://broad.msu.edu/event/2026-burgess-new-venture-challenge/
LOCATION:Marriott East Lansing at University Place\, 300 M.A.C Avenue\, East Lansing\, MI\, 48823\, United States
CATEGORIES:Entrepreneurship
ORGANIZER;CN="Burgess Institute for Entrepreneurship &amp%3B Innovation":MAILTO:eship@msu.edu
END:VEVENT
BEGIN:VEVENT
DTSTART;TZID=America/Detroit:20260410T090000
DTEND;TZID=America/Detroit:20260410T170000
DTSTAMP:20260421T191741
CREATED:20251216T201920Z
LAST-MODIFIED:20251216T201920Z
UID:10004588-1775811600-1775840400@broad.msu.edu
SUMMARY:Sustainability Debate
DESCRIPTION:Join us for MSU’s Sustainability Debate Competition! A debate format will allow for both sides of voices to be heard on many key issues within the Sustainability domain. This Debate will be a head-to-head competition where students will compete in presenting affirmative or opposing arguments on a chosen question for the year. There will be $16\,000 worth of prizes to the top teams! \nGuidelines: \n\nTeams of two students\nOpen to Graduate and Undergraduate students\nSustainability Debate will be on Friday\, April 10\, 2026\nTeams must register by Thursday\, March 13\, 2026
URL:https://broad.msu.edu/event/sustainability-debate/
LOCATION:MI
CATEGORIES:Ethics & Social Responsibility
ORGANIZER;CN="Beth Hammond":MAILTO:hammon25@msu.edu
END:VEVENT
BEGIN:VEVENT
DTSTART;TZID=America/Detroit:20260410T120000
DTEND;TZID=America/Detroit:20260410T130000
DTSTAMP:20260421T191741
CREATED:20260113T160544Z
LAST-MODIFIED:20260113T160544Z
UID:10004634-1775822400-1775826000@broad.msu.edu
SUMMARY:Broad MBA Virtual Office Hours
DESCRIPTION:Join the Michigan State Broad Full-Time MBA Admissions team to answer any questions you may have before the final application deadline on April 13th!
URL:https://broad.msu.edu/event/broad-mba-virtual-office-hours-10/
LOCATION:Online
CATEGORIES:Admissions Events,Full-Time MBA
ORGANIZER;CN="MBA Admissions":MAILTO:mba@msu.edu
END:VEVENT
BEGIN:VEVENT
DTSTART;TZID=America/Detroit:20260410T130000
DTEND;TZID=America/Detroit:20260410T140000
DTSTAMP:20260421T191741
CREATED:20260407T185729Z
LAST-MODIFIED:20260407T185842Z
UID:10004695-1775826000-1775829600@broad.msu.edu
SUMMARY:MS in Professional Accounting & Analytics Information Session
DESCRIPTION:
URL:https://broad.msu.edu/event/ms-in-professional-accounting-analytics-information-session/
LOCATION:Online
CATEGORIES:M.S. in Professional Accounting and Analytics
END:VEVENT
BEGIN:VEVENT
DTSTART;TZID=America/Detroit:20260410T143000
DTEND;TZID=America/Detroit:20260410T153000
DTSTAMP:20260421T191741
CREATED:20260407T182806Z
LAST-MODIFIED:20260407T182806Z
UID:10004687-1775831400-1775835000@broad.msu.edu
SUMMARY:MS in Accounting Information Session
DESCRIPTION:Join us to learn more about MSU’s MS in Accounting program!
URL:https://broad.msu.edu/event/ms-in-accounting-information-session-9/
LOCATION:Online
CATEGORIES:M.S. in Accounting
END:VEVENT
BEGIN:VEVENT
DTSTART;TZID=America/Detroit:20260411T083000
DTEND;TZID=America/Detroit:20260412T140000
DTSTAMP:20260421T191741
CREATED:20211117T173451Z
LAST-MODIFIED:20260327T150141Z
UID:10003503-1775896200-1776002400@broad.msu.edu
SUMMARY:Hospitality Business: Real Estate Advisory Council Meeting
DESCRIPTION:Save the date! Here’s a sneak peek overview of the event thus far: \nFriday\, April 10 – Cocktails\n6 p.m.\, Kellogg Hotel & Conference Center \nSaturday\, April 11 – RE Advisory Council Meeting\n8:30 a.m. – Continental Breakfast\n9 a.m. – 2 p.m. – Meeting (includes luncheon)\nKellogg Hotel & Conference Center \nSaturday\, April 11 – Les Gourmets\n6 p.m. – Doors Open\nKellogg Hotel & Conference Center (Big Ten Rooms)\nFor details and registration click here
URL:https://broad.msu.edu/event/hospitality-business-real-estate-investment-management-advisory-council-meeting-3/
LOCATION:Kellogg Hotel & Conference Center\, 219 S Harrison Rd\, East Lansing\, MI\, 48824\, United States
CATEGORIES:Alumni Events,Hospitality Business
END:VEVENT
BEGIN:VEVENT
DTSTART;TZID=America/Detroit:20260411T180000
DTEND;TZID=America/Detroit:20260411T210000
DTSTAMP:20260421T191741
CREATED:20240617T163629Z
LAST-MODIFIED:20260209T160235Z
UID:10004105-1775930400-1775941200@broad.msu.edu
SUMMARY:Hospitality Business: Les Gourmets Reception & Dinner
DESCRIPTION:Plan to join us! The premier annual dinner event in The School of Hospitality Business is Les Gourmets and this year we are celebrating our 75th Anniversary! Founded as a student organization in 1951\, students in Les Gourmets produced their first dinner in 1955. Starting as a simple buffet and dinner dance\, the event has since evolved into a formal world-class reception and dinner showcasing the talents of student volunteers and all they have learned from their professors and work experiences. With the guidance of faculty and guest chefs\, the students work in all areas – management\, sales\, marketing\, purchasing\, finance\, culinary management\, bartending\, and serving – creating a night to remember each spring for hundreds of proud parents\, alumni\, faculty/staff\, and friends! Consider attending.
URL:https://broad.msu.edu/event/hospitality-business-les-gourmets-dinner/
LOCATION:Kellogg Hotel & Conference Center\, 219 S Harrison Rd\, East Lansing\, MI\, 48824\, United States
CATEGORIES:Alumni Events,College-wide Events,Featured Events,Hospitality Business
END:VEVENT
END:VCALENDAR