BEGIN:VCALENDAR
VERSION:2.0
PRODID:-//Eli Broad College of Business | Michigan State University - ECPv6.15.17.1//NONSGML v1.0//EN
CALSCALE:GREGORIAN
METHOD:PUBLISH
X-WR-CALNAME:Eli Broad College of Business | Michigan State University
X-ORIGINAL-URL:https://broad.msu.edu
X-WR-CALDESC:Events for Eli Broad College of Business | Michigan State University
REFRESH-INTERVAL;VALUE=DURATION:PT1H
X-Robots-Tag:noindex
X-PUBLISHED-TTL:PT1H
BEGIN:VTIMEZONE
TZID:America/Detroit
BEGIN:DAYLIGHT
TZOFFSETFROM:-0500
TZOFFSETTO:-0400
TZNAME:EDT
DTSTART:20250309T070000
END:DAYLIGHT
BEGIN:STANDARD
TZOFFSETFROM:-0400
TZOFFSETTO:-0500
TZNAME:EST
DTSTART:20251102T060000
END:STANDARD
BEGIN:DAYLIGHT
TZOFFSETFROM:-0500
TZOFFSETTO:-0400
TZNAME:EDT
DTSTART:20260308T070000
END:DAYLIGHT
BEGIN:STANDARD
TZOFFSETFROM:-0400
TZOFFSETTO:-0500
TZNAME:EST
DTSTART:20261101T060000
END:STANDARD
BEGIN:DAYLIGHT
TZOFFSETFROM:-0500
TZOFFSETTO:-0400
TZNAME:EDT
DTSTART:20270314T070000
END:DAYLIGHT
BEGIN:STANDARD
TZOFFSETFROM:-0400
TZOFFSETTO:-0500
TZNAME:EST
DTSTART:20271107T060000
END:STANDARD
END:VTIMEZONE
BEGIN:VEVENT
DTSTART;TZID=America/Detroit:20260427T123000
DTEND;TZID=America/Detroit:20260427T133000
DTSTAMP:20260422T030336
CREATED:20260105T180007Z
LAST-MODIFIED:20260202T165836Z
UID:10004611-1777293000-1777296600@broad.msu.edu
SUMMARY:Drop-in Hours: Executive and Online MBA Programs
DESCRIPTION:Have questions about the Michigan State Executive MBA or Online MBA programs? Stop by during our Monday drop-in hour to get personalized answers\, learn more about the application process\, and explore how these programs can fit your goals. No appointment needed – just bring your questions! \n 
URL:https://broad.msu.edu/event/drop-in-hours-professional-mba-programs/2026-04-27/
LOCATION:Online
CATEGORIES:Admissions Events,Executive MBA,Professional Online MBA
ORGANIZER;CN="MBA Admissions":MAILTO:mba@msu.edu
END:VEVENT
BEGIN:VEVENT
DTSTART;TZID=America/Detroit:20260427T173000
DTEND;TZID=America/Detroit:20260427T180000
DTSTAMP:20260422T030336
CREATED:20251126T202047Z
LAST-MODIFIED:20251126T202047Z
UID:10004559-1777311000-1777312800@broad.msu.edu
SUMMARY:MS Accounting & Data Analytics Information Session
DESCRIPTION:Join us to learn more about MSU’s Master of Science in Accounting & Data Analytics program!
URL:https://broad.msu.edu/event/ms-accounting-data-analytics-information-session-57/
LOCATION:Online
CATEGORIES:M.S. in Accounting and Data Analytics
END:VEVENT
BEGIN:VEVENT
DTSTART;TZID=America/Detroit:20260429T160000
DTEND;TZID=America/Detroit:20260429T170000
DTSTAMP:20260422T030337
CREATED:20260407T190546Z
LAST-MODIFIED:20260407T190546Z
UID:10004698-1777478400-1777482000@broad.msu.edu
SUMMARY:MS in Professional Accounting & Analytics Information Session
DESCRIPTION:
URL:https://broad.msu.edu/event/ms-in-professional-accounting-analytics-information-session-4/
LOCATION:Online
CATEGORIES:M.S. in Professional Accounting and Analytics
END:VEVENT
BEGIN:VEVENT
DTSTART;TZID=America/Detroit:20260501T170000
DTEND;TZID=America/Detroit:20260501T190000
DTSTAMP:20260422T030337
CREATED:20260106T170716Z
LAST-MODIFIED:20260106T173436Z
UID:10004625-1777654800-1777662000@broad.msu.edu
SUMMARY:Dine and Decide with the EMBA Director - Troy Campus
DESCRIPTION:Join us for an exclusive Dine & Decide event and experience the Michigan State University Executive MBA program firsthand. This is a unique opportunity for you to connect with current students over dinner and meet with a Program Director. \nThis event is designed to give you an authentic look into the life of an Executive MBA student. You’ll hear about their experiences\, ask questions in a relaxed setting\, and learn how the program has impacted their careers. \nHere’s the best part: If your application is complete\, you will receive an on-the-spot recommendation for admission.
URL:https://broad.msu.edu/event/dine-and-decide-with-the-emba-director-troy-campus-2/
LOCATION:Management Education Center\, 811 W Square Lake Rd\, Troy\, MI\, 48098\, United States
CATEGORIES:Admissions Events,Executive MBA
ORGANIZER;CN="MBA Admissions":MAILTO:mba@msu.edu
END:VEVENT
BEGIN:VEVENT
DTSTART;TZID=America/Detroit:20260501T170000
DTEND;TZID=America/Detroit:20260501T190000
DTSTAMP:20260422T030337
CREATED:20260106T171732Z
LAST-MODIFIED:20260106T173500Z
UID:10004626-1777654800-1777662000@broad.msu.edu
SUMMARY:Dine and Decide with the EMBA Director - East Lansing Campus
DESCRIPTION:Join us for an exclusive Dine & Decide event and experience the Michigan State University Executive MBA program firsthand. This is a unique opportunity for you to connect with current students over dinner and meet with a Program Director. \nThis event is designed to give you an authentic look into the life of an Executive MBA student. You’ll hear about their experiences\, ask questions in a relaxed setting\, and learn how the program has impacted their careers. \nHere’s the best part: If your application is complete\, you will receive an on-the-spot recommendation for admission.
URL:https://broad.msu.edu/event/dine-and-decide-with-the-emba-director-east-lansing-campus-2/
LOCATION:Henry Center for Executive Development\, 3535 Forest Rd\, East Lansing\, MI\, 48910\, United States
CATEGORIES:Admissions Events,Executive MBA
ORGANIZER;CN="MBA Admissions":MAILTO:mba@msu.edu
END:VEVENT
BEGIN:VEVENT
DTSTART;TZID=America/Detroit:20260502T083000
DTEND;TZID=America/Detroit:20260502T100000
DTSTAMP:20260422T030337
CREATED:20210310T145408Z
LAST-MODIFIED:20260326T133527Z
UID:10003082-1777710600-1777716000@broad.msu.edu
SUMMARY:Hospitality Business: Spring 2026 Grad Breakfast
DESCRIPTION:Join us in celebrating our May 206 graduating class of The School of Hospitality Business by attending a celebratory breakfast at the University Club of MSU. This event is for undergraduate hospitality business students and their family members.  Celebrate accomplishments\, receive a special gift\, and take photos with classmates\, family\, and friends. Please click the link below to register to attend. There is no cost to the hospitality business graduating student ($20 per person for family/friends). \nRegister for Grad Breakfast here \n\n8:30 a.m. – 10 a.m. – Breakfast @ University Club of MSU\n11:45 a.m. – Commencement @ Breslin Center\n\nPlease visit the University Commencement page for complete details. \n 
URL:https://broad.msu.edu/event/hospitality-business-spring-2021-graduation-ceremony/
LOCATION:University Club of MSU\, 3435 Forest Rd\, Lansing\, MI\, 48910
CATEGORIES:Featured Events,Hospitality Business
END:VEVENT
BEGIN:VEVENT
DTSTART;TZID=America/Detroit:20260502T114500
DTEND;TZID=America/Detroit:20260502T130000
DTSTAMP:20260422T030337
CREATED:20240617T164211Z
LAST-MODIFIED:20251021T133802Z
UID:10004107-1777722300-1777726800@broad.msu.edu
SUMMARY:Hospitality Business: Spring 2026 Commencement
DESCRIPTION:Please visit the University Commencement page for complete details. \n 
URL:https://broad.msu.edu/event/hospitality-business-spring-2025-graduation-celebration/
LOCATION:Breslin Student Events Center\, 534 Birch Rd\, East Lansing\, MI\, 48824\, United States
CATEGORIES:Featured Events,Hospitality Business
END:VEVENT
END:VCALENDAR