BEGIN:VCALENDAR
VERSION:2.0
PRODID:-//Eli Broad College of Business | Michigan State University - ECPv6.15.17.1//NONSGML v1.0//EN
CALSCALE:GREGORIAN
METHOD:PUBLISH
X-WR-CALNAME:Eli Broad College of Business | Michigan State University
X-ORIGINAL-URL:https://broad.msu.edu
X-WR-CALDESC:Events for Eli Broad College of Business | Michigan State University
REFRESH-INTERVAL;VALUE=DURATION:PT1H
X-Robots-Tag:noindex
X-PUBLISHED-TTL:PT1H
BEGIN:VTIMEZONE
TZID:America/Detroit
BEGIN:DAYLIGHT
TZOFFSETFROM:-0500
TZOFFSETTO:-0400
TZNAME:EDT
DTSTART:20220313T070000
END:DAYLIGHT
BEGIN:STANDARD
TZOFFSETFROM:-0400
TZOFFSETTO:-0500
TZNAME:EST
DTSTART:20221106T060000
END:STANDARD
BEGIN:DAYLIGHT
TZOFFSETFROM:-0500
TZOFFSETTO:-0400
TZNAME:EDT
DTSTART:20230312T070000
END:DAYLIGHT
BEGIN:STANDARD
TZOFFSETFROM:-0400
TZOFFSETTO:-0500
TZNAME:EST
DTSTART:20231105T060000
END:STANDARD
BEGIN:DAYLIGHT
TZOFFSETFROM:-0500
TZOFFSETTO:-0400
TZNAME:EDT
DTSTART:20240310T070000
END:DAYLIGHT
BEGIN:STANDARD
TZOFFSETFROM:-0400
TZOFFSETTO:-0500
TZNAME:EST
DTSTART:20241103T060000
END:STANDARD
END:VTIMEZONE
BEGIN:VEVENT
DTSTART;TZID=America/Detroit:20231116T180000
DTEND;TZID=America/Detroit:20231116T200000
DTSTAMP:20260420T202431
CREATED:20230927T144256Z
LAST-MODIFIED:20231110T161056Z
UID:10003858-1700157600-1700164800@broad.msu.edu
SUMMARY:Broad Executive MBA | Networking Reception | Grand Rapids
DESCRIPTION:The Executive MBA staff and alumni are hosting a business reception at City Built Brewing Company in Grand Rapids for prospective students.  Join us to meet others in our community who are considering the Broad Executive MBA program. During the reception\, we will discuss the value\, experience\, academics\, and structure of the program. \nEvent Agenda:\n\nNetworking with program staff and alumni\nGain insight into our program\, academic culture\, and admissions process\n\nThis event is free to attend\, but space is limited so registration is required. Business casual attire recommended. 
URL:https://broad.msu.edu/event/broad-executive-mba-networking-reception-grand-rapids-2/
LOCATION:Hub Tavern + Grill\, 359 S. Kalamazoo Mall\, Kalamazoo\, MI\, 49007-4842\, United States
CATEGORIES:Executive MBA,Recruiting Events
END:VEVENT
BEGIN:VEVENT
DTSTART;TZID=America/Detroit:20230209T180000
DTEND;TZID=America/Detroit:20230209T200000
DTSTAMP:20260420T202431
CREATED:20221209T180554Z
LAST-MODIFIED:20221209T180554Z
UID:10003660-1675965600-1675972800@broad.msu.edu
SUMMARY:Broad Executive MBA | Networking Reception | Grand Rapids
DESCRIPTION:The Executive MBA staff and alumni are hosting a business reception at City Built Brewing Company in Grand Rapids for prospective students.  Join us to meet others in our community who are considering the Broad Executive MBA program. During the reception\, we will discuss the value\, experience\, academics\, and structure of the program. \nEvent Agenda:\n\nNetworking with program staff and alumni\nGain insight into our program\, academic culture\, and admissions process\n\nThis event is free to attend\, but space is limited so registration is required. Business casual attire recommended. 
URL:https://broad.msu.edu/event/broad-executive-mba-networking-reception-grand-rapids-2023/
LOCATION:Hub Tavern + Grill\, 359 S. Kalamazoo Mall\, Kalamazoo\, MI\, 49007-4842\, United States
CATEGORIES:Executive MBA,Recruiting Events
ORGANIZER;CN="Kara Tripi":MAILTO:ktripi@broad.msu.edu
END:VEVENT
END:VCALENDAR