BEGIN:VCALENDAR
VERSION:2.0
PRODID:-//Eli Broad College of Business | Michigan State University - ECPv6.15.17.1//NONSGML v1.0//EN
CALSCALE:GREGORIAN
METHOD:PUBLISH
X-ORIGINAL-URL:https://broad.msu.edu
X-WR-CALDESC:Events for Eli Broad College of Business | Michigan State University
REFRESH-INTERVAL;VALUE=DURATION:PT1H
X-Robots-Tag:noindex
X-PUBLISHED-TTL:PT1H
BEGIN:VTIMEZONE
TZID:America/Detroit
BEGIN:DAYLIGHT
TZOFFSETFROM:-0500
TZOFFSETTO:-0400
TZNAME:EDT
DTSTART:20250309T070000
END:DAYLIGHT
BEGIN:STANDARD
TZOFFSETFROM:-0400
TZOFFSETTO:-0500
TZNAME:EST
DTSTART:20251102T060000
END:STANDARD
BEGIN:DAYLIGHT
TZOFFSETFROM:-0500
TZOFFSETTO:-0400
TZNAME:EDT
DTSTART:20260308T070000
END:DAYLIGHT
BEGIN:STANDARD
TZOFFSETFROM:-0400
TZOFFSETTO:-0500
TZNAME:EST
DTSTART:20261101T060000
END:STANDARD
BEGIN:DAYLIGHT
TZOFFSETFROM:-0500
TZOFFSETTO:-0400
TZNAME:EDT
DTSTART:20270314T070000
END:DAYLIGHT
BEGIN:STANDARD
TZOFFSETFROM:-0400
TZOFFSETTO:-0500
TZNAME:EST
DTSTART:20271107T060000
END:STANDARD
END:VTIMEZONE
BEGIN:VEVENT
DTSTART;TZID=America/Detroit:20260625T120000
DTEND;TZID=America/Detroit:20260625T130000
DTSTAMP:20260425T163015
CREATED:20260407T191147Z
LAST-MODIFIED:20260407T191147Z
UID:10004702-1782388800-1782392400@broad.msu.edu
SUMMARY:MS in Professional Accounting & Analytics Information Session
DESCRIPTION:
URL:https://broad.msu.edu/event/ms-in-professional-accounting-analytics-information-session-8/
LOCATION:Online
CATEGORIES:M.S. in Professional Accounting and Analytics
END:VEVENT
BEGIN:VEVENT
DTSTART;TZID=America/Detroit:20260629T173000
DTEND;TZID=America/Detroit:20260629T180000
DTSTAMP:20260425T163015
CREATED:20260402T151638Z
LAST-MODIFIED:20260402T151638Z
UID:10004684-1782754200-1782756000@broad.msu.edu
SUMMARY:MS Accounting & Data Analytics Information Session
DESCRIPTION:Join us to learn more about MSU’s Master of Science in Accounting & Data Analytics program!
URL:https://broad.msu.edu/event/ms-accounting-data-analytics-information-session-60/
LOCATION:Online
CATEGORIES:M.S. in Accounting and Data Analytics
END:VEVENT
BEGIN:VEVENT
DTSTART;TZID=America/Detroit:20260721T120000
DTEND;TZID=America/Detroit:20260721T130000
DTSTAMP:20260425T163015
CREATED:20260407T191259Z
LAST-MODIFIED:20260407T191259Z
UID:10004703-1784635200-1784638800@broad.msu.edu
SUMMARY:MS in Professional Accounting & Analytics Information Session
DESCRIPTION:
URL:https://broad.msu.edu/event/ms-in-professional-accounting-analytics-information-session-9/
LOCATION:Online
CATEGORIES:M.S. in Professional Accounting and Analytics
END:VEVENT
BEGIN:VEVENT
DTSTART;TZID=America/Detroit:20260723T120000
DTEND;TZID=America/Detroit:20260723T130000
DTSTAMP:20260425T163015
CREATED:20260407T185036Z
LAST-MODIFIED:20260407T185036Z
UID:10004693-1784808000-1784811600@broad.msu.edu
SUMMARY:MS in Accounting Information Session
DESCRIPTION:Join us to learn more about MSU’s MS in Accounting program!
URL:https://broad.msu.edu/event/ms-in-accounting-information-session-14/
LOCATION:Online
CATEGORIES:M.S. in Accounting
END:VEVENT
BEGIN:VEVENT
DTSTART;TZID=America/Detroit:20260723T123000
DTEND;TZID=America/Detroit:20260723T130000
DTSTAMP:20260425T163015
CREATED:20260402T151822Z
LAST-MODIFIED:20260402T151822Z
UID:10004685-1784809800-1784811600@broad.msu.edu
SUMMARY:MS Accounting & Data Analytics Information Session
DESCRIPTION:Join us to learn more about MSU’s Master of Science in Accounting & Data Analytics program!
URL:https://broad.msu.edu/event/ms-accounting-data-analytics-information-session-61/
LOCATION:Online
CATEGORIES:M.S. in Accounting and Data Analytics
END:VEVENT
BEGIN:VEVENT
DTSTART;TZID=America/Detroit:20260810T120000
DTEND;TZID=America/Detroit:20260810T130000
DTSTAMP:20260425T163015
CREATED:20260407T192154Z
LAST-MODIFIED:20260407T192154Z
UID:10004704-1786363200-1786366800@broad.msu.edu
SUMMARY:MS in Professional Accounting & Analytics Information Session
DESCRIPTION:
URL:https://broad.msu.edu/event/ms-in-professional-accounting-analytics-information-session-10/
LOCATION:Online
CATEGORIES:M.S. in Professional Accounting and Analytics
END:VEVENT
BEGIN:VEVENT
DTSTART;TZID=America/Detroit:20260812T173000
DTEND;TZID=America/Detroit:20260812T180000
DTSTAMP:20260425T163015
CREATED:20260402T151956Z
LAST-MODIFIED:20260402T151956Z
UID:10004686-1786555800-1786557600@broad.msu.edu
SUMMARY:MS Accounting & Data Analytics Information Session
DESCRIPTION:Join us to learn more about MSU’s Master of Science in Accounting & Data Analytics program!
URL:https://broad.msu.edu/event/ms-accounting-data-analytics-information-session-62/
LOCATION:Online
CATEGORIES:M.S. in Accounting and Data Analytics
END:VEVENT
BEGIN:VEVENT
DTSTART;TZID=America/Detroit:20260813T120000
DTEND;TZID=America/Detroit:20260813T130000
DTSTAMP:20260425T163015
CREATED:20260407T185149Z
LAST-MODIFIED:20260407T185149Z
UID:10004694-1786622400-1786626000@broad.msu.edu
SUMMARY:MS in Accounting Information Session
DESCRIPTION:Join us to learn more about MSU’s MS in Accounting program!
URL:https://broad.msu.edu/event/ms-in-accounting-information-session-15/
LOCATION:Online
CATEGORIES:M.S. in Accounting
END:VEVENT
END:VCALENDAR